Workbook
Name \0: '[1]PNT-QUOT-#3'!#REF!
Name \d: '[2]__-BLDG'!#REF!
Name \e: '[2]__-BLDG'!#REF!
Name \f: '[2]__-BLDG'!#REF!
Name \g: '[2]__-BLDG'!#REF!
Name \h: '[2]__-BLDG'!#REF!
Name \i: '[2]__-BLDG'!#REF!
Name \j: '[2]__-BLDG'!#REF!
Name \k: '[2]__-BLDG'!#REF!
Name \l: '[2]__-BLDG'!#REF!
Name \m: '[2]__-BLDG'!#REF!
Name \n: '[2]__-BLDG'!#REF!
Name \o: '[2]__-BLDG'!#REF!
Name \z: '[1]COAT&WRAP-QIOT-#3'!#REF!
Name _1: #N/A
Name _1000A01: #N/A
Name _2: #N/A
Name _A65700: '[3]MTO REV.2(ARMOR)'!#REF!
Name _A65800: '[3]MTO REV.2(ARMOR)'!#REF!
Name _A66000: '[3]MTO REV.2(ARMOR)'!#REF!
Name _A67000: '[3]MTO REV.2(ARMOR)'!#REF!
Name _A68000: '[3]MTO REV.2(ARMOR)'!#REF!
Name _A70000: '[3]MTO REV.2(ARMOR)'!#REF!
Name _A75000: '[3]MTO REV.2(ARMOR)'!#REF!
Name _A85000: '[3]MTO REV.2(ARMOR)'!#REF!
Name _CON1: #REF!
Name _CON2: #REF!
Name _NET2: #REF!
Name A: '[1]PNT-QUOT-#3'!#REF!
Name A01_: #N/A
Name A01AC: #N/A
Name A01CAT: #N/A
Name A01CODE: #N/A
Name A01DATA: #N/A
Name A01MI: #N/A
Name A01TO: #N/A
Name A60000.: #REF!
Name AA: #REF!
Name AAA: '[4]MTL$-INTER'!#REF!
Name All_Item: #REF!
Name ALPIN: #N/A
Name ALPJYOU: #N/A
Name ALPTOI: #N/A
Name B: '[1]PNT-QUOT-#3'!#REF!
Name BB: #REF!
Name BOQ: #REF!
Name BVCISUMMARY: #REF!
Name CABLE2: '[5]MTO REV.0'!$A$1:$Q$570
Name Category_All: #REF!
Name CATIN: #N/A
Name CATJYOU: #N/A
Name CATSYU: #N/A
Name CATREC: #N/A
Name COAT: '[1]PNT-QUOT-#3'!#REF!
Name COMMON: #REF!
Name CON_EQP_COS: #REF!
Name CON_EQP_COST: #REF!
Name CONST_EQ: #REF!
Name COVER: #REF!
Name CRITINST: #REF!

Sheet Hướng dẫn
A1: Quy trình nhập điểm lớp cố định trùng với lớp giảng dạy
A2: File dùng chung giữa GVCN và GVBM
A3: STT | B3: Bảng tính | C3: Công việc thực hiện | D3: Thực hiện
A4: 1 | B4: Vào bảng tính DS LOP HKI | C4: Sort theo tên lớp, sau đó chọn toàn bộ MSHS (mã số học sinh) của lớp, nhấn phím Ctrl-C để chép mã số HS | D4: GVCN
A5: 2 | B5: Vào bảng tính HKI | C5: Kích vào ô đầu tiên của mã số học sinh (ô B12), nhấn Ctrl-V.
C6: Ghi chú: Danh sách HS và tên lớp sẽ được truyền tự động vào cho các bảng tính của HKI và các bảng tính tổng kết từng học phần.
A7: 3 | B7: Vào bảng tính MON HOC HKI | C7: Tên học phần và số Đơn vị học trình nằm ở bảng tính này, Quý Thầy Cô vào bảng tính này để biết học phần XYZ muốn nhập điểm nằm ở bảng tính ABC nào. | D7: GVBM
A8: 4 | B8: Vào bảng tính ABC tương ứng theo từng học phần XYZ quy định trong bước 3 | C8: Nhập các điểm thành phần vào từng cột tương ứng
C9: Ghi chú: Thứ tự danh sách trong các bảng tính đã thống nhất, do đó bắt buộc đảm bảo độ chính xác của giữa các điểm thành phần với MSHS tương ứng.
C10: Lưu ý: Đối với học sinh bảo lưu, chỉ cần nhập điểm vào cột Điểm bảo lưu, các cột còn lại không nhập.
C11: Ghi chú: Nếu GVCN có file tổng kết học phần của GVBM, hãy kiểm tra lại danh sách đảm bảo yêu cầu trùng khớp theo thứ tự thì có thể chép các cột điểm thành phần vào cho từng bảng tính học phần như GVBM. | D11: GVCN
A12: 5 | B12: Vào bảng tính HKI | C12: Kiểm tra lại lần cuối. Nhập số ngày nghỉ không phép, có phép, và điểm kết quả rèn luyện vào các cột tương ứng.
B13: Để thống nhất trong việc quản lý điểm số của HSSV trong toàn trường, sau khi hoàn thành bảng tính, xin Quý Thầy Cô lưu lại file theo định dạng: tenlop_hocky_nămhọc (ví dụ 13TC-ĐT1_HKI_NH14-15) và gởi bằng mail cho Khoa, Phòng Phòng CTHSSV, Phòng Đào tạo (kqht.lytutrong@gmail.com) và Phòng KT&KDCLGD (khaothiltt@gmail.com).
B14: Ghi chú: Trước khi thông báo kết quả học tập cho SV, xin quý Thầy Cô gởi file thông qua địa chỉ mail của phòng để kiểm tra, đối chiếu với các bảng điểm tổng kết học phần nhằm hạn chế sai sót. Nếu bảng tính có sai sót, phòng sẽ báo bằng mail hoặc điện thoại trực tiếp cho quý Thầy Cô hiệu chỉnh. Khi bảng tính đạt yêu cầu, phòng sẽ phản hồi lại quý Thầy Cô, để nhập điểm KQRL.
B15: Nếu Quý Thầy Cô có vướng mắc gì, xin gởi mail qua địa chỉ: kqht.lytutrong@gmail.com hoặc khaothiltt@gmail.com hoặc liên hệ trực tiếp với Phòng Đào tạo hoặc Phòng Khảo thí và Đảm bảo chất lượng.

Sheet DS LOP HKI
A1: STT | B1: MSHS | C1: Họ | D1: Tên | E1: Ngày sinh | F1: Lớp | G1: Phái | H1: Hệ | I1: DANH SÁCH NGÀY 08/12/2014 | K1: =MAX(A:A) -> 29 | L1: =COUNTIF(J:J,"13") -> 217 | M1: =COUNTIF(J:J,"14") -> 0
A2: 1 | B2: 13B3150001 | C2: Nguyễn Cao Tuấn | D2: Anh | E2: 28.12.95 | F2: 13TC-ĐT | H2: B | J2: =LEFT(F2,2) -> 13
A3: 2 | B3: 13B3150002 | C3: Nguyễn Thanh | D3: Bình | E3: 15.01.89 | F3: 13TC-ĐT | H3: B | J3: =LEFT(F3,2) -> 13
A4: 3 | B4: 13B3150027 | C4: Văn Phú | D4: Cường | E4: 10.09.93 | F4: 13TC-ĐT | H4: B | J4: =LEFT(F4,2) -> 13
A5: 4 | B5: 13B3150005 | C5: Trần Nhân | D5: Đạo | E5: 23.11.94 | F5: 13TC-ĐT | H5: B | J5: =LEFT(F5,2) -> 13
A6: 5 | B6: 13B3150028 | C6: Phạm | D6: Hiền | E6: 27.02.95 | F6: 13TC-ĐT | G6: LT | H6: A | J6: =LEFT(F6,2) -> 13
A7: 6 | B7: 13B3150032 | C7: Đỗ Khắc Bảo | D7: Hoàng | E7: 12.10.95 | F7: 13TC-ĐT | H7: B | J7: =LEFT(F7,2) -> 13
A8: 7 | B8: 13B3150008 | C8: Trần Đức | D8: Huệ | E8: 01.05.93 | F8: 13TC-ĐT | H8: B | J8: =LEFT(F8,2) -> 13
A9: 8 | B9: 13B3150009 | C9: Trần Bá | D9: Khánh | E9: 20.10.95 | F9: 13TC-ĐT | G9: LPKL | H9: B | J9: =LEFT(F9,2) -> 13
A10: 9 | B10: 13B3150010 | C10: Nguyễn Thành | D10: Khương | E10: 21.03.95 | F10: 13TC-ĐT | H10: A | J10: =LEFT(F10,2) -> 13
A11: 10 | B11: 13B3150011 | C11: Trần Văn | D11: Ngọc | E11: 17.05.95 | F11: 13TC-ĐT | H11: A | J11: =LEFT(F11,2) -> 13
A12: 11 | B12: 13B3150031 | C12: Bùi Thiện | D12: Toàn | E12: 28.07.95 | F12: 13TC-ĐT | G12: LPHT | H12: A | J12: =LEFT(F12,2) -> 13
A13: 12 | B13: 13B3150021 | C13: Nguyễn Đình | D13: Trí | E13: 07.11.93 | F13: 13TC-ĐT | H13: B | J13: =LEFT(F13,2) -> 13
A14: 13 | B14: 13B3150022 | C14: Ngô Văn Minh | D14: Trong | E14: 27.06.92 | F14: 13TC-ĐT | H14: B | J14: =LEFT(F14,2) -> 13
A15: 1 | B15: 13B3080001 | C15: Mai Trần Tuấn | D15: Anh | E15: 22.09.93 | F15: 13TC-Đ1 | H15: B | J15: =LEFT(F15,2) -> 13
A16: 2 | B16: 13B3080005 | C16: Dương Hữu | D16: Công | E16: 21.07.93 | F16: 13TC-Đ1 | H16: B | J16: =LEFT(F16,2) -> 13
A17: 3 | B17: 13B3080007 | C17: Nguyễn Văn | D17: Cường | E17: 16.09.90 | F17: 13TC-Đ1 | H17: B | J17: =LEFT(F17,2) -> 13
A18: 4 | B18: 13B3080015 | C18: Phạm Phú | D18: Duy | E18: 26.05.93 | F18: 13TC-Đ1 | H18: B | J18: =LEFT(F18,2) -> 13
A19: 5 | B19: 13B3080019 | C19: Phạm Văn | D19: Được | E19: 27.02.95 | F19: 13TC-Đ1 | H19: B | J19: =LEFT(F19,2) -> 13
A20: 6 | B20: 13B3080023 | C20: Nguyễn Thanh | D20: Hiền | E20: 20.06.93 | F20: 13TC-Đ1 | H20: B | J20: =LEFT(F20,2) -> 13
A21: 7 | B21: 13B3080025 | C21: Hoàng Duy | D21: Hợi | E21: 28.08.91 | F21: 13TC-Đ1 | H21: B | J21: =LEFT(F21,2) -> 13
A22: 8 | B22: 13B3080091 | C22: Hồ Xuân | D22: Hùng | E22: 28.10.94 | F22: 13TC-Đ1 | H22: B | J22: =LEFT(F22,2) -> 13
A23: 9 | B23: 13B3080027 | C23: Nguyễn Quốc | D23: Hưng | E23: 20.07.94 | F23: 13TC-Đ1 | H23: B | J23: =LEFT(F23,2) -> 13
A24: 10 | B24: 13B3080029 | C24: Hồ Gia | D24: Huy | E24: 17.12.93 | F24: 13TC-Đ1 | H24: B | J24: =LEFT(F24,2) -> 13
A25: 11 | B25: 13B3080031 | C25: Phùng Xương | D25: Huy | E25: 29.09.95 | F25: 13TC-Đ1 | H25: B | I25: DT.Hoa | J25: =LEFT(F25,2) -> 13
A26: 12 | B26: 13B3080039 | C26: Hoàng Ngọc | D26: Linh | E26: 06.11.95 | F26: 13TC-Đ1 | G26: LT | H26: B | J26: =LEFT(F26,2) -> 13
A27: 13 | B27: 13B3080049 | C27: Đào Văn | D27: Phấn | E27: 24.09.95 | F27: 13TC-Đ1 | H27: B | I27: con TB 3/4 | J27: =LEFT(F27,2) -> 13
A28: 14 | B28: 13B3080051 | C28: Ngô Hoài | D28: Phong | E28: 02.09.92 | F28: 13TC-Đ1 | G28: LPHT | H28: A | J28: =LEFT(F28,2) -> 13
A29: 15 | B29: 13B3080055 | C29: Nguyễn Minh | D29: Phương | E29: 16.10.94 | F29: 13TC-Đ1 | H29: A | J29: =LEFT(F29,2) -> 13
A30: 16 | B30: 13B3080057 | C30: Trương Văn | D30: Phượng | E30: 07.05.93 | F30: 13TC-Đ1 | H30: B | J30: =LEFT(F30,2) -> 13
A31: 17 | B31: 13B3080061 | C31: Nguyễn Văn | D31: Quý | E31: 07.04.92 | F31: 13TC-Đ1 | H31: B | J31: =LEFT(F31,2) -> 13
A32: 18 | B32: 13B3080063 | C32: Nguyễn Hữu | D32: Quyết | E32: 29.11.95 | F32: 13TC-Đ1 | H32: B | J32: =LEFT(F32,2) -> 13
A33: 19 | B33: 13B3080092 | C33: Nguyễn Nhật | D33: Tâm | E33: 20.10.95 | F33: 13TC-Đ1 | H33: B | J33: =LEFT(F33,2) -> 13
A34: 20 | B34: 13B3080069 | C34: Võ Thiện | D34: Thành | E34: 02.07.91 | F34: 13TC-Đ1 | H34: B | J34: =LEFT(F34,2) -> 13
A35: 21 | B35: 13B3080097 | C35: Hoàng Quang | D35: Thọ | E35: 10.07.93 | F35: 13TC-Đ1 | H35: B | I35: DT.Tày* | J35: =LEFT(F35,2) -> 13
A36: 22 | B36: 13B3080071 | C36: Vương Hoàng | D36: Thọ | E36: 10.10.88 | F36: 13TC-Đ1 | H36: B | I36: DT.Hoa | J36: =LEFT(F36,2) -> 13
A37: 23 | B37: 13B3080103 | C37: Lê Huyền | D37: Thoại | E37: 23.02.94 | F37: 13TC-Đ1 | H37: B | J37: =LEFT(F37,2) -> 13
A38: 24 | B38: 13B3080081 | C38: Vũ Minh | D38: Toàn | E38: 02.08.95 | F38: 13TC-Đ1 | H38: B | J38: =LEFT(F38,2) -> 13
A39: 25 | B39: 13B3080095 | C39: Bùi Việt | D39: Tòng | E39: 03.04.95 | F39: 13TC-Đ1 | H39: B | J39: =LEFT(F39,2) -> 13
A40: 1 | B40: 13B3080002 | C40: Lâm Thanh | D40: Bình | E40: 27.03.94 | F40: 13TC-Đ2 | H40: A | J40: =LEFT(F40,2) -> 13
...

Sheet MON HOC HKI
A1: SỐ ĐƠN VỊ HỌC TRÌNH VÀ SỐ CỘT ĐIỂM KIỂM TRA THƯỜNG XUYÊN ; ĐỊNH KỲ (HỆ SỐ 1 & 2) TỐI THIỂU CỦA HỌC KỲ I / 2014-2015 Bậc đào tạo : Trung cấp Chuyên nghiệp-Khóa 2013
A2: TT | B2: LỚP | C2: SHEET | D2: TÊN HỌC PHẦN | E2: Số ĐVHT | F2: SỐ ĐƠN VỊ HỌC TRÌNH | H2: Số cột điểm KT TX tối thiểu | I2: Số cột điểm KT ĐK tối thiểu | J2: GHI CHÚ | L2: =MAX(L4:L115) -> 9 | M2: =MAX(M4:M115) -> 6 | N2: =MAX(N4:N115) -> 13
F3: Lý thuyết | G3: Thực hành
A4: 1 | B4: 13TC-ĐT | C4: LT01 | D4: Anh văn chuyên ngành | E4: =F4+G4 -> 2 | F4: 2 | H4: 1 | I4: 1 | K4: =SUM(F4:G17) -> 24 | L4: =COUNTA(F4:F17) -> 5 | M4: =COUNTA(G4:G17) -> 4 | N4: =COUNTA(D4:D17) -> 9
C5: LT02 | D5: Kỹ thuật vi xử lý | E5: =F5+G5 -> 2 | F5: 2 | H5: 1 | I5: 1
C6: LT03 | D6: Điều khiển lập trình PLC | E6: =F6+G6 -> 3 | F6: 3 | H6: 1 | I6: 1
C7: LT04 | D7: Kỹ thuật vi điều khiển | E7: =F7+G7 -> 2 | F7: 2 | H7: 1 | I7: 1
C8: LT05 | D8: KT truyền thanh - truyền hình | E8: =F8+G8 -> 3 | F8: 3 | H8: 1 | I8: 1
C9: LT06 | E9: =F9+G9 -> 0
C10: LT07 | E10: =F10+G10 -> 0
C11: LT08 | E11: =F11+G11 -> 0
C12: LT09 | E12: =F12+G12 -> 0
C13: DO AN | E13: =F13+G13 -> 0
C14: TH01 | D14: TT KT mạch tương tự - cảm biến | E14: =F14+G14 -> 3 | G14: 3 | H14: 1 | I14: 1
C15: TH02 | D15: TT Điện tử công suất | E15: =F15+G15 -> 3 | G15: 3 | H15: 1 | I15: 1
C16: TH03 | D16: TT Kỹ thuật vi xử lý | E16: =F16+G16 -> 2 | G16: 2 | H16: 1 | I16: 1
C17: TH04 | D17: TT PLC | E17: =F17+G17 -> 4 | G17: 4 | H17: 1 | I17: 2
C18: TH05 | E18: =F18+G18 -> 0
C19: TH06 | E19: =F19+G19 -> 0
A20: 2 | B20: 13TC-Đ1, 2 | C20: LT01 | D20: Anh văn chuyên ngành | E20: =F20+G20 -> 2 | F20: 2 | H20: 1 | I20: 1 | K20: =SUM(F20:G32) -> 24 | L20: =COUNTA(F20:F32) -> 5 | M20: =COUNTA(G20:G32) -> 3 | N20: =COUNTA(D20:D32) -> 8
C21: LT02 | D21: Cơ kỹ thuật | E21: =F21+G21 -> 2 | F21: 2 | H21: 1 | I21: 1
C22: LT03 | D22: Trang bị điện | E22: =F22+G22 -> 4 | F22: 4 | H22: 1 | I22: 2
C23: LT04 | D23: Điều khiển lập trình (PLC) | E23: =F23+G23 -> 3 | F23: 3 | H23: 1 | I23: 1
C24: LT05 | D24: Điều khiển điện - khí nén | E24: =F24+G24 -> 2 | F24: 2 | H24: 1 | I24: 1
C25: LT06 | E25: =F25+G25 -> 0
C26: LT07 | E26: =F26+G26 -> 0
C27: LT08 | E27: =F27+G27 -> 0
C28: LT09 | E28: =F28+G28 -> 0
C29: DO AN | E29: =F29+G29 -> 0
C30: TH01 | D30: Thực tập Sửa chữa máy điện | E30: =F30+G30 -> 4 | G30: 4 | H30: 1 | I30: 2
C31: TH02 | D31: Thực tập Sửa chữa điện | E31: =F31+G31 -> 4 | G31: 4 | H31: 1 | I31: 2
C32: TH03 | D32: Thực tập Trang bị điện-Điện tử CB | E32: =F32+G32 -> 3 | G32: 3 | H32: 1 | I32: 1
C33: TH04 | E33: =F33+G33 -> 0
C34: TH05 | E34: =F34+G34 -> 0
C35: TH06 | E35: =F35+G35 -> 0
A36: 3 | B36: 13TC-ĐL | C36: LT01 | D36: Anh văn chuyên ngành | E36: =F36+G36 -> 2 | F36: 2 | H36: 1 | I36: 1 | K36: =SUM(F36:G49) -> 25 | L36: =COUNTA(F36:F49) -> 4 | M36: =COUNTA(G36:G49) -> 4 | N36: =COUNTA(D36:D49) -> 8
C37: LT02 | D37: Cơ kỹ thuật | E37: =F37+G37 -> 2 | F37: 2 | H37: 1 | I37: 1
C38: LT03 | D38: Kỹ thuật lạnh công nghiệp | E38: =F38+G38 -> 5 | F38: 5 | H38: 1 | I38: 2
C39: LT04 | D39: Điều hòa không khí | E39: =F39+G39 -> 4 | F39: 4 | H39: 1 | I39: 2
C40: LT05 | E40: =F40+G40 -> 0
...

Sheet LOP-MON
A1: Lớp | B1: LT01 | C1: LT02 | D1: LT03 | E1: LT04 | F1: LT05 | G1: LT06 | H1: LT07 | I1: LT08 | J1: LT09 | K1: DO AN | L1: TH01 | M1: TH02 | N1: TH03 | O1: TH04 | P1: TH05 | Q1: TH06
A2: 13TC-ĐT | B2: =VLOOKUP(B$1,'MON HOC HKI'!$C$4:$E$19,2,0) -> Anh văn chuyên ngành | C2: =VLOOKUP(C$1,'MON HOC HKI'!$C$4:$E$19,2,0) -> Kỹ thuật vi xử lý | D2: =VLOOKUP(D$1,'MON HOC HKI'!$C$4:$E$19,2,0) -> Điều khiển lập trình PLC | E2: =VLOOKUP(E$1,'MON HOC HKI'!$C$4:$E$19,2,0) -> Kỹ thuật vi điều khiển | F2: =VLOOKUP(F$1,'MON HOC HKI'!$C$4:$E$19,2,0) -> KT truyền thanh - truyền hình | G2: =VLOOKUP(G$1,'MON HOC HKI'!$C$4:$E$19,2,0) -> 0 | H2: =VLOOKUP(H$1,'MON HOC HKI'!$C$4:$E$19,2,0) -> 0 | I2: =VLOOKUP(I$1,'MON HOC HKI'!$C$4:$E$19,2,0) -> 0 | ... Q2: =VLOOKUP(Q$1,'MON HOC HKI'!$C$4:$E$19,2,0) -> 0
A3: ĐVHT13ĐT | B3: =VLOOKUP(B$1,'MON HOC HKI'!$C$4:$E$19,3,0) -> 2 | C3: =VLOOKUP(C$1,'MON HOC HKI'!$C$4:$E$19,3,0) -> 2 | D3: =VLOOKUP(D$1,'MON HOC HKI'!$C$4:$E$19,3,0) -> 3 | E3: =VLOOKUP(E$1,'MON HOC HKI'!$C$4:$E$19,3,0) -> 2 | F3: =VLOOKUP(F$1,'MON HOC HKI'!$C$4:$E$19,3,0) -> 3 | G3: =VLOOKUP(G$1,'MON HOC HKI'!$C$4:$E$19,3,0) -> 0 | H3: =VLOOKUP(H$1,'MON HOC HKI'!$C$4:$E$19,3,0) -> 0 | I3: =VLOOKUP(I$1,'MON HOC HKI'!$C$4:$E$19,3,0) -> 0 | ... Q3: =VLOOKUP(Q$1,'MON HOC HKI'!$C$4:$E$19,3,0) -> 0
A4: 13TC-Đ1 | B4: =VLOOKUP(B$1,'MON HOC HKI'!$C$20:$E$35,2,0) -> Anh văn chuyên ngành | C4: =VLOOKUP(C$1,'MON HOC HKI'!$C$20:$E$35,2,0) -> Cơ kỹ thuật | D4: =VLOOKUP(D$1,'MON HOC HKI'!$C$20:$E$35,2,0) -> Trang bị điện | E4: =VLOOKUP(E$1,'MON HOC HKI'!$C$20:$E$35,2,0) -> Điều khiển lập trình (PLC) | F4: =VLOOKUP(F$1,'MON HOC HKI'!$C$20:$E$35,2,0) -> Điều khiển điện - khí nén | G4: =VLOOKUP(G$1,'MON HOC HKI'!$C$20:$E$35,2,0) -> 0 | H4: =VLOOKUP(H$1,'MON HOC HKI'!$C$20:$E$35,2,0) -> 0 | I4: =VLOOKUP(I$1,'MON HOC HKI'!$C$20:$E$35,2,0) -> 0 | ... Q4: =VLOOKUP(Q$1,'MON HOC HKI'!$C$20:$E$35,2,0) -> 0
A5: ĐVHT13Đ1 | B5: =VLOOKUP(B$1,'MON HOC HKI'!$C$20:$E$35,3,0) -> 2 | C5: =VLOOKUP(C$1,'MON HOC HKI'!$C$20:$E$35,3,0) -> 2 | D5: =VLOOKUP(D$1,'MON HOC HKI'!$C$20:$E$35,3,0) -> 4 | E5: =VLOOKUP(E$1,'MON HOC HKI'!$C$20:$E$35,3,0) -> 3 | F5: =VLOOKUP(F$1,'MON HOC HKI'!$C$20:$E$35,3,0) -> 2 | G5: =VLOOKUP(G$1,'MON HOC HKI'!$C$20:$E$35,3,0) -> 0 | H5: =VLOOKUP(H$1,'MON HOC HKI'!$C$20:$E$35,3,0) -> 0 | I5: =VLOOKUP(I$1,'MON HOC HKI'!$C$20:$E$35,3,0) -> 0 | ... Q5: =VLOOKUP(Q$1,'MON HOC HKI'!$C$20:$E$35,3,0) -> 0
A6: 13TC-Đ2 | B6: =VLOOKUP(B$1,'MON HOC HKI'!$C$20:$E$35,2,0) -> Anh văn chuyên ngành | C6: =VLOOKUP(C$1,'MON HOC HKI'!$C$20:$E$35,2,0) -> Cơ kỹ thuật | D6: =VLOOKUP(D$1,'MON HOC HKI'!$C$20:$E$35,2,0) -> Trang bị điện | E6: =VLOOKUP(E$1,'MON HOC HKI'!$C$20:$E$35,2,0) -> Điều khiển lập trình (PLC) | F6: =VLOOKUP(F$1,'MON HOC HKI'!$C$20:$E$35,2,0) -> Điều khiển điện - khí nén | G6: =VLOOKUP(G$1,'MON HOC HKI'!$C$20:$E$35,2,0) -> 0 | H6: =VLOOKUP(H$1,'MON HOC HKI'!$C$20:$E$35,2,0) -> 0 | I6: =VLOOKUP(I$1,'MON HOC HKI'!$C$20:$E$35,2,0) -> 0 | ... Q6: =VLOOKUP(Q$1,'MON HOC HKI'!$C$20:$E$35,2,0) -> 0
A7: ĐVHT13Đ2 | B7: =VLOOKUP(B$1,'MON HOC HKI'!$C$20:$E$35,3,0) -> 2 | C7: =VLOOKUP(C$1,'MON HOC HKI'!$C$20:$E$35,3,0) -> 2 | D7: =VLOOKUP(D$1,'MON HOC HKI'!$C$20:$E$35,3,0) -> 4 | E7: =VLOOKUP(E$1,'MON HOC HKI'!$C$20:$E$35,3,0) -> 3 | F7: =VLOOKUP(F$1,'MON HOC HKI'!$C$20:$E$35,3,0) -> 2 | G7: =VLOOKUP(G$1,'MON HOC HKI'!$C$20:$E$35,3,0) -> 0 | H7: =VLOOKUP(H$1,'MON HOC HKI'!$C$20:$E$35,3,0) -> 0 | I7: =VLOOKUP(I$1,'MON HOC HKI'!$C$20:$E$35,3,0) -> 0 | ... Q7: =VLOOKUP(Q$1,'MON HOC HKI'!$C$20:$E$35,3,0) -> 0
A8: 13TC-ĐL | B8: =VLOOKUP(B$1,'MON HOC HKI'!$C$36:$E$51,2,0) -> Anh văn chuyên ngành | C8: =VLOOKUP(C$1,'MON HOC HKI'!$C$36:$E$51,2,0) -> Cơ kỹ thuật | D8: =VLOOKUP(D$1,'MON HOC HKI'!$C$36:$E$51,2,0) -> Kỹ thuật lạnh công nghiệp | E8: =VLOOKUP(E$1,'MON HOC HKI'!$C$36:$E$51,2,0) -> Điều hòa không khí | F8: =VLOOKUP(F$1,'MON HOC HKI'!$C$36:$E$51,2,0) -> 0 | G8: =VLOOKUP(G$1,'MON HOC HKI'!$C$36:$E$51,2,0) -> 0 | H8: =VLOOKUP(H$1,'MON HOC HKI'!$C$36:$E$51,2,0) -> 0 | I8: =VLOOKUP(I$1,'MON HOC HKI'!$C$36:$E$51,2,0) -> 0 | ... Q8: =VLOOKUP(Q$1,'MON HOC HKI'!$C$36:$E$51,2,0) -> 0
A9: ĐVHT13ĐL | B9: =VLOOKUP(B$1,'MON HOC HKI'!$C$36:$E$51,3,0) -> 2 | C9: =VLOOKUP(C$1,'MON HOC HKI'!$C$36:$E$51,3,0) -> 2 | D9: =VLOOKUP(D$1,'MON HOC HKI'!$C$36:$E$51,3,0) -> 5 | E9: =VLOOKUP(E$1,'MON HOC HKI'!$C$36:$E$51,3,0) -> 4 | F9: =VLOOKUP(F$1,'MON HOC HKI'!$C$36:$E$51,3,0) -> 0 | G9: =VLOOKUP(G$1,'MON HOC HKI'!$C$36:$E$51,3,0) -> 0 | H9: =VLOOKUP(H$1,'MON HOC HKI'!$C$36:$E$51,3,0) -> 0 | I9: =VLOOKUP(I$1,'MON HOC HKI'!$C$36:$E$51,3,0) -> 0 | ... Q9: =VLOOKUP(Q$1,'MON HOC HKI'!$C$36:$E$51,3,0) -> 0
A10: 13TC-CKT | B10: =VLOOKUP(B$1,'MON HOC HKI'!$C$52:$E$67,2,0) -> Anh văn chuyên ngành | C10: =VLOOKUP(C$1,'MON HOC HKI'!$C$52:$E$67,2,0) -> Kỹ thuật điện | D10: =VLOOKUP(D$1,'MON HOC HKI'!$C$52:$E$67,2,0) -> Nguyên lý - Chi tiết máy | E10: =VLOOKUP(E$1,'MON HOC HKI'!$C$52:$E$67,2,0) -> Máy cắt kim loại | F10: =VLOOKUP(F$1,'MON HOC HKI'!$C$52:$E$67,2,0) -> Công nghệ CNC | G10: =VLOOKUP(G$1,'MON HOC HKI'!$C$52:$E$67,2,0) -> Công nghệ chế tạo máy 2 | H10: =VLOOKUP(H$1,'MON HOC HKI'!$C$52:$E$67,2,0) -> Công nghệ CAD/CAM | I10: =VLOOKUP(I$1,'MON HOC HKI'!$C$52:$E$67,2,0) -> Công nghệ khí nén | ... Q10: =VLOOKUP(Q$1,'MON HOC HKI'!$C$52:$E$67,2,0) -> 0
A11: ĐVHT13CK | B11: =VLOOKUP(B$1,'MON HOC HKI'!$C$52:$E$67,3,0) -> 2 | C11: =VLOOKUP(C$1,'MON HOC HKI'!$C$52:$E$67,3,0) -> 3 | D11: =VLOOKUP(D$1,'MON HOC HKI'!$C$52:$E$67,3,0) -> 5 | E11: =VLOOKUP(E$1,'MON HOC HKI'!$C$52:$E$67,3,0) -> 5 | F11: =VLOOKUP(F$1,'MON HOC HKI'!$C$52:$E$67,3,0) -> 3 | G11: =VLOOKUP(G$1,'MON HOC HKI'!$C$52:$E$67,3,0) -> 4 | H11: =VLOOKUP(H$1,'MON HOC HKI'!$C$52:$E$67,3,0) -> 2 | I11: =VLOOKUP(I$1,'MON HOC HKI'!$C$52:$E$67,3,0) -> 2 | ... Q11: =VLOOKUP(Q$1,'MON HOC HKI'!$C$52:$E$67,3,0) -> 0
A12: 13TC-Ô1 | B12: =VLOOKUP(B$1,'MON HOC HKI'!$C$68:$E$83,2,0) -> Anh văn chuyên ngành | C12: =VLOOKUP(C$1,'MON HOC HKI'!$C$68:$E$83,2,0) -> Hệ thống điện thân xe | D12: =VLOOKUP(D$1,'MON HOC HKI'!$C$68:$E$83,2,0) -> Điều hòa không khí trên ôtô | E12: =VLOOKUP(E$1,'MON HOC HKI'!$C$68:$E$83,2,0) -> Bảo dưỡng kỹ thuật - Sửa chữa ôtô | F12: =VLOOKUP(F$1,'MON HOC HKI'!$C$68:$E$83,2,0) -> Các TB chẩn đoán, kiểm định ôtô | G12: =VLOOKUP(G$1,'MON HOC HKI'!$C$68:$E$83,2,0) -> 0 | H12: =VLOOKUP(H$1,'MON HOC HKI'!$C$68:$E$83,2,0) -> 0 | I12: =VLOOKUP(I$1,'MON HOC HKI'!$C$68:$E$83,2,0) -> 0 | ... Q12: =VLOOKUP(Q$1,'MON HOC HKI'!$C$68:$E$83,2,0) -> Thực tập Động cơ Diezel
A13: ĐVHT13Ô1 | B13: =VLOOKUP(B$1,'MON HOC HKI'!$C$68:$E$83,3,0) -> 2 | C13: =VLOOKUP(C$1,'MON HOC HKI'!$C$68:$E$83,3,0) -> 2 | D13: =VLOOKUP(D$1,'MON HOC HKI'!$C$68:$E$83,3,0) -> 2 | E13: =VLOOKUP(E$1,'MON HOC HKI'!$C$68:$E$83,3,0) -> 4 | F13: =VLOOKUP(F$1,'MON HOC HKI'!$C$68:$E$83,3,0) -> 2 | G13: =VLOOKUP(G$1,'MON HOC HKI'!$C$68:$E$83,3,0) -> 0 | H13: =VLOOKUP(H$1,'MON HOC HKI'!$C$68:$E$83,3,0) -> 0 | I13: =VLOOKUP(I$1,'MON HOC HKI'!$C$68:$E$83,3,0) -> 0 | ... Q13: =VLOOKUP(Q$1,'MON HOC HKI'!$C$68:$E$83,3,0) -> 2
A14: 13TC-Ô2 | B14: =VLOOKUP(B$1,'MON HOC HKI'!$C$68:$E$83,2,0) -> Anh văn chuyên ngành | C14: =VLOOKUP(C$1,'MON HOC HKI'!$C$68:$E$83,2,0) -> Hệ thống điện thân xe | D14: =VLOOKUP(D$1,'MON HOC HKI'!$C$68:$E$83,2,0) -> Điều hòa không khí trên ôtô | E14: =VLOOKUP(E$1,'MON HOC HKI'!$C$68:$E$83,2,0) -> Bảo dưỡng kỹ thuật - Sửa chữa ôtô | F14: =VLOOKUP(F$1,'MON HOC HKI'!$C$68:$E$83,2,0) -> Các TB chẩn đoán, kiểm định ôtô | G14: =VLOOKUP(G$1,'MON HOC HKI'!$C$68:$E$83,2,0) -> 0 | H14: =VLOOKUP(H$1,'MON HOC HKI'!$C$68:$E$83,2,0) -> 0 | I14: =VLOOKUP(I$1,'MON HOC HKI'!$C$68:$E$83,2,0) -> 0 | ... Q14: =VLOOKUP(Q$1,'MON HOC HKI'!$C$68:$E$83,2,0) -> Thực tập Động cơ Diezel
A15: ĐVHT13Ô2 | B15: =VLOOKUP(B$1,'MON HOC HKI'!$C$68:$E$83,3,0) -> 2 | C15: =VLOOKUP(C$1,'MON HOC HKI'!$C$68:$E$83,3,0) -> 2 | D15: =VLOOKUP(D$1,'MON HOC HKI'!$C$68:$E$83,3,0) -> 2 | E15: =VLOOKUP(E$1,'MON HOC HKI'!$C$68:$E$83,3,0) -> 4 | F15: =VLOOKUP(F$1,'MON HOC HKI'!$C$68:$E$83,3,0) -> 2 | G15: =VLOOKUP(G$1,'MON HOC HKI'!$C$68:$E$83,3,0) -> 0 | H15: =VLOOKUP(H$1,'MON HOC HKI'!$C$68:$E$83,3,0) -> 0 | I15: =VLOOKUP(I$1,'MON HOC HKI'!$C$68:$E$83,3,0) -> 0 | ... Q15: =VLOOKUP(Q$1,'MON HOC HKI'!$C$68:$E$83,3,0) -> 2
A16: 13TC-MT | B16: =VLOOKUP(B$1,'MON HOC HKI'!$C$100:$E$115,2,0) -> Anh văn chuyên ngành | C16: =VLOOKUP(C$1,'MON HOC HKI'!$C$100:$E$115,2,0) -> Vẽ kỹ thuật ngành may | D16: =VLOOKUP(D$1,'MON HOC HKI'!$C$100:$E$115,2,0) -> Marketing | E16: =VLOOKUP(E$1,'MON HOC HKI'!$C$100:$E$115,2,0) -> Kỹ thuật may áo jacket | F16: =VLOOKUP(F$1,'MON HOC HKI'!$C$100:$E$115,2,0) -> Thiết kế mẫu công nghiệp | G16: =VLOOKUP(G$1,'MON HOC HKI'!$C$100:$E$115,2,0) -> TK dây chuyền may công nghiệp | H16: =VLOOKUP(H$1,'MON HOC HKI'!$C$100:$E$115,2,0) -> Quản lý chất lượng trang phục | I16: =VLOOKUP(I$1,'MON HOC HKI'!$C$100:$E$115,2,0) -> Tổ chức và quản lý sản xuất may CN | ... Q16: =VLOOKUP(Q$1,'MON HOC HKI'!$C$100:$E$115,2,0) -> 0
A17: ĐVHT13MT | B17: =VLOOKUP(B$1,'MON HOC HKI'!$C$100:$E$115,3,0) -> 2 | C17: =VLOOKUP(C$1,'MON HOC HKI'!$C$100:$E$115,3,0) -> 2 | D17: =VLOOKUP(D$1,'MON HOC HKI'!$C$100:$E$115,3,0) -> 2 | E17: =VLOOKUP(E$1,'MON HOC HKI'!$C$100:$E$115,3,0) -> 2 | F17: =VLOOKUP(F$1,'MON HOC HKI'!$C$100:$E$115,3,0) -> 2 | G17: =VLOOKUP(G$1,'MON HOC HKI'!$C$100:$E$115,3,0) -> 2 | H17: =VLOOKUP(H$1,'MON HOC HKI'!$C$100:$E$115,3,0) -> 2 | I17: =VLOOKUP(I$1,'MON HOC HKI'!$C$100:$E$115,3,0) -> 2 | ... Q17: =VLOOKUP(Q$1,'MON HOC HKI'!$C$100:$E$115,3,0) -> 0
A18: 13TC-QTM | B18: =VLOOKUP(B$1,'MON HOC HKI'!$C$84:$E$99,2,0) -> Anh văn chuyên ngành | C18: =VLOOKUP(C$1,'MON HOC HKI'!$C$84:$E$99,2,0) -> Lập trình Windows | D18: =VLOOKUP(D$1,'MON HOC HKI'!$C$84:$E$99,2,0) -> Thiết kế Web | E18: =VLOOKUP(E$1,'MON HOC HKI'!$C$84:$E$99,2,0) -> SQL server | F18: =VLOOKUP(F$1,'MON HOC HKI'!$C$84:$E$99,2,0) -> Mạng Linux | G18: =VLOOKUP(G$1,'MON HOC HKI'!$C$84:$E$99,2,0) -> Thiết lập và bảo trì hệ thống mạng | H18: =VLOOKUP(H$1,'MON HOC HKI'!$C$84:$E$99,2,0) -> Mạng viễn thông và truyền số liệu | I18: =VLOOKUP(I$1,'MON HOC HKI'!$C$84:$E$99,2,0) -> 0 | ... Q18: =VLOOKUP(Q$1,'MON HOC HKI'!$C$84:$E$99,2,0) -> 0
A19: ĐVHT13QT | B19: =VLOOKUP(B$1,'MON HOC HKI'!$C$84:$E$99,3,0) -> 2 | C19: =VLOOKUP(C$1,'MON HOC HKI'!$C$84:$E$99,3,0) -> 5 | D19: =VLOOKUP(D$1,'MON HOC HKI'!$C$84:$E$99,3,0) -> 5 | E19: =VLOOKUP(E$1,'MON HOC HKI'!$C$84:$E$99,3,0) -> 3 | F19: =VLOOKUP(F$1,'MON HOC HKI'!$C$84:$E$99,3,0) -> 2 | G19: =VLOOKUP(G$1,'MON HOC HKI'!$C$84:$E$99,3,0) -> 5 | H19: =VLOOKUP(H$1,'MON HOC HKI'!$C$84:$E$99,3,0) -> 4 | I19: =VLOOKUP(I$1,'MON HOC HKI'!$C$84:$E$99,3,0) -> 0 | ... Q19: =VLOOKUP(Q$1,'MON HOC HKI'!$C$84:$E$99,3,0) -> 0

Sheet TK NỢ HP
A1: ỦY BAN NHÂN DÂN THÀNH PHỐ HỒ CHÍ MINH
A2: TRƯỜNG CĐKT LÝ TỰ TRỌNG THÀNH PHỐ HỒ CHÍ MINH
B3: LỚP: | C3: =IF(B7="","",IF(ISNA(VLOOKUP(#REF!,'DS LOP HKI'!$B$2:$F$1060,5,FALSE))=TRUE,"",VLOOKUP(B7,'DS LOP HKI'!$B$2:$F$1060,5,FALSE))) -> 13TC-Đ2 | D3: SS: | E3: =IF(B7="",0,MAX($A$7:$A$43)) -> 29
A4: BẢNG THỐNG KÊ NỢ HỌC PHẦN
C5: HỌC KỲ: | D5: I | F5: NĂM HỌC: | H5: 2014-2015
B6: MSSV | C6: Họ tên sinh viên | E6: Số HP nợ | F6: =IF(HKI!H6="","",HKI!H6) -> Anh văn chuyên ngành | G6: =IF(HKI!M6="","",HKI!M6) -> Cơ kỹ thuật | H6: =IF(HKI!R6="","",HKI!R6) -> Trang bị điện | I6: =IF(HKI!W6="","",HKI!W6) -> Điều khiển lập trình (PLC) | J6: =IF(HKI!AB6="","",HKI!AB6) -> Điều khiển điện - khí nén | K6: =IF(HKI!AG6="","",HKI!AG6) | L6: =IF(HKI!AL6="","",HKI!AL6) | M6: =IF(HKI!AQ6="","",HKI!AQ6) | N6: =IF(HKI!AV6="","",HKI!AV6) | O6: =IF(HKI!BA6="","",HKI!BA6) | P6: =IF(HKI!BF6="","",HKI!BF6) -> Thực tập Sửa chữa máy điện | Q6: =IF(HKI!BK6="","",HKI!BK6) -> Thực tập Sửa chữa điện | R6: =IF(HKI!BP6="","",HKI!BP6) -> Thực tập Trang bị điện-Điện tử CB | S6: =IF(HKI!BU6="","",HKI!BU6) | T6: =IF(HKI!BZ6="","",HKI!BZ6) | U6: =IF(HKI!CE6="","",HKI!CE6)
A7: =IF(B7="","",SUBTOTAL(3,$B$7:B7)) -> 1 | B7: =IF(HKI!$B12="","",HKI!B12) -> 13B3080002 | C7: =IF(HKI!$B12="","",HKI!C12) -> Lâm Thanh | D7: =IF(HKI!$B12="","",HKI!D12) -> Bình | E7: =IF(COUNTIF(F7:T7,"X")>0,COUNTIF(F7:T7,"X"),"") -> 2 | F7: =IF(HKI!J12<5,"X","") | G7: =IF(HKI!O12<5,"X","") | H7: =IF(HKI!T12<5,"X","") | I7: =IF(HKI!Y12<5,"X","") -> X | J7: =IF(HKI!AD12<5,"X","") -> X | K7: =IF(HKI!AI12<5,"X","") | L7: =IF(HKI!AN12<5,"X","") | M7: =IF(HKI!AS12<5,"X","") | N7: =IF(HKI!AX12<5,"X","") | O7: =IF(HKI!BC12<5,"X","") | P7: =IF(HKI!BH12<5,"X","") | Q7: =IF(HKI!BM12<5,"X","") | R7: =IF(HKI!BR12<5,"X","") | S7: =IF(HKI!BW12<5,"X","") | T7: =IF(HKI!CB12<5,"X","") | U7: =IF(HKI!CG12<5,"X","")
A8: =IF(B8="","",SUBTOTAL(3,$B$7:B8)) -> 2 | B8: =IF(HKI!$B13="","",HKI!B13) -> 13B3080004 | C8: =IF(HKI!$B13="","",HKI!C13) -> Nguyễn | D8: =IF(HKI!$B13="","",HKI!D13) -> Cảnh | E8: =IF(COUNTIF(F8:T8,"X")>0,COUNTIF(F8:T8,"X"),"") -> 2 | F8: =IF(HKI!J13<5,"X","") | G8: =IF(HKI!O13<5,"X","") -> X | H8: =IF(HKI!T13<5,"X","") | I8: =IF(HKI!Y13<5,"X","") | J8: =IF(HKI!AD13<5,"X","") -> X | K8: =IF(HKI!AI13<5,"X","") | L8: =IF(HKI!AN13<5,"X","") | M8: =IF(HKI!AS13<5,"X","") | N8: =IF(HKI!AX13<5,"X","") | O8: =IF(HKI!BC13<5,"X","") | P8: =IF(HKI!BH13<5,"X","") | Q8: =IF(HKI!BM13<5,"X","") | R8: =IF(HKI!BR13<5,"X","") | S8: =IF(HKI!BW13<5,"X","") | T8: =IF(HKI!CB13<5,"X","") | U8: =IF(HKI!CG13<5,"X","")
A9: =IF(B9="","",SUBTOTAL(3,$B$7:B9)) -> 3 | B9: =IF(HKI!$B14="","",HKI!B14) -> 13B3080104 | C9: =IF(HKI!$B14="","",HKI!C14) -> Lê Minh | D9: =IF(HKI!$B14="","",HKI!D14) -> Cường | E9: =IF(COUNTIF(F9:T9,"X")>0,COUNTIF(F9:T9,"X"),"") -> 2 | F9: =IF(HKI!J14<5,"X","") -> X | G9: =IF(HKI!O14<5,"X","") -> X | H9: =IF(HKI!T14<5,"X","") | I9: =IF(HKI!Y14<5,"X","") | J9: =IF(HKI!AD14<5,"X","") | K9: =IF(HKI!AI14<5,"X","") | L9: =IF(HKI!AN14<5,"X","") | M9: =IF(HKI!AS14<5,"X","") | N9: =IF(HKI!AX14<5,"X","") | O9: =IF(HKI!BC14<5,"X","") | P9: =IF(HKI!BH14<5,"X","") | Q9: =IF(HKI!BM14<5,"X","") | R9: =IF(HKI!BR14<5,"X","") | S9: =IF(HKI!BW14<5,"X","") | T9: =IF(HKI!CB14<5,"X","") | U9: =IF(HKI!CG14<5,"X","")
A10: =IF(B10="","",SUBTOTAL(3,$B$7:B10)) -> 4 | B10: =IF(HKI!$B15="","",HKI!B15) -> 13B3080008 | C10: =IF(HKI!$B15="","",HKI!C15) -> Cao Thành | D10: =IF(HKI!$B15="","",HKI!D15) -> Danh | E10: =IF(COUNTIF(F10:T10,"X")>0,COUNTIF(F10:T10,"X"),"") | F10: =IF(HKI!J15<5,"X","") | G10: =IF(HKI!O15<5,"X","") | H10: =IF(HKI!T15<5,"X","") | I10: =IF(HKI!Y15<5,"X","") | J10: =IF(HKI!AD15<5,"X","") | K10: =IF(HKI!AI15<5,"X","") | L10: =IF(HKI!AN15<5,"X","") | M10: =IF(HKI!AS15<5,"X","") | N10: =IF(HKI!AX15<5,"X","") | O10: =IF(HKI!BC15<5,"X","") | P10: =IF(HKI!BH15<5,"X","") | Q10: =IF(HKI!BM15<5,"X","") | R10: =IF(HKI!BR15<5,"X","") | S10: =IF(HKI!BW15<5,"X","") | T10: =IF(HKI!CB15<5,"X","") | U10: =IF(HKI!CG15<5,"X","")
A11: =IF(B11="","",SUBTOTAL(3,$B$7:B11)) -> 5 | B11: =IF(HKI!$B16="","",HKI!B16) -> 13B3080010 | C11: =IF(HKI!$B16="","",HKI!C16) -> Nguyễn Tiến | D11: =IF(HKI!$B16="","",HKI!D16) -> Dũng | E11: =IF(COUNTIF(F11:T11,"X")>0,COUNTIF(F11:T11,"X"),"") | F11: =IF(HKI!J16<5,"X","") | G11: =IF(HKI!O16<5,"X","") | H11: =IF(HKI!T16<5,"X","") | I11: =IF(HKI!Y16<5,"X","") | J11: =IF(HKI!AD16<5,"X","") | K11: =IF(HKI!AI16<5,"X","") | L11: =IF(HKI!AN16<5,"X","") | M11: =IF(HKI!AS16<5,"X","") | N11: =IF(HKI!AX16<5,"X","") | O11: =IF(HKI!BC16<5,"X","") | P11: =IF(HKI!BH16<5,"X","") | Q11: =IF(HKI!BM16<5,"X","") | R11: =IF(HKI!BR16<5,"X","") | S11: =IF(HKI!BW16<5,"X","") | T11: =IF(HKI!CB16<5,"X","") | U11: =IF(HKI!CG16<5,"X","")
A12: =IF(B12="","",SUBTOTAL(3,$B$7:B12)) -> 6 | B12: =IF(HKI!$B17="","",HKI!B17) -> 13B3080012 | C12: =IF(HKI!$B17="","",HKI!C17) -> Võ Hồng | D12: =IF(HKI!$B17="","",HKI!D17) -> Dương | E12: =IF(COUNTIF(F12:T12,"X")>0,COUNTIF(F12:T12,"X"),"") | F12: =IF(HKI!J17<5,"X","") | G12: =IF(HKI!O17<5,"X","") | H12: =IF(HKI!T17<5,"X","") | I12: =IF(HKI!Y17<5,"X","") | J12: =IF(HKI!AD17<5,"X","") | K12: =IF(HKI!AI17<5,"X","") | L12: =IF(HKI!AN17<5,"X","") | M12: =IF(HKI!AS17<5,"X","") | N12: =IF(HKI!AX17<5,"X","") | O12: =IF(HKI!BC17<5,"X","") | P12: =IF(HKI!BH17<5,"X","") | Q12: =IF(HKI!BM17<5,"X","") | R12: =IF(HKI!BR17<5,"X","") | S12: =IF(HKI!BW17<5,"X","") | T12: =IF(HKI!CB17<5,"X","") | U12: =IF(HKI!CG17<5,"X","")
A13: =IF(B13="","",SUBTOTAL(3,$B$7:B13)) -> 7 | B13: =IF(HKI!$B18="","",HKI!B18) -> 13B3080016 | C13: =IF(HKI!$B18="","",HKI!C18) -> Nguyễn Quang | D13: =IF(HKI!$B18="","",HKI!D18) -> Đại | E13: =IF(COUNTIF(F13:T13,"X")>0,COUNTIF(F13:T13,"X"),"") -> 3 | F13: =IF(HKI!J18<5,"X","") -> X | G13: =IF(HKI!O18<5,"X","") -> X | H13: =IF(HKI!T18<5,"X","") | I13: =IF(HKI!Y18<5,"X","") -> X | J13: =IF(HKI!AD18<5,"X","") | K13: =IF(HKI!AI18<5,"X","") | L13: =IF(HKI!AN18<5,"X","") | M13: =IF(HKI!AS18<5,"X","") | N13: =IF(HKI!AX18<5,"X","") | O13: =IF(HKI!BC18<5,"X","") | P13: =IF(HKI!BH18<5,"X","") | Q13: =IF(HKI!BM18<5,"X","") | R13: =IF(HKI!BR18<5,"X","") | S13: =IF(HKI!BW18<5,"X","") | T13: =IF(HKI!CB18<5,"X","") | U13: =IF(HKI!CG18<5,"X","")
A14: =IF(B14="","",SUBTOTAL(3,$B$7:B14)) -> 8 | B14: =IF(HKI!$B19="","",HKI!B19) -> 13B3080018 | C14: =IF(HKI!$B19="","",HKI!C19) -> Nguyễn Hồng | D14: =IF(HKI!$B19="","",HKI!D19) -> Đức | E14: =IF(COUNTIF(F14:T14,"X")>0,COUNTIF(F14:T14,"X"),"") | F14: =IF(HKI!J19<5,"X","") | G14: =IF(HKI!O19<5,"X","") | H14: =IF(HKI!T19<5,"X","") | I14: =IF(HKI!Y19<5,"X","") | J14: =IF(HKI!AD19<5,"X","") | K14: =IF(HKI!AI19<5,"X","") | L14: =IF(HKI!AN19<5,"X","") | M14: =IF(HKI!AS19<5,"X","") | N14: =IF(HKI!AX19<5,"X","") | O14: =IF(HKI!BC19<5,"X","") | P14: =IF(HKI!BH19<5,"X","") | Q14: =IF(HKI!BM19<5,"X","") | R14: =IF(HKI!BR19<5,"X","") | S14: =IF(HKI!BW19<5,"X","") | T14: =IF(HKI!CB19<5,"X","") | U14: =IF(HKI!CG19<5,"X","")
A15: =IF(B15="","",SUBTOTAL(3,$B$7:B15)) -> 9 | B15: =IF(HKI!$B20="","",HKI!B20) -> 13B3080100 | C15: =IF(HKI!$B20="","",HKI!C20) -> Nguyễn Hoàng | D15: =IF(HKI!$B20="","",HKI!D20) -> Gia | E15: =IF(COUNTIF(F15:T15,"X")>0,COUNTIF(F15:T15,"X"),"") | F15: =IF(HKI!J20<5,"X","") | G15: =IF(HKI!O20<5,"X","") | H15: =IF(HKI!T20<5,"X","") | I15: =IF(HKI!Y20<5,"X","") | J15: =IF(HKI!AD20<5,"X","") | K15: =IF(HKI!AI20<5,"X","") | L15: =IF(HKI!AN20<5,"X","") | M15: =IF(HKI!AS20<5,"X","") | N15: =IF(HKI!AX20<5,"X","") | O15: =IF(HKI!BC20<5,"X","") | P15: =IF(HKI!BH20<5,"X","") | Q15: =IF(HKI!BM20<5,"X","") | R15: =IF(HKI!BR20<5,"X","") | S15: =IF(HKI!BW20<5,"X","") | T15: =IF(HKI!CB20<5,"X","") | U15: =IF(HKI!CG20<5,"X","")
A16: =IF(B16="","",SUBTOTAL(3,$B$7:B16)) -> 10 | B16: =IF(HKI!$B21="","",HKI!B21) -> 13B3080026 | C16: =IF(HKI!$B21="","",HKI!C21) -> Nguyễn Cảnh | D16: =IF(HKI!$B21="","",HKI!D21) -> Hưng | E16: =IF(COUNTIF(F16:T16,"X")>0,COUNTIF(F16:T16,"X"),"") -> 1 | F16: =IF(HKI!J21<5,"X","") | G16: =IF(HKI!O21<5,"X","") -> X | H16: =IF(HKI!T21<5,"X","") | I16: =IF(HKI!Y21<5,"X","") | J16: =IF(HKI!AD21<5,"X","") | K16: =IF(HKI!AI21<5,"X","") | L16: =IF(HKI!AN21<5,"X","") | M16: =IF(HKI!AS21<5,"X","") | N16: =IF(HKI!AX21<5,"X","") | O16: =IF(HKI!BC21<5,"X","") | P16: =IF(HKI!BH21<5,"X","") | Q16: =IF(HKI!BM21<5,"X","") | R16: =IF(HKI!BR21<5,"X","") | S16: =IF(HKI!BW21<5,"X","") | T16: =IF(HKI!CB21<5,"X","") | U16: =IF(HKI!CG21<5,"X","")
A17: =IF(B17="","",SUBTOTAL(3,$B$7:B17)) -> 11 | B17: =IF(HKI!$B22="","",HKI!B22) -> 13B3080030 | C17: =IF(HKI!$B22="","",HKI!C22) -> Lê Quốc | D17: =IF(HKI!$B22="","",HKI!D22) -> Huy | E17: =IF(COUNTIF(F17:T17,"X")>0,COUNTIF(F17:T17,"X"),"") | F17: =IF(HKI!J22<5,"X","") | G17: =IF(HKI!O22<5,"X","") | H17: =IF(HKI!T22<5,"X","") | I17: =IF(HKI!Y22<5,"X","") | J17: =IF(HKI!AD22<5,"X","") | K17: =IF(HKI!AI22<5,"X","") | L17: =IF(HKI!AN22<5,"X","") | M17: =IF(HKI!AS22<5,"X","") | N17: =IF(HKI!AX22<5,"X","") | O17: =IF(HKI!BC22<5,"X","") | P17: =IF(HKI!BH22<5,"X","") | Q17: =IF(HKI!BM22<5,"X","") | R17: =IF(HKI!BR22<5,"X","") | S17: =IF(HKI!BW22<5,"X","") | T17: =IF(HKI!CB22<5,"X","") | U17: =IF(HKI!CG22<5,"X","")
A18: =IF(B18="","",SUBTOTAL(3,$B$7:B18)) -> 12 | B18: =IF(HKI!$B23="","",HKI!B23) -> 13B3080032 | C18: =IF(HKI!$B23="","",HKI!C23) -> Nguyễn Văn | D18: =IF(HKI!$B23="","",HKI!D23) -> Khánh | E18: =IF(COUNTIF(F18:T18,"X")>0,COUNTIF(F18:T18,"X"),"") | F18: =IF(HKI!J23<5,"X","") | G18: =IF(HKI!O23<5,"X","") | H18: =IF(HKI!T23<5,"X","") | I18: =IF(HKI!Y23<5,"X","") | J18: =IF(HKI!AD23<5,"X","") | K18: =IF(HKI!AI23<5,"X","") | L18: =IF(HKI!AN23<5,"X","") | M18: =IF(HKI!AS23<5,"X","") | N18: =IF(HKI!AX23<5,"X","") | O18: =IF(HKI!BC23<5,"X","") | P18: =IF(HKI!BH23<5,"X","") | Q18: =IF(HKI!BM23<5,"X","") | R18: =IF(HKI!BR23<5,"X","") | S18: =IF(HKI!BW23<5,"X","") | T18: =IF(HKI!CB23<5,"X","") | U18: =IF(HKI!CG23<5,"X","")
... A40: =IF(B40="","",SUBTOTAL(3,$B$7:B40)) | B40: =IF(HKI!$B45="","",HKI!B45) | C40: =IF(HKI!$B45="","",HKI!C45) | D40: =IF(HKI!$B45="","",HKI!D45) | E40: =IF(COUNTIF(F40:T40,"X")>0,COUNTIF(F40:T40,"X"),"") | F40: =IF(HKI!J45<5,"X","") | G40: =IF(HKI!O45<5,"X","") | H40: =IF(HKI!T45<5,"X","") | I40: =IF(HKI!Y45<5,"X","") | J40: =IF(HKI!AD45<5,"X","") | K40: =IF(HKI!AI45<5,"X","") | L40: =IF(HKI!AN45<5,"X","") | M40: =IF(HKI!AS45<5,"X","") | N40: =IF(HKI!AX45<5,"X","") | O40: =IF(HKI!BC45<5,"X","") | P40: =IF(HKI!BH45<5,"X","") | Q40: =IF(HKI!BM45<5,"X","") | R40: =IF(HKI!BR45<5,"X","") | S40: =IF(HKI!BW45<5,"X","") | T40: =IF(HKI!CB45<5,"X","") | U40: =IF(HKI!CG45<5,"X","")
A41: =IF(B41="","",SUBTOTAL(3,$B$7:B41)) | B41: =IF(HKI!$B50="","",HKI!B50) | C41: =IF(HKI!$B50="","",HKI!C50) | D41: =IF(HKI!$B50="","",HKI!D50) | E41: =IF(COUNTIF(F41:T41,"X")>0,COUNTIF(F41:T41,"X"),"") | F41: =IF(HKI!J50<5,"X","") | G41: =IF(HKI!O50<5,"X","") | H41: =IF(HKI!T50<5,"X","") | I41: =IF(HKI!Y50<5,"X","") | J41: =IF(HKI!AD50<5,"X","") | K41: =IF(HKI!AI50<5,"X","") | L41: =IF(HKI!AN50<5,"X","") | M41: =IF(HKI!AS50<5,"X","") | N41: =IF(HKI!AX50<5,"X","") | O41: =IF(HKI!BC50<5,"X","") | P41: =IF(HKI!BH50<5,"X","") | Q41: =IF(HKI!BM50<5,"X","") | R41: =IF(HKI!BR50<5,"X","") | S41: =IF(HKI!BW50<5,"X","") | T41: =IF(HKI!CB50<5,"X","") | U41: =IF(HKI!CG50<5,"X","")
A42: =IF(B42="","",SUBTOTAL(3,$B$7:B42)) | B42: =IF(HKI!$B51="","",HKI!B51) | C42: =IF(HKI!$B51="","",HKI!C51) | D42: =IF(HKI!$B51="","",HKI!D51) | E42: =IF(COUNTIF(F42:T42,"X")>0,COUNTIF(F42:T42,"X"),"") | F42: =IF(HKI!J51<5,"X","") | G42: =IF(HKI!O51<5,"X","") | H42: =IF(HKI!T51<5,"X","") | I42: =IF(HKI!Y51<5,"X","") | J42: =IF(HKI!AD51<5,"X","") | K42: =IF(HKI!AI51<5,"X","") | L42: =IF(HKI!AN51<5,"X","") | M42: =IF(HKI!AS51<5,"X","") | N42: =IF(HKI!AX51<5,"X","") | O42: =IF(HKI!BC51<5,"X","") | P42: =IF(HKI!BH51<5,"X","") | Q42: =IF(HKI!BM51<5,"X","") | R42: =IF(HKI!BR51<5,"X","") | S42: =IF(HKI!BW51<5,"X","") | T42: =IF(HKI!CB51<5,"X","") | U42: =IF(HKI!CG51<5,"X","")
A43: Số lượng Sinh viên nợ theo học phần | F43: =COUNTIF(F7:F42,"X") -> 3 | G43: =COUNTIF(G7:G42,"X") -> 9 | H43: =COUNTIF(H7:H42,"X") -> 0 | I43: =COUNTIF(I7:I42,"X") -> 4 | J43: =COUNTIF(J7:J42,"X") -> 2 | K43: =COUNTIF(K7:K42,"X") -> 0 | L43: =COUNTIF(L7:L42,"X") -> 0 | M43: =COUNTIF(M7:M42,"X") -> 0 | ... U43: =COUNTIF(U7:U42,"X") -> 0

Sheet HKI
A1: ỦY BAN NHÂN DÂN THÀNH PHỐ HỒ CHÍ MINH | BF1: CỘNG HOÀ XÃ HỘI CHỦ NGHĨA VIỆT NAM
A2: TRƯỜNG CĐKT LÝ TỰ TRỌNG THÀNH PHỐ HỒ CHÍ MINH | BF2: Độc lập - Tự do - hạnh phúc
C3: LỚP: | D3: =IF($B12="","",IF(ISNA(VLOOKUP($B12,'DS LOP HKI'!$B$2:$F$1060,5,FALSE))=TRUE,"",VLOOKUP($B12,'DS LOP HKI'!$B$2:$F$1060,5,FALSE))) -> 13TC-Đ2 | G3: SĨ SỐ: | I3: =IF(B12="",0,MAX($A$12:$A$51)) -> 29
A4: BẢNG TỔNG KẾT HỌC TẬP HỌC KỲ I NĂM HỌC 2014 - 2015
A6: Số thứ tự | B6: HỌC PHẦN | H6: =IF($B12="","",IF('LT01'!$C$6="","",'LT01'!$C$6)) -> Anh văn chuyên ngành | M6: =IF($B12="","",IF('LT02'!$C$6="","",'LT02'!$C$6)) -> Cơ kỹ thuật | R6: =IF($B12="","",IF('LT03'!$C$6="","",'LT03'!$C$6)) -> Trang bị điện | W6: =IF($B12="","",IF('LT04'!$C$6="","",'LT04'!$C$6)) -> Điều khiển lập trình (PLC) | AB6: =IF($B12="","",IF('LT05'!$C$6="","",'LT05'!$C$6)) -> Điều khiển điện - khí nén | AG6: =IF($B12="","",IF('LT06'!$C$6="","",'LT06'!$C$6)) | AL6: =IF($B12="","",IF('LT07'!$C$6="","",'LT07'!$C$6)) | AQ6: =IF($B12="","",IF('LT08'!$C$6="","",'LT08'!$C$6)) | AV6: =IF($B12="","",IF('LT09'!$C$6="","",'LT09'!$C$6)) | BA6: =IF($B12="","",IF('DO AN'!$C$6="","",'DO AN'!$C$6)) | BF6: =IF($B12="","",IF('TH01'!$C$6="","",'TH01'!$C$6)) -> Thực tập Sửa chữa máy điện | BK6: =IF($B12="","",IF('TH02'!$C$6="","",'TH02'!$C$6)) -> Thực tập Sửa chữa điện | BP6: =IF($B12="","",IF('TH03'!$C$6="","",'TH03'!$C$6)) -> Thực tập Trang bị điện-Điện tử CB | BU6: =IF($B12="","",IF('TH04'!$C$6="","",'TH04'!$C$6)) | BZ6: =IF($B12="","",IF('TH05'!$C$6="","",'TH05'!$C$6)) | CE6: =IF($B12="","",IF('TH06'!$C$6="","",'TH06'!$C$6)) | CJ6: TBC HỌC TẬP | CL6: KẾT QUẢ RÈN LUYỆN | CM6: XẾP LOẠI HT | CO6: KHEN THƯỞNG | CP6: GHI CHÚ
B7: SỐ ĐVHT | H7: =IF($B12="","",IF('LT01'!$J$6="","",'LT01'!$J$6)) -> 2 | M7: =IF($B12="","",IF('LT02'!$J$6="","",'LT02'!$J$6)) -> 2 | R7: =IF($B12="","",IF('LT03'!$J$6="","",'LT03'!$J$6)) -> 4 | W7: =IF($B12="","",IF('LT04'!$J$6="","",'LT04'!$J$6)) -> 3 | AB7: =IF($B12="","",IF('LT05'!$J$6="","",'LT05'!$J$6)) -> 2 | AG7: =IF($B12="","",IF('LT06'!$J$6="","",'LT06'!$J$6)) | AL7: =IF($B12="","",IF('LT07'!$J$6="","",'LT07'!$J$6)) | AQ7: =IF($B12="","",IF('LT08'!$J$6="","",'LT08'!$J$6)) | AV7: =IF($B12="","",IF('LT09'!$J$6="","",'LT09'!$J$6)) | BA7: =IF($B12="","",IF('DO AN'!$J$6="","",'DO AN'!$J$6)) | BF7: =IF($B12="","",IF('TH01'!$J$6="","",'TH01'!$J$6)) -> 4 | BK7: =IF($B12="","",IF('TH02'!$J$6="","",'TH02'!$J$6)) -> 4 | BP7: =IF($B12="","",IF('TH03'!$J$6="","",'TH03'!$J$6)) -> 3 | BU7: =IF($B12="","",IF('TH04'!$J$6="","",'TH04'!$J$6)) | BZ7: =IF($B12="","",IF('TH05'!$J$6="","",'TH05'!$J$6)) | CE7: =IF($B12="","",IF('TH06'!$J$6="","",'TH06'!$J$6)) | CJ7: =SUM(H7:CI7) -> 24 | CQ7: Đếm cột Thi Chính <5 | CR7: =$H$7 -> 2 | CS7: =$M$7 -> 2 | CT7: =$R$7 -> 4 | CU7: =$W$7 -> 3 | CV7: =$AB$7 -> 2 | CW7: =$AG$7 | CX7: =$AL$7 | CY7: =$AQ$7 | CZ7: =$AV$7 | DA7: =$BA$7 | DB7: =$BF$7 -> 4 | DC7: =$BK$7 -> 4 | DD7: =$BP$7 -> 3 | DE7: =$BU$7 | DF7: =$BZ$7 | DG7: =$CE$7 | DH7: Đếm cột HP Chính <5 | DI7: =$H$7 -> 2 | DJ7: =$M$7 -> 2 | DK7: =$R$7 -> 4 | DL7: =$W$7 -> 3 | DM7: =$AB$7 -> 2 | DN7: =$AG$7 | DO7: =$AL$7 | DP7: =$AQ$7 | DQ7: =$AV$7 | DR7: =$BA$7 | DS7: =$BF$7 -> 4 | DT7: =$BK$7 -> 4 | DU7: =$BP$7 -> 3 | DV7: =$BU$7 | DW7: =$BZ$7 | DX7: =$CE$7 | DY7: =SUM(DI7:DX7) -> 24 | EP7: =$H$7 -> 2 | EQ7: =$M$7 -> 2 | ER7: =$R$7 -> 4 | ES7: =$W$7 -> 3 | ET7: =$AB$7 -> 2 | EU7: =$AG$7 | EV7: =$AL$7 | EW7: =$AQ$7 | EX7: =$AV$7 | EY7: =$BA$7 | EZ7: =$BF$7 -> 4 | FA7: =$BK$7 -> 4 | FB7: =$BP$7 -> 3 | FC7: =$BU$7 | FD7: =$BZ$7 | FE7: =$CE$7
B8: MSHS | C8: Họ tên học sinh | E8: HỆ CHUẨN | F8: NGÀY NGHỈ | H8: Trung bình | I8: Thi lần 1 | J8: Tổng kết lần 1 | K8: Thi lần 2 | L8: Tổng kết lần 2 | M8: Trung bình | N8: Thi lần 1 | O8: Tổng kết lần 1 | P8: Thi lần 2 | Q8: Tổng kết lần 2 | R8: Trung bình | S8: Thi lần 1 | T8: Tổng kết lần 1 | U8: Thi lần 2 | V8: Tổng kết lần 2 | W8: Trung bình | X8: Thi lần 1 | Y8: Tổng kết lần 1 | Z8: Thi lần 2 | AA8: Tổng kết lần 2 | AB8: Trung bình | AC8: Thi lần 1 | AD8: Tổng kết lần 1 | AE8: Thi lần 2 | AF8: Tổng kết lần 2 | AG8: Trung bình | AH8: Thi lần 1 | AI8: Tổng kết lần 1 | AJ8: Thi lần 2 | AK8: Tổng kết lần 2 | AL8: Trung bình | AM8: Thi lần 1 | AN8: Tổng kết lần 1 | AO8: Thi lần 2 | AP8: Tổng kết lần 2 | AQ8: Trung bình | AR8: Thi lần 1 | AS8: Tổng kết lần 1 | AT8: Thi lần 2 | AU8: Tổng kết lần 2 | AV8: Trung bình | AW8: Thi lần 1 | AX8: Tổng kết lần 1 | AY8: Thi lần 2 | AZ8: Tổng kết lần 2 | BA8: Trung bình | BB8: Thi lần 1 | BC8: Tổng kết lần 1 | BD8: Thi lần 2 | BE8: Tổng kết lần 2 | BF8: Trung bình | BG8: Thi lần 1 | BH8: Tổng kết lần 1 | BI8: Thi lần 2 | BJ8: Tổng kết lần 2 | BK8: Trung bình | BL8: Thi lần 1 | BM8: Tổng kết lần 1 | BN8: Thi lần 2 | BO8: Tổng kết lần 2 | BP8: Trung bình | BQ8: Thi lần 1 | BR8: Tổng kết lần 1 | BS8: Thi lần 2 | BT8: Tổng kết lần 2 | BU8: Trung bình | BV8: Thi lần 1 | BW8: Tổng kết lần 1 | BX8: Thi lần 2 | BY8: Tổng kết lần 2 | BZ8: Trung bình | CA8: Thi lần 1 | CB8: Tổng kết lần 1 | CC8: Thi lần 2 | CD8: Tổng kết lần 2 | CE8: Trung bình | CF8: Thi lần 1 | CG8: Tổng kết lần 1 | CH8: Thi lần 2 | CI8: Tổng kết lần 2 | CJ8: Kỳ thi lần 1 | CK8: Kỳ thi lần 2 | CM8: Kỳ thi lần 1 | CN8: Kỳ thi lần 2 | CR8: =$H$6 -> Anh văn chuyên ngành | CS8: =$M$6 -> Cơ kỹ thuật | CT8: =$R$6 -> Trang bị điện | CU8: =$W$6 -> Điều khiển lập trình (PLC) | CV8: =$AB$6 -> Điều khiển điện - khí nén | CW8: =$AG$6 | CX8: =$AL$6 | CY8: =$AQ$6 | CZ8: =$AV$6 | DA8: =$BA$6 | DB8: =$BF$6 -> Thực tập Sửa chữa máy điện | DC8: =$BK$6 -> Thực tập Sửa chữa điện | DD8: =$BP$6 -> Thực tập Trang bị điện-Điện tử CB | DE8: =$BU$6 | DF8: =$BZ$6 | DG8: =$CE$6 | DI8: =H6 -> Anh văn chuyên ngành | DJ8: =M6 -> Cơ kỹ thuật | DK8: =R6 -> Trang bị điện | DL8: =W6 -> Điều khiển lập trình (PLC) | DM8: =AB6 -> Điều khiển điện - khí nén | DN8: =AG6 | DO8: =AL6 | DP8: =AQ6 | DQ8: =AV6 | DR8: =$BA$6 | DS8: =BF6 -> Thực tập Sửa chữa máy điện | DT8: =BK6 -> Thực tập Sửa chữa điện | DU8: =BP6 -> Thực tập Trang bị điện-Điện tử CB | DV8: =BU6 | DW8: =BZ6 | DX8: =CE6 | DZ8: =H6 -> Anh văn chuyên ngành | EA8: =M6 -> Cơ kỹ thuật | EB8: =R6 -> Trang bị điện | EC8: =W6 -> Điều khiển lập trình (PLC) | ED8: =AB6 -> Điều khiển điện - khí nén | EE8: =AG6 | EF8: =AL6 | EG8: =AQ6 | EH8: =AV6 | EI8: =$BA$6 | EJ8: =BF6 -> Thực tập Sửa chữa máy điện | EK8: =BK6 -> Thực tập Sửa chữa điện | EL8: =BP6 -> Thực tập Trang bị điện-Điện tử CB | EM8: =BU6 | EN8: =BZ6 | EO8: =CE6 | EP8: =H6 -> Anh văn chuyên ngành | EQ8: =M6 -> Cơ kỹ thuật | ER8: =R6 -> Trang bị điện | ES8: =W6 -> Điều khiển lập trình (PLC) | ET8: =AB6 -> Điều khiển điện - khí nén | EU8: =AG6 | EV8: =AL6 | EW8: =AQ6 | EX8: =AV6 | EY8: =$BA$6 | EZ8: =BF6 -> Thực tập Sửa chữa máy điện | FA8: =BK6 -> Thực tập Sửa chữa điện | FB8: =BP6 -> Thực tập Trang bị điện-Điện tử CB | FC8: =BU6 | FD8: =BZ6 | FE8: =CE6
F9: P | G9: K
A10: (0) | B10: 1 | C10: 2 | D10: 3 | E10: 4 | F10: 5 | G10: 6 | H10: 7 | I10: 8 | J10: 9 | K10: 10 | L10: 11 | M10: 12 | N10: 13 | O10: 14 | P10: 15 | Q10: 16 | R10: 17 | S10: 18 | T10: 19 | U10: 20 | V10: 21 | W10: 22 | X10: 23 | Y10: 24 | Z10: 25 | AA10: 26 | AB10: 27 | AC10: 28 | AD10: 29 | AE10: 30 | AF10: 31 | AG10: 32 | AH10: 33 | AI10: 34 | AJ10: 35 | AK10: 36 | AL10: 37 | AM10: 38 | AN10: 39 | AO10: 40 | AP10: 41 | AQ10: 42 | AR10: 43 | AS10: 44 | AT10: 45 | AU10: 46 | AV10: 47 | AW10: 48 | AX10: 49 | AY10: 50 | AZ10: 51 | BA10: 62 | BB10: 63 | BC10: 64 | BD10: 65 | BE10: 66 | BF10: 62 | BG10: 63 | BH10: 64 | BI10: 65 | BJ10: 66 | BK10: 67 | BL10: 68 | BM10: 69 | BN10: 70 | BO10: 71 | BP10: 72 | BQ10: 73 | BR10: 74 | BS10: 75 | BT10: 76 | BU10: 77 | BV10: 78 | BW10: 79 | BX10: 80 | BY10: 81 | BZ10: 82 | CA10: 83 | CB10: 84 | CC10: 85 | CD10: 86 | CE10: 87 | CF10: 88 | CG10: 89 | CH10: 90 | CI10: 91 | CJ10: 92 | CK10: 93 | CL10: 94 | CM10: 95 | CN10: 96 | CO10: 97 | CP10: 98
A11: (1) | B11: (2) | C11: (3) | E11: (4) | F11: (5) | G11: (6) | H11: (7) | M11: (8) | R11: (9) | W11: (10) | AB11: (11) | AG11: (12) | AL11: (13) | AQ11: (14) | AV11: (15) | BA11: (19) | BF11: (19) | BK11: (20) | BP11: (21) | BU11: (22) | BZ11: (23) | CE11: (24) | CJ11: (25) | CK11: (26) | CL11: (27) | CM11: (28) | CN11: (29) | CO11: (30) | CP11: (31)
A12: =IF(B12="","",SUBTOTAL(3,$B$12:B12)) -> 1 | B12: 13B3080002 | C12: =IF($B12="","",IF(ISNA(VLOOKUP($B12,'DS LOP HKI'!$B$2:$D$1060,2,FALSE))=TRUE,"",VLOOKUP($B12,'DS LOP HKI'!$B$2:$D$1060,2,FALSE))) -> Lâm Thanh | D12: =IF($B12="","",IF(ISNA(VLOOKUP($B12,'DS LOP HKI'!$B$2:$D$1060,3,FALSE))=TRUE,"",VLOOKUP($B12,'DS LOP HKI'!$B$2:$D$1060,3,FALSE))) -> Bình | E12: A | H12: =IF(OR($H$6="",$H$7=""),"",IF($B12="","",IF(ISNA(VLOOKUP($B12,'LT01'!$B$12:$N$51,11,FALSE)),"",IF(VLOOKUP($B12,'LT01'!$B$12:$N$51,11,FALSE)="","",VLOOKUP($B12,'LT01'!$B$12:$N$51,11,FALSE))))) -> 6.3 | I12: =IF(OR($H$6="",$H$7=""),"",IF($B12="","",IF(ISNA(VLOOKUP($B12,'LT01'!$B$12:$N$51,12,FALSE)),"",IF(VLOOKUP($B12,'LT01'!$B$12:$N$51,12,FALSE)="","",VLOOKUP($B12,'LT01'!$B$12:$N$51,12,FALSE))))) -> 6.8 | J12: =IF(OR($H$6="",$H$7=""),"",IF($B12="","",IF(ISNA(VLOOKUP($B12,'LT01'!$B$12:$N$51,13,FALSE)),"",IF(VLOOKUP($B12,'LT01'!$B$12:$N$51,13,FALSE)="","",VLOOKUP($B12,'LT01'!$B$12:$N$51,13,FALSE))))) -> 6.6 | L12: =IF($H$7=0,"",IF(J12="","",IF(K12="","",IF(K12>I12,ROUND((H12*0.4+K12*0.6),1),I12)))) | M12: =IF(OR($M$6="",$M$7=""),"",IF($B12="","",IF(ISNA(VLOOKUP($B12,'LT02'!$B$12:$N$51,11,FALSE)),"",IF(VLOOKUP($B12,'LT02'!$B$12:$N$51,11,FALSE)="","",VLOOKUP($B12,'LT02'!$B$12:$N$51,11,FALSE))))) -> 7.3 | N12: =IF(OR($H$6="",$H$7=""),"",IF($B12="","",IF(ISNA(VLOOKUP($B12,'LT02'!$B$12:$N$51,12,FALSE)),"",IF(VLOOKUP($B12,'LT02'!$B$12:$N$51,12,FALSE)="","",VLOOKUP($B12,'LT02'!$B$12:$N$51,12,FALSE))))) -> 8 | O12: =IF(OR($M$6="",$M$7=""),"",IF($B12="","",IF(ISNA(VLOOKUP($B12,'LT02'!$B$12:$N$51,13,FALSE)),"",IF(VLOOKUP($B12,'LT02'!$B$12:$N$51,13,FALSE)="","",VLOOKUP($B12,'LT02'!$B$12:$N$51,13,FALSE))))) -> 7.7 | Q12: =IF($M$7=0,"",IF(O12="","",IF(P12="","",IF(N12>P12,O12,ROUND((M12*0.4+P12*0.6),1))))) | R12: =IF(OR($R$6="",$R$7=""),"",IF($B12="","",IF(ISNA(VLOOKUP($B12,'LT03'!$B$12:$N$51,11,FALSE)),"",IF(VLOOKUP($B12,'LT03'!$B$12:$N$51,11,FALSE)="","",VLOOKUP($B12,'LT03'!$B$12:$N$51,11,FALSE))))) -> 6.3 | S12: =IF(OR($H$6="",$H$7=""),"",IF($B12="","",IF(ISNA(VLOOKUP($B12,'LT03'!$B$12:$N$51,12,FALSE)),"",IF(VLOOKUP($B12,'LT03'!$B$12:$N$51,12,FALSE)="","",VLOOKUP($B12,'LT03'!$B$12:$N$51,12,FALSE))))) -> 6.6 | T12: =IF(OR($R$6="",$R$7=""),"",IF($B12="","",IF(ISNA(VLOOKUP($B12,'LT03'!$B$12:$N$51,13,FALSE)),"",IF(VLOOKUP($B12,'LT03'!$B$12:$N$51,13,FALSE)="","",VLOOKUP($B12,'LT03'!$B$12:$N$51,13,FALSE))))) -> 6.5 | V12: =IF($R$7=0,"",IF(T12="","",IF(U12="","",IF(S12>U12,T12,ROUND((R12*0.4+U12*0.6),1))))) | W12: =IF(OR($W$6="",$W$7=""),"",IF($B12="","",IF(ISNA(VLOOKUP($B12,'LT04'!$B$12:$N$51,11,FALSE)),"",IF(VLOOKUP($B12,'LT04'!$B$12:$N$51,11,FALSE)="","",VLOOKUP($B12,'LT04'!$B$12:$N$51,11,FALSE))))) -> 5.6 | X12: =IF(OR($H$6="",$H$7=""),"",IF($B12="","",IF(ISNA(VLOOKUP($B12,'LT04'!$B$12:$N$51,12,FALSE)),"",IF(VLOOKUP($B12,'LT04'!$B$12:$N$51,12,FALSE)="","",VLOOKUP($B12,'LT04'!$B$12:$N$51,12,FALSE))))) -> 3 | Y12: =IF(OR($W$6="",$W$7=""),"",IF($B12="","",IF(ISNA(VLOOKUP($B12,'LT04'!$B$12:$N$51,13,FALSE)),"",IF(VLOOKUP($B12,'LT04'!$B$12:$N$51,13,FALSE)="","",VLOOKUP($B12,'LT04'!$B$12:$N$51,13,FALSE))))) -> 4 | AA12: =IF($W$7=0,"",IF(Y12="","",IF(Z12="","",IF(X12>Z12,Y12,ROUND((W12*0.4+Z12*0.6),1))))) | AB12: =IF(OR($AB$6="",$AB$7=""),"",IF($B12="","",IF(ISNA(VLOOKUP($B12,'LT05'!$B$12:$N$51,11,FALSE)),"",IF(VLOOKUP($B12,'LT05'!$B$12:$N$51,11,FALSE)="","",VLOOKUP($B12,'LT05'!$B$12:$N$51,11,FALSE))))) -> 5.3 | AC12: =IF(OR($H$6="",$H$7=""),"",IF($B12="","",IF(ISNA(VLOOKUP($B12,'LT05'!$B$12:$N$51,12,FALSE)),"",IF(VLOOKUP($B12,'LT05'!$B$12:$N$51,12,FALSE)="","",VLOOKUP($B12,'LT05'!$B$12:$N$51,12,FALSE))))) -> 4 | AD12: =IF(OR($AB$6="",$AB$7=""),"",IF($B12="","",IF(ISNA(VLOOKUP($B12,'LT05'!$B$12:$N$51,13,FALSE)),"",IF(VLOOKUP($B12,'LT05'!$B$12:$N$51,13,FALSE)="","",VLOOKUP($B12,'LT05'!$B$12:$N$51,13,FALSE))))) -> 4.5 | AF12: =IF($AB$7=0,"",IF(AD12="","",IF(AE12="","",IF(AC12>AE12,AD12,ROUND((AB12*0.4+AE12*0.6),1))))) | AG12: =IF(OR($AG$6="",$AG$7=""),"",IF($B12="","",IF(ISNA(VLOOKUP($B12,'LT06'!$B$12:$N$51,11,FALSE)),"",IF(VLOOKUP($B12,'LT06'!$B$12:$N$51,11,FALSE)="","",VLOOKUP($B12,'LT06'!$B$12:$N$51,11,FALSE))))) | AH12: =IF(OR($H$6="",$H$7=""),"",IF($B12="","",IF(ISNA(VLOOKUP($B12,'LT06'!$B$12:$N$51,12,FALSE)),"",IF(VLOOKUP($B12,'LT06'!$B$12:$N$51,12,FALSE)="","",VLOOKUP($B12,'LT06'!$B$12:$N$51,12,FALSE))))) | AI12: =IF(OR($AG$6="",$AG$7=""),"",IF($B12="","",IF(ISNA(VLOOKUP($B12,'LT06'!$B$12:$N$51,13,FALSE)),"",IF(VLOOKUP($B12,'LT06'!$B$12:$N$51,13,FALSE)="","",VLOOKUP($B12,'LT06'!$B$12:$N$51,13,FALSE))))) | AK12: =IF($AG$7=0,"",IF(AI12="","",IF(AJ12="","",IF(AH12>AJ12,AI12,ROUND((AG12*0.4+AJ12*0.6),1))))) | AL12: =IF(OR($AL$6="",$AL$7=""),"",IF($B12="","",IF(ISNA(VLOOKUP($B12,'LT07'!$B$12:$N$51,11,FALSE)),"",IF(VLOOKUP($B12,'LT07'!$B$12:$N$51,11,FALSE)="","",VLOOKUP($B12,'LT07'!$B$12:$N$51,11,FALSE))))) | AM12: =IF(OR($H$6="",$H$7=""),"",IF($B12="","",IF(ISNA(VLOOKUP($B12,'LT07'!$B$12:$N$51,12,FALSE)),"",IF(VLOOKUP($B12,'LT07'!$B$12:$N$51,12,FALSE)="","",VLOOKUP($B12,'LT07'!$B$12:$N$51,12,FALSE))))) | AN12: =IF(OR($AL$6="",$AL$7=""),"",IF($B12="","",IF(ISNA(VLOOKUP($B12,'LT07'!$B$12:$N$51,13,FALSE)),"",IF(VLOOKUP($B12,'LT07'!$B$12:$N$51,13,FALSE)="","",VLOOKUP($B12,'LT07'!$B$12:$N$51,13,FALSE))))) | AP12: =IF($AL$7=0,"",IF(AN12="","",IF(AO12="","",IF(AM12>AO12,AN12,ROUND((AL12*0.4+AO12*0.6),1))))) | AQ12: =IF(OR($AQ$6="",$AQ$7=""),"",IF($B12="","",IF(ISNA(VLOOKUP($B12,'LT08'!$B$12:$N$51,11,FALSE)),"",IF(VLOOKUP($B12,'LT08'!$B$12:$N$51,11,FALSE)="","",VLOOKUP($B12,'LT08'!$B$12:$N$51,11,FALSE))))) | AR12: =IF(OR($H$6="",$H$7=""),"",IF($B12="","",IF(ISNA(VLOOKUP($B12,'LT08'!$B$12:$N$51,12,FALSE)),"",IF(VLOOKUP($B12,'LT08'!$B$12:$N$51,12,FALSE)="","",VLOOKUP($B12,'LT08'!$B$12:$N$51,12,FALSE))))) | AS12: =IF(OR($AQ$6="",$AQ$7=""),"",IF($B12="","",IF(ISNA(VLOOKUP($B12,'LT08'!$B$12:$N$51,13,FALSE)),"",IF(VLOOKUP($B12,'LT08'!$B$12:$N$51,13,FALSE)="","",VLOOKUP($B12,'LT08'!$B$12:$N$51,13,FALSE))))) | AU12: =IF($AQ$7=0,"",IF(AS12="","",IF(AT12="","",IF(AR12>AT12,AS12,ROUND((AQ12*0.4+AT12*0.6),1))))) | AV12: =IF(OR($AV$6="",$AV$7=""),"",IF($B12="","",IF(ISNA(VLOOKUP($B12,'LT09'!$B$12:$N$51,11,FALSE)),"",IF(VLOOKUP($B12,'LT09'!$B$12:$N$51,11,FALSE)="","",VLOOKUP($B12,'LT09'!$B$12:$N$51,11,FALSE))))) | AW12: =IF(OR($H$6="",$H$7=""),"",IF($B12="","",IF(ISNA(VLOOKUP($B12,'LT09'!$B$12:$N$51,12,FALSE)),"",IF(VLOOKUP($B12,'LT09'!$B$12:$N$51,12,FALSE)="","",VLOOKUP($B12,'LT09'!$B$12:$N$51,12,FALSE))))) | AX12: =IF(OR($AV$6="",$AV$7=""),"",IF($B12="","",IF(ISNA(VLOOKUP($B12,'LT09'!$B$12:$N$51,13,FALSE)),"",IF(VLOOKUP($B12,'LT09'!$B$12:$N$51,13,FALSE)="","",VLOOKUP($B12,'LT09'!$B$12:$N$51,13,FALSE))))) | AZ12: =IF($AV$7=0,"",IF(AX12="","",IF(AY12="","",IF(AW12>AY12,AX12,ROUND((AV12*0.4+AY12*0.6),1))))) | BC12: =IF(OR($BF$6="",$BF$7=""),"",IF($B12="","",IF(ISNA(VLOOKUP($B12,'DO AN'!$B$12:$N$51,11,FALSE)),"",IF(VLOOKUP($B12,'DO AN'!$B$12:$N$51,11,FALSE)="","",VLOOKUP($B12,'DO AN'!$B$12:$N$51,11,FALSE))))) | BF12: =IF(OR($BF$6="",$BF$7=""),"",IF($B12="","",IF(ISNA(VLOOKUP($B12,'TH01'!$B$12:$N$51,11,FALSE)),"",IF(VLOOKUP($B12,'TH01'!$B$12:$N$51,11,FALSE)="","",VLOOKUP($B12,'TH01'!$B$12:$N$51,11,FALSE))))) -> 6.5 | BG12: =IF(OR($H$6="",$H$7=""),"",IF($B12="","",IF(ISNA(VLOOKUP($B12,'TH01'!$B$12:$N$51,12,FALSE)),"",IF(VLOOKUP($B12,'TH01'!$B$12:$N$51,12,FALSE)="","",VLOOKUP($B12,'TH01'!$B$12:$N$51,12,FALSE))))) -> 7 | BH12: =IF(OR($BF$6="",$BF$7=""),"",IF($B12="","",IF(ISNA(VLOOKUP($B12,'TH01'!$B$12:$N$51,13,FALSE)),"",IF(VLOOKUP($B12,'TH01'!$B$12:$N$51,13,FALSE)="","",VLOOKUP($B12,'TH01'!$B$12:$N$51,13,FALSE))))) -> 6.8 | BJ12: =IF($BF$7=0,"",IF(BH12="","",IF(BI12="","",IF(BG12>BI12,BH12,ROUND((BF12*0.4+BI12*0.6),1))))) | BK12: =IF(OR($BK$6="",$BK$7=""),"",IF($B12="","",IF(ISNA(VLOOKUP($B12,'TH02'!$B$12:$N$51,11,FALSE)),"",IF(VLOOKUP($B12,'TH02'!$B$12:$N$51,11,FALSE)="","",VLOOKUP($B12,'TH02'!$B$12:$N$51,11,FALSE))))) -> 5.3 | BL12: =IF(OR($H$6="",$H$7=""),"",IF($B12="","",IF(ISNA(VLOOKUP($B12,'TH02'!$B$12:$N$51,12,FALSE)),"",IF(VLOOKUP($B12,'TH02'!$B$12:$N$51,12,FALSE)="","",VLOOKUP($B12,'TH02'!$B$12:$N$51,12,FALSE))))) -> 5 | BM12: =IF(OR($BK$6="",$BK$7=""),"",IF($B12="","",IF(ISNA(VLOOKUP($B12,'TH02'!$B$12:$N$51,13,FALSE)),"",IF(VLOOKUP($B12,'TH02'!$B$12:$N$51,13,FALSE)="","",VLOOKUP($B12,'TH02'!$B$12:$N$51,13,FALSE))))) -> 5.1 | BO12: =IF($BK$7=0,"",IF(BM12="","",IF(BN12="","",IF(BL12>BN12,BM12,ROUND((BK12*0.4+BN12*0.6),1))))) | BP12: =IF(OR($BP$6="",$BP$7=""),"",IF($B12="","",IF(ISNA(VLOOKUP($B12,'TH03'!$B$12:$N$51,11,FALSE)),"",IF(VLOOKUP($B12,'TH03'!$B$12:$N$51,11,FALSE)="","",VLOOKUP($B12,'TH03'!$B$12:$N$51,11,FALSE))))) -> 6.9 | BQ12: =IF(OR($H$6="",$H$7=""),"",IF($B12="","",IF(ISNA(VLOOKUP($B12,'TH03'!$B$12:$N$51,12,FALSE)),"",IF(VLOOKUP($B12,'TH03'!$B$12:$N$51,12,FALSE)="","",VLOOKUP($B12,'TH03'!$B$12:$N$51,12,FALSE))))) -> 8 | BR12: =IF(OR($BP$6="",$BP$7=""),"",IF($B12="","",IF(ISNA(VLOOKUP($B12,'TH03'!$B$12:$N$51,13,FALSE)),"",IF(VLOOKUP($B12,'TH03'!$B$12:$N$51,13,FALSE)="","",VLOOKUP($B12,'TH03'!$B$12:$N$51,13,FALSE))))) -> 7.6 | BT12: =IF($BP$7=0,"",IF(BR12="","",IF(BS12="","",IF(BQ12>BS12,BR12,ROUND((BP12*0.4+BS12*0.6),1))))) | BU12: =IF(OR($BU$6="",$BU$7=""),"",IF($B12="","",IF(ISNA(VLOOKUP($B12,'TH04'!$B$12:$N$51,11,FALSE)),"",IF(VLOOKUP($B12,'TH04'!$B$12:$N$51,11,FALSE)="","",VLOOKUP($B12,'TH04'!$B$12:$N$51,11,FALSE))))) | BV12: =IF(OR($H$6="",$H$7=""),"",IF($B12="","",IF(ISNA(VLOOKUP($B12,'TH04'!$B$12:$N$51,12,FALSE)),"",IF(VLOOKUP($B12,'TH04'!$B$12:$N$51,12,FALSE)="","",VLOOKUP($B12,'TH04'!$B$12:$N$51,12,FALSE))))) | BW12: =IF(OR($BU$6="",$BU$7=""),"",IF($B12="","",IF(ISNA(VLOOKUP($B12,'TH04'!$B$12:$N$51,13,FALSE)),"",IF(VLOOKUP($B12,'TH04'!$B$12:$N$51,13,FALSE)="","",VLOOKUP($B12,'TH04'!$B$12:$N$51,13,FALSE))))) | BY12: =IF($BU$7=0,"",IF(BW12="","",IF(BX12="","",IF(BV12>BX12,BW12,ROUND((BU12*0.4+BX12*0.6),1))))) | BZ12: =IF(OR($BZ$6="",$BZ$7=""),"",IF($B12="","",IF(ISNA(VLOOKUP($B12,'TH05'!$B$12:$N$51,11,FALSE)),"",IF(VLOOKUP($B12,'TH05'!$B$12:$N$51,11,FALSE)="","",VLOOKUP($B12,'TH05'!$B$12:$N$51,11,FALSE))))) | CA12: =IF(OR($H$6="",$H$7=""),"",IF($B12="","",IF(ISNA(VLOOKUP($B12,'TH05'!$B$12:$N$51,12,FALSE)),"",IF(VLOOKUP($B12,'TH05'!$B$12:$N$51,12,FALSE)="","",VLOOKUP($B12,'TH05'!$B$12:$N$51,12,FALSE))))) | CB12: =IF(OR($BZ$6="",$BZ$7=""),"",IF($B12="","",IF(ISNA(VLOOKUP($B12,'TH05'!$B$12:$N$51,13,FALSE)),"",IF(VLOOKUP($B12,'TH05'!$B$12:$N$51,13,FALSE)="","",VLOOKUP($B12,'TH05'!$B$12:$N$51,13,FALSE))))) | CD12: =IF($BZ$7=0,"",IF(CB12="","",IF(CC12="","",IF(CA12>CC12,CB12,ROUND((BZ12*0.4+CC12*0.6),1))))) | CE12: =IF(OR($CE$6="",$CE$7=""),"",IF($B12="","",IF(ISNA(VLOOKUP($B12,'TH06'!$B$12:$N$51,11,FALSE)),"",IF(VLOOKUP($B12,'TH06'!$B$12:$N$51,11,FALSE)="","",VLOOKUP($B12,'TH06'!$B$12:$N$51,11,FALSE))))) | CF12: =IF(OR($H$6="",$H$7=""),"",IF($B12="","",IF(ISNA(VLOOKUP($B12,'TH06'!$B$12:$N$51,12,FALSE)),"",IF(VLOOKUP($B12,'TH06'!$B$12:$N$51,12,FALSE)="","",VLOOKUP($B12,'TH06'!$B$12:$N$51,12,FALSE))))) | CG12: =IF(OR($CE$6="",$CE$7=""),"",IF($B12="","",IF(ISNA(VLOOKUP($B12,'TH06'!$B$12:$N$51,13,FALSE)),"",IF(VLOOKUP($B12,'TH06'!$B$12:$N$51,13,FALSE)="","",VLOOKUP($B12,'TH06'!$B$12:$N$51,13,FALSE))))) | CI12: =IF($CE$7=0,"",IF(CG12="","",IF(CH12="","",IF(CF12>CH12,CG12,ROUND((CE12*0.4+CH12*0.6),1))))) | CJ12: =DY12 -> 6.1 | CK12: =FF12 | CM12: =IF(CJ12="","",IF(C12="","",IF(CJ12<4,"Kém",IF(CJ12<5,"Yếu",IF(CJ12<6,"TB",IF(CJ12<7,"TBKhá",IF(CJ12<8,"Khá",IF(CJ12<9,"Giỏi","XS")))))))) -> TBKhá | CN12: =IF(CK12="","",IF(C12="","",IF(CK12<4,"Kém",IF(CK12<5,"Yếu",IF(CK12<6,"TB",IF(CK12<7,"TBKhá",IF(CK12<8,"Khá",IF(CK12<9,"Giỏi","XS")))))))) | CO12: =IF(AND(CJ12>=7,CL12>=70,ISBLANK(CP12)=TRUE,CQ12=0,DH12=0,COUNT(CR12:DG12)>0,COUNT(DI12:DX12)>0),"Xét KT&HB","") | CQ12: =COUNTIF(CR12:DG12,"<5") -> 2 | CR12: =I12 -> 6.8 | CS12: =N12 -> 8 | CT12: =S12 -> 6.6 | CU12: =X12 -> 3 | CV12: =AC12 -> 4 | CW12: =AH12 | CX12: =AM12 | CY12: =AR12 | CZ12: =AW12 | DA12: =BC12 | DB12: =BG12 -> 7 | DC12: =BL12 -> 5 | DD12: =BQ12 -> 8 | DE12: =BV12 | DF12: =CA12 | DG12: =CF12 | DH12: =IF(COUNT(DI12:DX12)=0,"",COUNTIF(DI12:DX12,"<5")) -> 2 | DI12: =J12 -> 6.6 | DJ12: =O12 -> 7.7 | DK12: =T12 -> 6.5 | DL12: =Y12 -> 4 | DM12: =AD12 -> 4.5 | DN12: =AI12 | DO12: =AN12 | DP12: =AS12 | DQ12: =AX12 | DR12: =BC12 | DS12: =BH12 -> 6.8 | DT12: =BM12 -> 5.1 | DU12: =BR12 -> 7.6 | DV12: =BW12 | DW12: =CB12 | DX12: =CG12 | DY12: =IF(COUNT(DI12:DX12)=0,"",ROUND(SUMPRODUCT(DI12:DX12,$DI$7:$DX$7)/SUM($DI$7:$DX$7),1)) -> 6.1 | DZ12: =L12 | EA12: =Q12 | EB12: =V12 | EC12: =AA12 | ED12: =AF12 | EE12: =AK12 | EF12: =AP12 | EG12: =AU12 | EH12: =AZ12 | EI12: =IF(BE12="","",BE12) | EJ12: =BJ12 | EK12: =BO12 | EL12: =BT12 | EM12: =BY12 | EN12: =CD12 | EO12: =CI12 | EP12: =IF(AND(I12="",ISNUMBER(J12),K12=""),J12,IF(I12>=K12,J12,L12)) -> 6.6 | EQ12: =IF(AND(N12="",ISNUMBER(O12),P12=""),O12,IF(N12>=P12,O12,Q12)) -> 7.7 | ER12: =IF(AND(S12="",ISNUMBER(T12),U12=""),T12,IF(S12>=U12,T12,V12)) -> 6.5 | ES12: =IF(AND(X12="",ISNUMBER(Y12),Z12=""),Y12,IF(X12>=Z12,Y12,AA12)) -> 4 | ET12: =IF(AND(AC12="",ISNUMBER(AD12),AE12=""),AD12,IF(AC12>=AE12,AD12,AF12)) -> 4.5 | EU12: =IF(AND(AH12="",ISNUMBER(AI12),AJ12=""),AI12,IF(AH12>=AJ12,AI12,AK12)) | EV12: =IF(AND(AM12="",ISNUMBER(AN12),AO12=""),AN12,IF(AM12>=AO12,AN12,AP12)) | EW12: =IF(AND(AR12="",ISNUMBER(AS12),AT12=""),AS12,IF(AR12>=AT12,AS12,AU12)) | EX12: =IF(AND(AW12="",ISNUMBER(AX12),AY12=""),AX12,IF(AW12>=AY12,AX12,AZ12)) | EY12: =IF(BE12="","",BE12) | EZ12: =IF(AND(BG12="",ISNUMBER(BH12),BI12=""),BH12,IF(BG12>=BI12,BH12,BJ12)) -> 6.8 | FA12: =IF(AND(BL12="",ISNUMBER(BM12),BN12=""),BM12,IF(BL12>=BN12,BM12,BO12)) -> 5.1 | FB12: =IF(AND(BQ12="",ISNUMBER(BR12),BS12=""),BR12,IF(BQ12>=BS12,BR12,BT12)) -> 7.6 | FC12: =IF(AND(BV12="",ISNUMBER(BW12),BX12=""),BW12,IF(BV12>=BX12,BW12,BY12)) | FD12: =IF(AND(CA12="",ISNUMBER(CB12),CC12=""),CB12,IF(CA12>=CC12,CB12,CD12)) | FE12: =IF(AND(CF12="",ISNUMBER(CG12),CH12=""),CG12,IF(CF12>=CH12,CG12,CI12)) | FF12: =IF(COUNT(DZ12:EO12)=0,"",ROUND(SUMPRODUCT(EP12:FE12,$EP$7:$FE$7)/SUM($EP$7:$FE$7),1))
