Workbook
Name \0: '[1]PNT-QUOT-#3'!#REF!
Name \d: '[2]__-BLDG'!#REF!
Name \e: '[2]__-BLDG'!#REF!
Name \f: '[2]__-BLDG'!#REF!
Name \g: '[2]__-BLDG'!#REF!
Name \h: '[2]__-BLDG'!#REF!
Name \i: '[2]__-BLDG'!#REF!
Name \j: '[2]__-BLDG'!#REF!
Name \k: '[2]__-BLDG'!#REF!
Name \l: '[2]__-BLDG'!#REF!
Name \m: '[2]__-BLDG'!#REF!
Name \n: '[2]__-BLDG'!#REF!
Name \o: '[2]__-BLDG'!#REF!
Name \z: '[1]COAT&WRAP-QIOT-#3'!#REF!
Name _1: #N/A
Name _1000A01: #N/A
Name _2: #N/A
Name _A65700: '[3]MTO REV.2(ARMOR)'!#REF!
Name _A65800: '[3]MTO REV.2(ARMOR)'!#REF!
Name _A66000: '[3]MTO REV.2(ARMOR)'!#REF!
Name _A67000: '[3]MTO REV.2(ARMOR)'!#REF!
Name _A68000: '[3]MTO REV.2(ARMOR)'!#REF!
Name _A70000: '[3]MTO REV.2(ARMOR)'!#REF!
Name _A75000: '[3]MTO REV.2(ARMOR)'!#REF!
Name _A85000: '[3]MTO REV.2(ARMOR)'!#REF!
Name _CON1: #REF!
Name _CON2: #REF!
Name _NET2: #REF!
Name A: '[1]PNT-QUOT-#3'!#REF!
Name A01_: #N/A
Name A01AC: #N/A
Name A01CAT: #N/A
Name A01CODE: #N/A
Name A01DATA: #N/A
Name A01MI: #N/A
Name A01TO: #N/A
Name A60000.: #REF!
Name AA: #REF!
Name AAA: '[4]MTL$-INTER'!#REF!
Name All_Item: #REF!
Name ALPIN: #N/A
Name ALPJYOU: #N/A
Name ALPTOI: #N/A
Name B: '[1]PNT-QUOT-#3'!#REF!
Name BB: #REF!
Name BOQ: #REF!
Name BVCISUMMARY: #REF!
Name CABLE2: '[5]MTO REV.0'!$A$1:$Q$570
Name Category_All: #REF!
Name CATIN: #N/A
Name CATJYOU: #N/A
Name CATSYU: #N/A
Name CATREC: #N/A
Name COAT: '[1]PNT-QUOT-#3'!#REF!
Name COMMON: #REF!
Name CON_EQP_COS: #REF!
Name CON_EQP_COST: #REF!
Name CONST_EQ: #REF!
Name COVER: #REF!
Name CRITINST: #REF!

Sheet Hướng dẫn
A1: Quy trình nhập điểm lớp cố định trùng với lớp giảng dạy
A2: File dùng chung giữa GVCN và GVBM
A3: STT | B3: Bảng tính | C3: Công việc thực hiện | D3: Thực hiện
A4: 1 | B4: Vào bảng tính DS LOP HKI | C4: Sort theo tên lớp, sau đó chọn toàn bộ MSHS (mã số học sinh) của lớp, nhấn phím Ctrl-C để chép mã số HS | D4: GVCN
A5: 2 | B5: Vào bảng tính HKI | C5: Kích vào ô đầu tiên của mã số học sinh (ô B12), nhấn Ctrl-V.
C6: Ghi chú: Danh sách HS và tên lớp sẽ được truyền tự động vào cho các bảng tính của HKI và các bảng tính tổng kết từng học phần.
A7: 3 | B7: Vào bảng tính MON HOC HKI | C7: Tên học phần và số Đơn vị học trình nằm ở bảng tính này, Quý Thầy Cô vào bảng tính này để biết học phần XYZ muốn nhập điểm nằm ở bảng tính ABC nào. | D7: GVBM
A8: 4 | B8: Vào bảng tính ABC tương ứng theo từng học phần XYZ quy định trong bước 3 | C8: Nhập các điểm thành phần vào từng cột tương ứng
C9: Ghi chú: Thứ tự danh sách trong các bảng tính đã thống nhất, do đó bắt buộc đảm bảo độ chính xác của giữa các điểm thành phần với MSHS tương ứng.
C10: Lưu ý: Đối với học sinh bảo lưu, chỉ cần nhập điểm vào cột Điểm bảo lưu, các cột còn lại không nhập.
C11: Ghi chú: Nếu GVCN có file tổng kết học phần của GVBM, hãy kiểm tra lại danh sách đảm bảo yêu cầu trùng khớp theo thứ tự thì có thể chép các cột điểm thành phần vào cho từng bảng tính học phần như GVBM. | D11: GVCN
A12: 5 | B12: Vào bảng tính HKI | C12: Kiểm tra lại lần cuối. Nhập số ngày nghỉ không phép, có phép, và điểm kết quả rèn luyện vào các cột tương ứng.
B13: Để thống nhất trong việc quản lý điểm số của HSSV trong toàn trường, sau khi hoàn thành bảng tính, xin Quý Thầy Cô lưu lại file theo định dạng: tenlop_hocky_nămhọc (ví dụ 13TC-ĐT1_HKI_NH14-15) và gởi bằng mail cho Khoa, Phòng Phòng CTHSSV, Phòng Đào tạo (kqht.lytutrong@gmail.com) và Phòng KT&KDCLGD (khaothiltt@gmail.com).
B14: Ghi chú: Trước khi thông báo kết quả học tập cho SV, xin quý Thầy Cô gởi file thông qua địa chỉ mail của phòng để kiểm tra, đối chiếu với các bảng điểm tổng kết học phần nhằm hạn chế sai sót. Nếu bảng tính có sai sót, phòng sẽ báo bằng mail hoặc điện thoại trực tiếp cho quý Thầy Cô hiệu chỉnh. Khi bảng tính đạt yêu cầu, phòng sẽ phản hồi lại quý Thầy Cô, để nhập điểm KQRL.
B15: Nếu Quý Thầy Cô có vướng mắc gì, xin gởi mail qua địa chỉ: kqht.lytutrong@gmail.com hoặc khaothiltt@gmail.com hoặc liên hệ trực tiếp với Phòng Đào tạo hoặc Phòng Khảo thí và Đảm bảo chất lượng.

Sheet DS LOP HKI
A1: STT | B1: MSHS | C1: Họ | D1: Tên | E1: Ngày sinh | F1: Lớp | G1: Phái | H1: Hệ | I1: DANH SÁCH NGÀY 08/12/2014 | K1: =MAX(A:A) -> 29 | L1: =COUNTIF(J:J,"13") -> 217 | M1: =COUNTIF(J:J,"14") -> 0
A2: 1 | B2: 13B3150001 | C2: Nguyễn Cao Tuấn | D2: Anh | E2: 28.12.95 | F2: 13TC-ĐT | H2: B | J2: =LEFT(F2,2) -> 13
A3: 2 | B3: 13B3150002 | C3: Nguyễn Thanh | D3: Bình | E3: 15.01.89 | F3: 13TC-ĐT | H3: B | J3: =LEFT(F3,2) -> 13
A4: 3 | B4: 13B3150027 | C4: Văn Phú | D4: Cường | E4: 10.09.93 | F4: 13TC-ĐT | H4: B | J4: =LEFT(F4,2) -> 13
A5: 4 | B5: 13B3150005 | C5: Trần Nhân | D5: Đạo | E5: 23.11.94 | F5: 13TC-ĐT | H5: B | J5: =LEFT(F5,2) -> 13
A6: 5 | B6: 13B3150028 | C6: Phạm | D6: Hiền | E6: 27.02.95 | F6: 13TC-ĐT | G6: LT | H6: A | J6: =LEFT(F6,2) -> 13
A7: 6 | B7: 13B3150032 | C7: Đỗ Khắc Bảo | D7: Hoàng | E7: 12.10.95 | F7: 13TC-ĐT | H7: B | J7: =LEFT(F7,2) -> 13
A8: 7 | B8: 13B3150008 | C8: Trần Đức | D8: Huệ | E8: 01.05.93 | F8: 13TC-ĐT | H8: B | J8: =LEFT(F8,2) -> 13
A9: 8 | B9: 13B3150009 | C9: Trần Bá | D9: Khánh | E9: 20.10.95 | F9: 13TC-ĐT | G9: LPKL | H9: B | J9: =LEFT(F9,2) -> 13
A10: 9 | B10: 13B3150010 | C10: Nguyễn Thành | D10: Khương | E10: 21.03.95 | F10: 13TC-ĐT | H10: A | J10: =LEFT(F10,2) -> 13
A11: 10 | B11: 13B3150011 | C11: Trần Văn | D11: Ngọc | E11: 17.05.95 | F11: 13TC-ĐT | H11: A | J11: =LEFT(F11,2) -> 13
A12: 11 | B12: 13B3150031 | C12: Bùi Thiện | D12: Toàn | E12: 28.07.95 | F12: 13TC-ĐT | G12: LPHT | H12: A | J12: =LEFT(F12,2) -> 13
A13: 12 | B13: 13B3150021 | C13: Nguyễn Đình | D13: Trí | E13: 07.11.93 | F13: 13TC-ĐT | H13: B | J13: =LEFT(F13,2) -> 13
A14: 13 | B14: 13B3150022 | C14: Ngô Văn Minh | D14: Trong | E14: 27.06.92 | F14: 13TC-ĐT | H14: B | J14: =LEFT(F14,2) -> 13
A15: 1 | B15: 13B3080001 | C15: Mai Trần Tuấn | D15: Anh | E15: 22.09.93 | F15: 13TC-Đ1 | H15: B | J15: =LEFT(F15,2) -> 13
A16: 2 | B16: 13B3080005 | C16: Dương Hữu | D16: Công | E16: 21.07.93 | F16: 13TC-Đ1 | H16: B | J16: =LEFT(F16,2) -> 13
A17: 3 | B17: 13B3080007 | C17: Nguyễn Văn | D17: Cường | E17: 16.09.90 | F17: 13TC-Đ1 | H17: B | J17: =LEFT(F17,2) -> 13
A18: 4 | B18: 13B3080015 | C18: Phạm Phú | D18: Duy | E18: 26.05.93 | F18: 13TC-Đ1 | H18: B | J18: =LEFT(F18,2) -> 13
A19: 5 | B19: 13B3080019 | C19: Phạm Văn | D19: Được | E19: 27.02.95 | F19: 13TC-Đ1 | H19: B | J19: =LEFT(F19,2) -> 13
A20: 6 | B20: 13B3080023 | C20: Nguyễn Thanh | D20: Hiền | E20: 20.06.93 | F20: 13TC-Đ1 | H20: B | J20: =LEFT(F20,2) -> 13
A21: 7 | B21: 13B3080025 | C21: Hoàng Duy | D21: Hợi | E21: 28.08.91 | F21: 13TC-Đ1 | H21: B | J21: =LEFT(F21,2) -> 13
A22: 8 | B22: 13B3080091 | C22: Hồ Xuân | D22: Hùng | E22: 28.10.94 | F22: 13TC-Đ1 | H22: B | J22: =LEFT(F22,2) -> 13
A23: 9 | B23: 13B3080027 | C23: Nguyễn Quốc | D23: Hưng | E23: 20.07.94 | F23: 13TC-Đ1 | H23: B | J23: =LEFT(F23,2) -> 13
A24: 10 | B24: 13B3080029 | C24: Hồ Gia | D24: Huy | E24: 17.12.93 | F24: 13TC-Đ1 | H24: B | J24: =LEFT(F24,2) -> 13
A25: 11 | B25: 13B3080031 | C25: Phùng Xương | D25: Huy | E25: 29.09.95 | F25: 13TC-Đ1 | H25: B | I25: DT.Hoa | J25: =LEFT(F25,2) -> 13
A26: 12 | B26: 13B3080039 | C26: Hoàng Ngọc | D26: Linh | E26: 06.11.95 | F26: 13TC-Đ1 | G26: LT | H26: B | J26: =LEFT(F26,2) -> 13
A27: 13 | B27: 13B3080049 | C27: Đào Văn | D27: Phấn | E27: 24.09.95 | F27: 13TC-Đ1 | H27: B | I27: con TB 3/4 | J27: =LEFT(F27,2) -> 13
A28: 14 | B28: 13B3080051 | C28: Ngô Hoài | D28: Phong | E28: 02.09.92 | F28: 13TC-Đ1 | G28: LPHT | H28: A | J28: =LEFT(F28,2) -> 13
A29: 15 | B29: 13B3080055 | C29: Nguyễn Minh | D29: Phương | E29: 16.10.94 | F29: 13TC-Đ1 | H29: A | J29: =LEFT(F29,2) -> 13
A30: 16 | B30: 13B3080057 | C30: Trương Văn | D30: Phượng | E30: 07.05.93 | F30: 13TC-Đ1 | H30: B | J30: =LEFT(F30,2) -> 13
A31: 17 | B31: 13B3080061 | C31: Nguyễn Văn | D31: Quý | E31: 07.04.92 | F31: 13TC-Đ1 | H31: B | J31: =LEFT(F31,2) -> 13
A32: 18 | B32: 13B3080063 | C32: Nguyễn Hữu | D32: Quyết | E32: 29.11.95 | F32: 13TC-Đ1 | H32: B | J32: =LEFT(F32,2) -> 13
A33: 19 | B33: 13B3080092 | C33: Nguyễn Nhật | D33: Tâm | E33: 20.10.95 | F33: 13TC-Đ1 | H33: B | J33: =LEFT(F33,2) -> 13
A34: 20 | B34: 13B3080069 | C34: Võ Thiện | D34: Thành | E34: 02.07.91 | F34: 13TC-Đ1 | H34: B | J34: =LEFT(F34,2) -> 13
A35: 21 | B35: 13B3080097 | C35: Hoàng Quang | D35: Thọ | E35: 10.07.93 | F35: 13TC-Đ1 | H35: B | I35: DT.Tày* | J35: =LEFT(F35,2) -> 13
A36: 22 | B36: 13B3080071 | C36: Vương Hoàng | D36: Thọ | E36: 10.10.88 | F36: 13TC-Đ1 | H36: B | I36: DT.Hoa | J36: =LEFT(F36,2) -> 13
A37: 23 | B37: 13B3080103 | C37: Lê Huyền | D37: Thoại | E37: 23.02.94 | F37: 13TC-Đ1 | H37: B | J37: =LEFT(F37,2) -> 13
A38: 24 | B38: 13B3080081 | C38: Vũ Minh | D38: Toàn | E38: 02.08.95 | F38: 13TC-Đ1 | H38: B | J38: =LEFT(F38,2) -> 13
A39: 25 | B39: 13B3080095 | C39: Bùi Việt | D39: Tòng | E39: 03.04.95 | F39: 13TC-Đ1 | H39: B | J39: =LEFT(F39,2) -> 13
A40: 1 | B40: 13B3080002 | C40: Lâm Thanh | D40: Bình | E40: 27.03.94 | F40: 13TC-Đ2 | H40: A | J40: =LEFT(F40,2) -> 13
A41: 2 | B41: 13B3080004 | C41: Nguyễn | D41: Cảnh | E41: 10.02.95 | F41: 13TC-Đ2 | H41: B | J41: =LEFT(F41,2) -> 13
A42: 3 | B42: 13B3080104 | C42: Lê Minh | D42: Cường | E42: 04.07.94 | F42: 13TC-Đ2 | H42: B | J42: =LEFT(F42,2) -> 13
A43: 4 | B43: 13B3080008 | C43: Cao Thành | D43: Danh | E43: 30.11.93 | F43: 13TC-Đ2 | H43: B | J43: =LEFT(F43,2) -> 13
A44: 5 | B44: 13B3080010 | C44: Nguyễn Tiến | D44: Dũng | E44: 24.10.91 | F44: 13TC-Đ2 | H44: B | J44: =LEFT(F44,2) -> 13
A45: 6 | B45: 13B3080012 | C45: Võ Hồng | D45: Dương | E45: 19.03.92 | F45: 13TC-Đ2 | H45: B | J45: =LEFT(F45,2) -> 13
A46: 7 | B46: 13B3080016 | C46: Nguyễn Quang | D46: Đại | E46: 05.08.95 | F46: 13TC-Đ2 | H46: B | J46: =LEFT(F46,2) -> 13
A47: 8 | B47: 13B3080018 | C47: Nguyễn Hồng | D47: Đức | E47: 26.03.91 | F47: 13TC-Đ2 | G47: LT | H47: A | J47: =LEFT(F47,2) -> 13
A48: 9 | B48: 13B3080100 | C48: Nguyễn Hoàng | D48: Gia | E48: 17.09.92 | F48: 13TC-Đ2 | G48: LPHT | H48: B | J48: =LEFT(F48,2) -> 13
A49: 10 | B49: 13B3080026 | C49: Nguyễn Cảnh | D49: Hưng | E49: 31.10.94 | F49: 13TC-Đ2 | G49: LPKL | H49: A | J49: =LEFT(F49,2) -> 13
A50: 11 | B50: 13B3080030 | C50: Lê Quốc | D50: Huy | E50: 10.10.92 | F50: 13TC-Đ2 | H50: B | J50: =LEFT(F50,2) -> 13
A51: 12 | B51: 13B3080032 | C51: Nguyễn Văn | D51: Khánh | E51: 17.08.95 | F51: 13TC-Đ2 | H51: B | J51: =LEFT(F51,2) -> 13
A52: 13 | B52: 13B3080034 | C52: Lê Quang | D52: Kính | E52: 27.01.94 | F52: 13TC-Đ2 | H52: B | J52: =LEFT(F52,2) -> 13
A53: 14 | B53: 13B3080036 | C53: Trần Trung | D53: Lâm | E53: 21.04.95 | F53: 13TC-Đ2 | H53: B | J53: =LEFT(F53,2) -> 13
A54: 15 | B54: 13B3080046 | C54: Huỳnh Trung | D54: Ngãi | E54: 27.10.95 | F54: 13TC-Đ2 | H54: B | J54: =LEFT(F54,2) -> 13
A55: 16 | B55: 13B3080090 | C55: Nguyễn Văn | D55: Phong | E55: 07.02.95 | F55: 13TC-Đ2 | H55: B | J55: =LEFT(F55,2) -> 13
A56: 17 | B56: 13B3080052 | C56: Trần Nguyễn Chí | D56: Phong | E56: 08.08.94 | F56: 13TC-Đ2 | H56: B | J56: =LEFT(F56,2) -> 13
A57: 18 | B57: 13B3080054 | C57: Nguyễn Hữu | D57: Phước | E57: 04.02.95 | F57: 13TC-Đ2 | H57: B | J57: =LEFT(F57,2) -> 13
A58: 19 | B58: 13B3080058 | C58: Nguyễn Hoàng | D58: Quân | E58: 09.03.94 | F58: 13TC-Đ2 | H58: A | J58: =LEFT(F58,2) -> 13
A59: 20 | B59: 13B3080060 | C59: Nguyễn Minh | D59: Quy | E59: 30.05.94 | F59: 13TC-Đ2 | H59: B | J59: =LEFT(F59,2) -> 13
A60: 21 | B60: 13B3080096 | C60: Thái Hoàng | D60: Tâm | E60: 22.06.95 | F60: 13TC-Đ2 | H60: B | J60: =LEFT(F60,2) -> 13
A61: 22 | B61: 13B3080066 | C61: Nguyễn Đức | D61: Thắng | E61: 03.03.95 | F61: 13TC-Đ2 | H61: B | J61: =LEFT(F61,2) -> 13
... A64: 25 | B64: 13B3080070 | C64: Mai Quí | D64: Thiện | E64: 23.09.89 | F64: 13TC-Đ2 | H64: A | J64: =LEFT(F64,2) -> 13
A65: 26 | B65: 13B3080076 | C65: Phạm Văn | D65: Thương | E65: 02.05.95 | F65: 13TC-Đ2 | H65: B | I65: con TB 4/4 | J65: =LEFT(F65,2) -> 13
A66: 27 | B66: 13B3080078 | C66: Châu Quốc | D66: Toản | E66: 12.01.95 | F66: 13TC-Đ2 | H66: B | J66: =LEFT(F66,2) -> 13
A67: 28 | B67: 13B3080082 | C67: Phan Minh | D67: Trí | E67: 10.12.95 | F67: 13TC-Đ2 | H67: B | J67: =LEFT(F67,2) -> 13
A68: 29 | B68: 13B3080083 | C68: Nguyễn Tứ | D68: Tuần | E68: 25.12.88 | F68: 13TC-Đ2 | H68: B | J68: =LEFT(F68,2) -> 13
A69: 1 | B69: 13B2190051 | C69: Nguyễn Chí | D69: Bình | E69: 02.03.93 | F69: 13TC-ĐL | H69: B | J69: =LEFT(F69,2) -> 13
A70: 2 | B70: 13B2190002 | C70: Trần Quốc | D70: Công | E70: 04.01.95 | F70: 13TC-ĐL | H70: B | J70: =LEFT(F70,2) -> 13
A71: 3 | B71: 13B2190041 | C71: Võ Ngọc Thạch Đại | D71: Dương | E71: 19.09.93 | F71: 13TC-ĐL | G71: LT | H71: A | J71: =LEFT(F71,2) -> 13
A72: 4 | B72: 13B2190003 | C72: Nguyễn Văn | D72: Đức | E72: 17.07.94 | F72: 13TC-ĐL | H72: B | J72: =LEFT(F72,2) -> 13
A73: 5 | B73: 13B2190004 | C73: Lê Sỹ | D73: Giáp | E73: 17.01.95 | F73: 13TC-ĐL | H73: B | J73: =LEFT(F73,2) -> 13
A74: 6 | B74: 13B2190039 | C74: Nguyễn Trọng | D74: Hiếu | E74: 30.10.91 | F74: 13TC-ĐL | H74: A | J74: =LEFT(F74,2) -> 13
A75: 7 | B75: 13B2190005 | C75: Nguyễn Trung | D75: Hiếu | E75: 11.06.93 | F75: 13TC-ĐL | H75: A | J75: =LEFT(F75,2) -> 13
A76: 8 | B76: 13B2190006 | C76: Phạm Tấn | D76: Hiếu | E76: 04.10.94 | F76: 13TC-ĐL | H76: B | J76: =LEFT(F76,2) -> 13
A77: 9 | B77: 13B2190008 | C77: Phạm Cao | D77: Hoàng | E77: 21.02.95 | F77: 13TC-ĐL | H77: B | J77: =LEFT(F77,2) -> 13
A78: 10 | B78: 13B2190009 | C78: Chướng Sẹc | D78: Hôn | E78: 13.02.94 | F78: 13TC-ĐL | H78: B | I78: DT.Hoa | J78: =LEFT(F78,2) -> 13
A79: 11 | B79: 13B2190010 | C79: Lê | D79: Huân | E79: 16.06.94 | F79: 13TC-ĐL | H79: B | J79: =LEFT(F79,2) -> 13
A80: 12 | B80: 13B2190013 | C80: Võ Tấn | D80: Hưng | E80: 11.01.94 | F80: 13TC-ĐL | H80: B | J80: =LEFT(F80,2) -> 13
A81: 13 | B81: 13B2190048 | C81: Manh Văn | D81: Kha | E81: 20.04.94 | F81: 13TC-ĐL | H81: B | J81: =LEFT(F81,2) -> 13
A82: 14 | B82: 13B2190015 | C82: Lương Trí | D82: Khải | E82: 28.11.95 | F82: 13TC-ĐL | H82: A | I82: DT.Hoa | J82: =LEFT(F82,2) -> 13
A83: 15 | B83: 13B2190017 | C83: Nguyễn Hoàng Đăng | D83: Khoa | E83: 08.12.95 | F83: 13TC-ĐL | H83: A | J83: =LEFT(F83,2) -> 13
A84: 16 | B84: 13B2190018 | C84: Nguyễn Cao | D84: Kỳ | E84: 11.07.91 | F84: 13TC-ĐL | H84: A | J84: =LEFT(F84,2) -> 13
A85: 17 | B85: 13B2190019 | C85: Nguyễn Ngọc | D85: Mạnh | E85: 03.05.94 | F85: 13TC-ĐL | H85: B | J85: =LEFT(F85,2) -> 13
A86: 18 | B86: 13B2190020 | C86: Lê Văn | D86: Nam | E86: 25.12.93 | F86: 13TC-ĐL | H86: B | J86: =LEFT(F86,2) -> 13
A87: 19 | B87: 13B2190022 | C87: Cún A | D87: Phúc | E87: 15.02.94 | F87: 13TC-ĐL | H87: B | I87: DT.Hoa | J87: =LEFT(F87,2) -> 13
A88: 20 | B88: 13B2190026 | C88: Nguyễn Trung | D88: Tân | E88: 23.08.94 | F88: 13TC-ĐL | H88: B | J88: =LEFT(F88,2) -> 13
A89: 21 | B89: 13B2190030 | C89: Huỳnh Minh | D89: Trí | E89: 12.04.94 | F89: 13TC-ĐL | H89: A | J89: =LEFT(F89,2) -> 13
A90: 22 | B90: 13B2190031 | C90: Nguyễn Văn | D90: Trượng | E90: 18.05.92 | F90: 13TC-ĐL | G90: LPHT | H90: B | J90: =LEFT(F90,2) -> 13
A91: 23 | B91: 13B2190032 | C91: Phạm Minh | D91: Trường | E91: 25.08.94 | F91: 13TC-ĐL | H91: B | J91: =LEFT(F91,2) -> 13
A92: 24 | B92: 13B2190033 | C92: Kiên Thanh | D92: Tùng | E92: 15.04.94 | F92: 13TC-ĐL | H92: B | I92: DT.Khơmer(koMG) | J92: =LEFT(F92,2) -> 13
A93: 25 | B93: 13B2190035 | C93: Phan Thanh | D93: Vĩnh | E93: 15.10.90 | F93: 13TC-ĐL | H93: B | J93: =LEFT(F93,2) -> 13
A94: 26 | B94: 13B2190049 | C94: Ông Đặng Hải | D94: Triều | E94: 08.11.94 | F94: 13TC-ĐL | H94: B | I94: Điều chỉnh HT | J94: =LEFT(F94,2) -> 13
A95: 1 | B95: 13B2040001 | C95: Trần Phi | D95: Ân | E95: 10.01.95 | F95: 13TC-CKT | H95: B | J95: =LEFT(F95,2) -> 13
A96: 2 | B96: 13B2040037 | C96: Ngô Thiên | D96: Bảo | E96: 02.10.93 | F96: 13TC-CKT | H96: A | I96: VPNQ01/12/14CC | J96: =LEFT(F96,2) -> 13
A97: 3 | B97: 13B2040005 | C97: Lâm Minh | D97: Cường | E97: 19.09.95 | F97: 13TC-CKT | H97: B | J97: =LEFT(F97,2) -> 13
A98: 4 | B98: 13B2040041 | C98: Huỳnh Minh | D98: Dương | E98: 13.07.93 | F98: 13TC-CKT | H98: B | J98: =LEFT(F98,2) -> 13
A99: 5 | B99: 13B2040042 | C99: Trần Xuân | D99: Giang | E99: 20.01.94 | F99: 13TC-CKT | H99: B | J99: =LEFT(F99,2) -> 13
A100: 6 | B100: 13B2040008 | C100: Lâm Văn | D100: Hết | E100: 1995 | F100: 13TC-CKT | G100: LT | H100: B | J100: =LEFT(F100,2) -> 13
A101: 7 | B101: 13B2040043 | C101: Trần Duy | D101: Hiếu | E101: 02.05.94 | F101: 13TC-CKT | H101: B | J101: =LEFT(F101,2) -> 13
A102: 8 | B102: 13B2040010 | C102: Nguyễn Minh | D102: Hoàng | E102: 02.03.93 | F102: 13TC-CKT | H102: B | I102: VPNQ01/12/14CC | J102: =LEFT(F102,2) -> 13
...

Sheet MON HOC HKI
A1: SỐ ĐƠN VỊ HỌC TRÌNH VÀ SỐ CỘT ĐIỂM KIỂM TRA THƯỜNG XUYÊN ; ĐỊNH KỲ (HỆ SỐ 1 & 2) TỐI THIỂU CỦA HỌC KỲ I / 2014-2015 Bậc đào tạo : Trung cấp Chuyên nghiệp-Khóa 2013
A2: TT | B2: LỚP | C2: SHEET | D2: TÊN HỌC PHẦN | E2: Số ĐVHT | F2: SỐ ĐƠN VỊ HỌC TRÌNH | H2: Số cột điểm KT TX tối thiểu | I2: Số cột điểm KT ĐK tối thiểu | J2: GHI CHÚ | L2: =MAX(L4:L115) -> 9 | M2: =MAX(M4:M115) -> 6 | N2: =MAX(N4:N115) -> 13
F3: Lý thuyết | G3: Thực hành
A4: 1 | B4: 13TC-ĐT | C4: LT01 | D4: Anh văn chuyên ngành | E4: =F4+G4 -> 2 | F4: 2 | H4: 1 | I4: 1 | K4: =SUM(F4:G17) -> 24 | L4: =COUNTA(F4:F17) -> 5 | M4: =COUNTA(G4:G17) -> 4 | N4: =COUNTA(D4:D17) -> 9
C5: LT02 | D5: Kỹ thuật vi xử lý | E5: =F5+G5 -> 2 | F5: 2 | H5: 1 | I5: 1
C6: LT03 | D6: Điều khiển lập trình PLC | E6: =F6+G6 -> 3 | F6: 3 | H6: 1 | I6: 1
C7: LT04 | D7: Kỹ thuật vi điều khiển | E7: =F7+G7 -> 2 | F7: 2 | H7: 1 | I7: 1
C8: LT05 | D8: KT truyền thanh - truyền hình | E8: =F8+G8 -> 3 | F8: 3 | H8: 1 | I8: 1
C9: LT06 | E9: =F9+G9 -> 0
C10: LT07 | E10: =F10+G10 -> 0
C11: LT08 | E11: =F11+G11 -> 0
C12: LT09 | E12: =F12+G12 -> 0
C13: DO AN | E13: =F13+G13 -> 0
C14: TH01 | D14: TT KT mạch tương tự - cảm biến | E14: =F14+G14 -> 3 | G14: 3 | H14: 1 | I14: 1
C15: TH02 | D15: TT Điện tử công suất | E15: =F15+G15 -> 3 | G15: 3 | H15: 1 | I15: 1
C16: TH03 | D16: TT Kỹ thuật vi xử lý | E16: =F16+G16 -> 2 | G16: 2 | H16: 1 | I16: 1
C17: TH04 | D17: TT PLC | E17: =F17+G17 -> 4 | G17: 4 | H17: 1 | I17: 2
C18: TH05 | E18: =F18+G18 -> 0
C19: TH06 | E19: =F19+G19 -> 0
A20: 2 | B20: 13TC-Đ1, 2 | C20: LT01 | D20: Anh văn chuyên ngành | E20: =F20+G20 -> 2 | F20: 2 | H20: 1 | I20: 1 | K20: =SUM(F20:G32) -> 24 | L20: =COUNTA(F20:F32) -> 5 | M20: =COUNTA(G20:G32) -> 3 | N20: =COUNTA(D20:D32) -> 8
C21: LT02 | D21: Cơ kỹ thuật | E21: =F21+G21 -> 2 | F21: 2 | H21: 1 | I21: 1
C22: LT03 | D22: Trang bị điện | E22: =F22+G22 -> 4 | F22: 4 | H22: 1 | I22: 2
C23: LT04 | D23: Điều khiển lập trình (PLC) | E23: =F23+G23 -> 3 | F23: 3 | H23: 1 | I23: 1
C24: LT05 | D24: Điều khiển điện - khí nén | E24: =F24+G24 -> 2 | F24: 2 | H24: 1 | I24: 1
C25: LT06 | E25: =F25+G25 -> 0
C26: LT07 | E26: =F26+G26 -> 0
C27: LT08 | E27: =F27+G27 -> 0
C28: LT09 | E28: =F28+G28 -> 0
C29: DO AN | E29: =F29+G29 -> 0
C30: TH01 | D30: Thực tập Sửa chữa máy điện | E30: =F30+G30 -> 4 | G30: 4 | H30: 1 | I30: 2
C31: TH02 | D31: Thực tập Sửa chữa điện | E31: =F31+G31 -> 4 | G31: 4 | H31: 1 | I31: 2
C32: TH03 | D32: Thực tập Trang bị điện-Điện tử CB | E32: =F32+G32 -> 3 | G32: 3 | H32: 1 | I32: 1
C33: TH04 | E33: =F33+G33 -> 0
C34: TH05 | E34: =F34+G34 -> 0
C35: TH06 | E35: =F35+G35 -> 0
A36: 3 | B36: 13TC-ĐL | C36: LT01 | D36: Anh văn chuyên ngành | E36: =F36+G36 -> 2 | F36: 2 | H36: 1 | I36: 1 | K36: =SUM(F36:G49) -> 25 | L36: =COUNTA(F36:F49) -> 4 | M36: =COUNTA(G36:G49) -> 4 | N36: =COUNTA(D36:D49) -> 8
C37: LT02 | D37: Cơ kỹ thuật | E37: =F37+G37 -> 2 | F37: 2 | H37: 1 | I37: 1
C38: LT03 | D38: Kỹ thuật lạnh công nghiệp | E38: =F38+G38 -> 5 | F38: 5 | H38: 1 | I38: 2
C39: LT04 | D39: Điều hòa không khí | E39: =F39+G39 -> 4 | F39: 4 | H39: 1 | I39: 2
C40: LT05 | E40: =F40+G40 -> 0
C41: LT06 | E41: =F41+G41 -> 0
C42: LT07 | E42: =F42+G42 -> 0
C43: LT08 | E43: =F43+G43 -> 0
C44: LT09 | E44: =F44+G44 -> 0
C45: DO AN | E45: =F45+G45 -> 0
C46: TH01 | D46: TT Sửa chữa máy lạnh | E46: =F46+G46 -> 3 | G46: 3 | H46: 1 | I46: 1
C47: TH02 | D47: TT Sửa chữa tủ lạnh nâng cao | E47: =F47+G47 -> 3 | G47: 3 | H47: 1 | I47: 1
C48: TH03 | D48: TT Trang bị điện | E48: =F48+G48 -> 3 | G48: 3 | H48: 1 | I48: 1
C49: TH04 | D49: TT Lắp đặt vận hành bảo trì hệ thống lạnh công nghiệp | E49: =F49+G49 -> 3 | G49: 3 | H49: 1 | I49: 1
C50: TH05 | E50: =F50+G50 -> 0
C51: TH06 | E51: =F51+G51 -> 0
A52: 4 | B52: 13TC-CKT | C52: LT01 | D52: Anh văn chuyên ngành | E52: =F52+G52 -> 2 | F52: 2 | H52: 1 | I52: 1 | K52: =SUM(F52:G63) -> 32 | L52: =COUNTA(F52:F63) -> 9 | M52: =COUNTA(G52:G63) -> 1 | N52: =COUNTA(D52:D63) -> 10
C53: LT02 | D53: Kỹ thuật điện | E53: =F53+G53 -> 3 | F53: 3 | H53: 1 | I53: 1
C54: LT03 | D54: Nguyên lý - Chi tiết máy | E54: =F54+G54 -> 5 | F54: 5 | H54: 1 | I54: 2
C55: LT04 | D55: Máy cắt kim loại | E55: =F55+G55 -> 5 | F55: 5 | H55: 1 | I55: 2
C56: LT05 | D56: Công nghệ CNC | E56: =F56+G56 -> 3 | F56: 3 | H56: 1 | I56: 1
C57: LT06 | D57: Công nghệ chế tạo máy 2 | E57: =F57+G57 -> 4 | F57: 4 | H57: 1 | I57: 2
C58: LT07 | D58: Công nghệ CAD/CAM | E58: =F58+G58 -> 2 | F58: 2 | H58: 1 | I58: 1
C59: LT08 | D59: Công nghệ khí nén | E59: =F59+G59 -> 2 | F59: 2 | H59: 1 | I59: 1
C60: LT09 | D60: Tổ chức sản xuất | E60: =F60+G60 -> 2 | F60: 2 | H60: 1 | I60: 1
C61: DO AN | E61: =F61+G61 -> 0
C62: TH01 | D62: TT Tiện nâng cao | E62: =F62+G62 -> 4 | G62: 4 | H62: 1 | I62: 2
C63: TH02 | E63: =F63+G63 -> 0
C64: TH03 | E64: =F64+G64 -> 0
C65: TH04 | E65: =F65+G65 -> 0
C66: TH05 | E66: =F66+G66 -> 0
C67: TH06 | E67: =F67+G67 -> 0
A68: 5 | B68: 13TC-Ô 1,2 | C68: LT01 | D68: Anh văn chuyên ngành | E68: =F68+G68 -> 2 | F68: 2 | H68: 1 | I68: 1 | K68: =SUM(F68:G83) -> 25 | L68: =COUNTA(F68:F83) -> 6 | M68: =COUNTA(G68:G83) -> 6 | N68: =COUNTA(D68:D83) -> 12
C69: LT02 | D69: Hệ thống điện thân xe | E69: =F69+G69 -> 2 | F69: 2 | H69: 1 | I69: 1
C70: LT03 | D70: Điều hòa không khí trên ôtô | E70: =F70+G70 -> 2 | F70: 2 | H70: 1 | I70: 1
C71: LT04 | D71: Bảo dưỡng kỹ thuật - Sửa chữa ôtô | E71: =F71+G71 -> 4 | F71: 4 | H71: 1 | I71: 2
C72: LT05 | D72: Các TB chẩn đoán, kiểm định ôtô | E72: =F72+G72 -> 2 | F72: 2 | H72: 1 | I72: 1
C73: LT06 | E73: =F73+G73 -> 0
C74: LT07 | E74: =F74+G74 -> 0
C75: LT08 | E75: =F75+G75 -> 0
C76: LT09 | E76: =F76+G76 -> 0
C77: DO AN | D77: Đồ án kết cấu ôtô | E77: =F77+G77 -> 2 | F77: 2 | H77: 1 | I77: 1
C78: TH01 | D78: Thực tập Gò hàn | E78: =F78+G78 -> 1 | G78: 1 | H78: 1 | I78: 1
C79: TH02 | D79: Thực tập Nguội cơ bản | E79: =F79+G79 -> 1 | G79: 1 | H79: 1 | I79: 1
C80: TH03 | D80: Thực tập Động cơ đốt trong | E80: =F80+G80 -> 3 | G80: 3 | H80: 1 | I80: 1
C81: TH04 | D81: Thực tập Động cơ xăng | E81: =F81+G81 -> 2 | G81: 2 | H81: 1 | I81: 1
C82: TH05 | D82: TT Hệ thống điện động cơ | E82: =F82+G82 -> 2 | G82: 2 | H82: 1 | I82: 1
C83: TH06 | D83: Thực tập Động cơ Diezel | E83: =F83+G83 -> 2 | G83: 2 | H83: 1 | I83: 1
A84: 7 | B84: 13TC-QTM | C84: LT01 | D84: Anh văn chuyên ngành | E84: =F84+G84 -> 2 | F84: 2 | H84: 1 | I84: 1 | K84: =SUM(F84:G90) -> 26 | L84: =COUNTA(D84:D90) -> 7 | N84: =COUNTA(F84:F90) -> 7
C85: LT02 | D85: Lập trình Windows | E85: =F85+G85 -> 5 | F85: 2 | G85: 3 | H85: 1 | I85: 2
C86: LT03 | D86: Thiết kế Web | E86: =F86+G86 -> 5 | F86: 3 | G86: 2 | H86: 1 | I86: 2
C87: LT04 | D87: SQL server | E87: =F87+G87 -> 3 | F87: 2 | G87: 1 | H87: 1 | I87: 1
C88: LT05 | D88: Mạng Linux | E88: =F88+G88 -> 2 | F88: 1 | G88: 1 | H88: 1 | I88: 1
C89: LT06 | D89: Thiết lập và bảo trì hệ thống mạng | E89: =F89+G89 -> 5 | F89: 3 | G89: 2 | H89: 1 | I89: 2
C90: LT07 | D90: Mạng viễn thông và truyền số liệu | E90: =F90+G90 -> 4 | F90: 3 | G90: 1 | H90: 1 | I90: 2
C91: LT08 | E91: =F91+G91 -> 0
C92: LT09 | E92: =F92+G92 -> 0
C93: DO AN
C94: TH01 | E94: =F94+G94 -> 0
C95: TH02 | E95: =F95+G95 -> 0
C96: TH03 | E96: =F96+G96 -> 0
C97: TH04 | E97: =F97+G97 -> 0
C98: TH05 | E98: =F98+G98 -> 0
C99: TH06 | E99: =F99+G99 -> 0
A100: 8 | B100: 13TC-MT | C100: LT01 | D100: Anh văn chuyên ngành | E100: =F100+G100 -> 2 | F100: 2 | H100: 1 | I100: 1 | K100: =SUM(F100:G114) -> 27 | L100: =COUNTA(F100:F114) -> 8 | M100: =COUNTA(G100:G114) -> 5 | N100: =COUNTA(D100:D114) -> 13
...

Sheet LOP-MON
A1: Lớp | B1: LT01 | C1: LT02 | D1: LT03 | E1: LT04 | F1: LT05 | G1: LT06 | H1: LT07 | I1: LT08 | J1: LT09 | K1: DO AN | L1: TH01 | M1: TH02 | N1: TH03 | O1: TH04 | P1: TH05 | Q1: TH06
A2: 13TC-ĐT | B2: =VLOOKUP(B$1,'MON HOC HKI'!$C$4:$E$19,2,0) -> Anh văn chuyên ngành | C2: =VLOOKUP(C$1,'MON HOC HKI'!$C$4:$E$19,2,0) -> Kỹ thuật vi xử lý | D2: =VLOOKUP(D$1,'MON HOC HKI'!$C$4:$E$19,2,0) -> Điều khiển lập trình PLC | E2: =VLOOKUP(E$1,'MON HOC HKI'!$C$4:$E$19,2,0) -> Kỹ thuật vi điều khiển | F2: =VLOOKUP(F$1,'MON HOC HKI'!$C$4:$E$19,2,0) -> KT truyền thanh - truyền hình | G2: =VLOOKUP(G$1,'MON HOC HKI'!$C$4:$E$19,2,0) -> 0 | H2: =VLOOKUP(H$1,'MON HOC HKI'!$C$4:$E$19,2,0) -> 0 | I2: =VLOOKUP(I$1,'MON HOC HKI'!$C$4:$E$19,2,0) -> 0 | ... Q2: =VLOOKUP(Q$1,'MON HOC HKI'!$C$4:$E$19,2,0) -> 0
A3: ĐVHT13ĐT | B3: =VLOOKUP(B$1,'MON HOC HKI'!$C$4:$E$19,3,0) -> 2 | C3: =VLOOKUP(C$1,'MON HOC HKI'!$C$4:$E$19,3,0) -> 2 | D3: =VLOOKUP(D$1,'MON HOC HKI'!$C$4:$E$19,3,0) -> 3 | E3: =VLOOKUP(E$1,'MON HOC HKI'!$C$4:$E$19,3,0) -> 2 | F3: =VLOOKUP(F$1,'MON HOC HKI'!$C$4:$E$19,3,0) -> 3 | G3: =VLOOKUP(G$1,'MON HOC HKI'!$C$4:$E$19,3,0) -> 0 | H3: =VLOOKUP(H$1,'MON HOC HKI'!$C$4:$E$19,3,0) -> 0 | I3: =VLOOKUP(I$1,'MON HOC HKI'!$C$4:$E$19,3,0) -> 0 | ... Q3: =VLOOKUP(Q$1,'MON HOC HKI'!$C$4:$E$19,3,0) -> 0
A4: 13TC-Đ1 | B4: =VLOOKUP(B$1,'MON HOC HKI'!$C$20:$E$35,2,0) -> Anh văn chuyên ngành | C4: =VLOOKUP(C$1,'MON HOC HKI'!$C$20:$E$35,2,0) -> Cơ kỹ thuật | D4: =VLOOKUP(D$1,'MON HOC HKI'!$C$20:$E$35,2,0) -> Trang bị điện | E4: =VLOOKUP(E$1,'MON HOC HKI'!$C$20:$E$35,2,0) -> Điều khiển lập trình (PLC) | F4: =VLOOKUP(F$1,'MON HOC HKI'!$C$20:$E$35,2,0) -> Điều khiển điện - khí nén | G4: =VLOOKUP(G$1,'MON HOC HKI'!$C$20:$E$35,2,0) -> 0 | H4: =VLOOKUP(H$1,'MON HOC HKI'!$C$20:$E$35,2,0) -> 0 | I4: =VLOOKUP(I$1,'MON HOC HKI'!$C$20:$E$35,2,0) -> 0 | ... Q4: =VLOOKUP(Q$1,'MON HOC HKI'!$C$20:$E$35,2,0) -> 0
A5: ĐVHT13Đ1 | B5: =VLOOKUP(B$1,'MON HOC HKI'!$C$20:$E$35,3,0) -> 2 | C5: =VLOOKUP(C$1,'MON HOC HKI'!$C$20:$E$35,3,0) -> 2 | D5: =VLOOKUP(D$1,'MON HOC HKI'!$C$20:$E$35,3,0) -> 4 | E5: =VLOOKUP(E$1,'MON HOC HKI'!$C$20:$E$35,3,0) -> 3 | F5: =VLOOKUP(F$1,'MON HOC HKI'!$C$20:$E$35,3,0) -> 2 | G5: =VLOOKUP(G$1,'MON HOC HKI'!$C$20:$E$35,3,0) -> 0 | H5: =VLOOKUP(H$1,'MON HOC HKI'!$C$20:$E$35,3,0) -> 0 | I5: =VLOOKUP(I$1,'MON HOC HKI'!$C$20:$E$35,3,0) -> 0 | ... Q5: =VLOOKUP(Q$1,'MON HOC HKI'!$C$20:$E$35,3,0) -> 0
A6: 13TC-Đ2 | B6: =VLOOKUP(B$1,'MON HOC HKI'!$C$20:$E$35,2,0) -> Anh văn chuyên ngành | C6: =VLOOKUP(C$1,'MON HOC HKI'!$C$20:$E$35,2,0) -> Cơ kỹ thuật | D6: =VLOOKUP(D$1,'MON HOC HKI'!$C$20:$E$35,2,0) -> Trang bị điện | E6: =VLOOKUP(E$1,'MON HOC HKI'!$C$20:$E$35,2,0) -> Điều khiển lập trình (PLC) | F6: =VLOOKUP(F$1,'MON HOC HKI'!$C$20:$E$35,2,0) -> Điều khiển điện - khí nén | G6: =VLOOKUP(G$1,'MON HOC HKI'!$C$20:$E$35,2,0) -> 0 | H6: =VLOOKUP(H$1,'MON HOC HKI'!$C$20:$E$35,2,0) -> 0 | I6: =VLOOKUP(I$1,'MON HOC HKI'!$C$20:$E$35,2,0) -> 0 | ... Q6: =VLOOKUP(Q$1,'MON HOC HKI'!$C$20:$E$35,2,0) -> 0
A7: ĐVHT13Đ2 | B7: =VLOOKUP(B$1,'MON HOC HKI'!$C$20:$E$35,3,0) -> 2 | C7: =VLOOKUP(C$1,'MON HOC HKI'!$C$20:$E$35,3,0) -> 2 | D7: =VLOOKUP(D$1,'MON HOC HKI'!$C$20:$E$35,3,0) -> 4 | E7: =VLOOKUP(E$1,'MON HOC HKI'!$C$20:$E$35,3,0) -> 3 | F7: =VLOOKUP(F$1,'MON HOC HKI'!$C$20:$E$35,3,0) -> 2 | G7: =VLOOKUP(G$1,'MON HOC HKI'!$C$20:$E$35,3,0) -> 0 | H7: =VLOOKUP(H$1,'MON HOC HKI'!$C$20:$E$35,3,0) -> 0 | I7: =VLOOKUP(I$1,'MON HOC HKI'!$C$20:$E$35,3,0) -> 0 | ... Q7: =VLOOKUP(Q$1,'MON HOC HKI'!$C$20:$E$35,3,0) -> 0
A8: 13TC-ĐL | B8: =VLOOKUP(B$1,'MON HOC HKI'!$C$36:$E$51,2,0) -> Anh văn chuyên ngành | C8: =VLOOKUP(C$1,'MON HOC HKI'!$C$36:$E$51,2,0) -> Cơ kỹ thuật | D8: =VLOOKUP(D$1,'MON HOC HKI'!$C$36:$E$51,2,0) -> Kỹ thuật lạnh công nghiệp | E8: =VLOOKUP(E$1,'MON HOC HKI'!$C$36:$E$51,2,0) -> Điều hòa không khí | F8: =VLOOKUP(F$1,'MON HOC HKI'!$C$36:$E$51,2,0) -> 0 | G8: =VLOOKUP(G$1,'MON HOC HKI'!$C$36:$E$51,2,0) -> 0 | H8: =VLOOKUP(H$1,'MON HOC HKI'!$C$36:$E$51,2,0) -> 0 | I8: =VLOOKUP(I$1,'MON HOC HKI'!$C$36:$E$51,2,0) -> 0 | ... Q8: =VLOOKUP(Q$1,'MON HOC HKI'!$C$36:$E$51,2,0) -> 0
A9: ĐVHT13ĐL | B9: =VLOOKUP(B$1,'MON HOC HKI'!$C$36:$E$51,3,0) -> 2 | C9: =VLOOKUP(C$1,'MON HOC HKI'!$C$36:$E$51,3,0) -> 2 | D9: =VLOOKUP(D$1,'MON HOC HKI'!$C$36:$E$51,3,0) -> 5 | E9: =VLOOKUP(E$1,'MON HOC HKI'!$C$36:$E$51,3,0) -> 4 | F9: =VLOOKUP(F$1,'MON HOC HKI'!$C$36:$E$51,3,0) -> 0 | G9: =VLOOKUP(G$1,'MON HOC HKI'!$C$36:$E$51,3,0) -> 0 | H9: =VLOOKUP(H$1,'MON HOC HKI'!$C$36:$E$51,3,0) -> 0 | I9: =VLOOKUP(I$1,'MON HOC HKI'!$C$36:$E$51,3,0) -> 0 | ... Q9: =VLOOKUP(Q$1,'MON HOC HKI'!$C$36:$E$51,3,0) -> 0
A10: 13TC-CKT | B10: =VLOOKUP(B$1,'MON HOC HKI'!$C$52:$E$67,2,0) -> Anh văn chuyên ngành | C10: =VLOOKUP(C$1,'MON HOC HKI'!$C$52:$E$67,2,0) -> Kỹ thuật điện | D10: =VLOOKUP(D$1,'MON HOC HKI'!$C$52:$E$67,2,0) -> Nguyên lý - Chi tiết máy | E10: =VLOOKUP(E$1,'MON HOC HKI'!$C$52:$E$67,2,0) -> Máy cắt kim loại | F10: =VLOOKUP(F$1,'MON HOC HKI'!$C$52:$E$67,2,0) -> Công nghệ CNC | G10: =VLOOKUP(G$1,'MON HOC HKI'!$C$52:$E$67,2,0) -> Công nghệ chế tạo máy 2 | H10: =VLOOKUP(H$1,'MON HOC HKI'!$C$52:$E$67,2,0) -> Công nghệ CAD/CAM | I10: =VLOOKUP(I$1,'MON HOC HKI'!$C$52:$E$67,2,0) -> Công nghệ khí nén | ... Q10: =VLOOKUP(Q$1,'MON HOC HKI'!$C$52:$E$67,2,0) -> 0
A11: ĐVHT13CK | B11: =VLOOKUP(B$1,'MON HOC HKI'!$C$52:$E$67,3,0) -> 2 | C11: =VLOOKUP(C$1,'MON HOC HKI'!$C$52:$E$67,3,0) -> 3 | D11: =VLOOKUP(D$1,'MON HOC HKI'!$C$52:$E$67,3,0) -> 5 | E11: =VLOOKUP(E$1,'MON HOC HKI'!$C$52:$E$67,3,0) -> 5 | F11: =VLOOKUP(F$1,'MON HOC HKI'!$C$52:$E$67,3,0) -> 3 | G11: =VLOOKUP(G$1,'MON HOC HKI'!$C$52:$E$67,3,0) -> 4 | H11: =VLOOKUP(H$1,'MON HOC HKI'!$C$52:$E$67,3,0) -> 2 | I11: =VLOOKUP(I$1,'MON HOC HKI'!$C$52:$E$67,3,0) -> 2 | ... Q11: =VLOOKUP(Q$1,'MON HOC HKI'!$C$52:$E$67,3,0) -> 0
A12: 13TC-Ô1 | B12: =VLOOKUP(B$1,'MON HOC HKI'!$C$68:$E$83,2,0) -> Anh văn chuyên ngành | C12: =VLOOKUP(C$1,'MON HOC HKI'!$C$68:$E$83,2,0) -> Hệ thống điện thân xe | D12: =VLOOKUP(D$1,'MON HOC HKI'!$C$68:$E$83,2,0) -> Điều hòa không khí trên ôtô | E12: =VLOOKUP(E$1,'MON HOC HKI'!$C$68:$E$83,2,0) -> Bảo dưỡng kỹ thuật - Sửa chữa ôtô | F12: =VLOOKUP(F$1,'MON HOC HKI'!$C$68:$E$83,2,0) -> Các TB chẩn đoán, kiểm định ôtô | G12: =VLOOKUP(G$1,'MON HOC HKI'!$C$68:$E$83,2,0) -> 0 | H12: =VLOOKUP(H$1,'MON HOC HKI'!$C$68:$E$83,2,0) -> 0 | I12: =VLOOKUP(I$1,'MON HOC HKI'!$C$68:$E$83,2,0) -> 0 | ... Q12: =VLOOKUP(Q$1,'MON HOC HKI'!$C$68:$E$83,2,0) -> Thực tập Động cơ Diezel
A13: ĐVHT13Ô1 | B13: =VLOOKUP(B$1,'MON HOC HKI'!$C$68:$E$83,3,0) -> 2 | C13: =VLOOKUP(C$1,'MON HOC HKI'!$C$68:$E$83,3,0) -> 2 | D13: =VLOOKUP(D$1,'MON HOC HKI'!$C$68:$E$83,3,0) -> 2 | E13: =VLOOKUP(E$1,'MON HOC HKI'!$C$68:$E$83,3,0) -> 4 | F13: =VLOOKUP(F$1,'MON HOC HKI'!$C$68:$E$83,3,0) -> 2 | G13: =VLOOKUP(G$1,'MON HOC HKI'!$C$68:$E$83,3,0) -> 0 | H13: =VLOOKUP(H$1,'MON HOC HKI'!$C$68:$E$83,3,0) -> 0 | I13: =VLOOKUP(I$1,'MON HOC HKI'!$C$68:$E$83,3,0) -> 0 | ... Q13: =VLOOKUP(Q$1,'MON HOC HKI'!$C$68:$E$83,3,0) -> 2
A14: 13TC-Ô2 | B14: =VLOOKUP(B$1,'MON HOC HKI'!$C$68:$E$83,2,0) -> Anh văn chuyên ngành | C14: =VLOOKUP(C$1,'MON HOC HKI'!$C$68:$E$83,2,0) -> Hệ thống điện thân xe | D14: =VLOOKUP(D$1,'MON HOC HKI'!$C$68:$E$83,2,0) -> Điều hòa không khí trên ôtô | E14: =VLOOKUP(E$1,'MON HOC HKI'!$C$68:$E$83,2,0) -> Bảo dưỡng kỹ thuật - Sửa chữa ôtô | F14: =VLOOKUP(F$1,'MON HOC HKI'!$C$68:$E$83,2,0) -> Các TB chẩn đoán, kiểm định ôtô | G14: =VLOOKUP(G$1,'MON HOC HKI'!$C$68:$E$83,2,0) -> 0 | H14: =VLOOKUP(H$1,'MON HOC HKI'!$C$68:$E$83,2,0) -> 0 | I14: =VLOOKUP(I$1,'MON HOC HKI'!$C$68:$E$83,2,0) -> 0 | ... Q14: =VLOOKUP(Q$1,'MON HOC HKI'!$C$68:$E$83,2,0) -> Thực tập Động cơ Diezel
A15: ĐVHT13Ô2 | B15: =VLOOKUP(B$1,'MON HOC HKI'!$C$68:$E$83,3,0) -> 2 | C15: =VLOOKUP(C$1,'MON HOC HKI'!$C$68:$E$83,3,0) -> 2 | D15: =VLOOKUP(D$1,'MON HOC HKI'!$C$68:$E$83,3,0) -> 2 | E15: =VLOOKUP(E$1,'MON HOC HKI'!$C$68:$E$83,3,0) -> 4 | F15: =VLOOKUP(F$1,'MON HOC HKI'!$C$68:$E$83,3,0) -> 2 | G15: =VLOOKUP(G$1,'MON HOC HKI'!$C$68:$E$83,3,0) -> 0 | H15: =VLOOKUP(H$1,'MON HOC HKI'!$C$68:$E$83,3,0) -> 0 | I15: =VLOOKUP(I$1,'MON HOC HKI'!$C$68:$E$83,3,0) -> 0 | ... Q15: =VLOOKUP(Q$1,'MON HOC HKI'!$C$68:$E$83,3,0) -> 2
A16: 13TC-MT | B16: =VLOOKUP(B$1,'MON HOC HKI'!$C$100:$E$115,2,0) -> Anh văn chuyên ngành | C16: =VLOOKUP(C$1,'MON HOC HKI'!$C$100:$E$115,2,0) -> Vẽ kỹ thuật ngành may | D16: =VLOOKUP(D$1,'MON HOC HKI'!$C$100:$E$115,2,0) -> Marketing | E16: =VLOOKUP(E$1,'MON HOC HKI'!$C$100:$E$115,2,0) -> Kỹ thuật may áo jacket | F16: =VLOOKUP(F$1,'MON HOC HKI'!$C$100:$E$115,2,0) -> Thiết kế mẫu công nghiệp | G16: =VLOOKUP(G$1,'MON HOC HKI'!$C$100:$E$115,2,0) -> TK dây chuyền may công nghiệp | H16: =VLOOKUP(H$1,'MON HOC HKI'!$C$100:$E$115,2,0) -> Quản lý chất lượng trang phục | I16: =VLOOKUP(I$1,'MON HOC HKI'!$C$100:$E$115,2,0) -> Tổ chức và quản lý sản xuất may CN | ... Q16: =VLOOKUP(Q$1,'MON HOC HKI'!$C$100:$E$115,2,0) -> 0
A17: ĐVHT13MT | B17: =VLOOKUP(B$1,'MON HOC HKI'!$C$100:$E$115,3,0) -> 2 | C17: =VLOOKUP(C$1,'MON HOC HKI'!$C$100:$E$115,3,0) -> 2 | D17: =VLOOKUP(D$1,'MON HOC HKI'!$C$100:$E$115,3,0) -> 2 | E17: =VLOOKUP(E$1,'MON HOC HKI'!$C$100:$E$115,3,0) -> 2 | F17: =VLOOKUP(F$1,'MON HOC HKI'!$C$100:$E$115,3,0) -> 2 | G17: =VLOOKUP(G$1,'MON HOC HKI'!$C$100:$E$115,3,0) -> 2 | H17: =VLOOKUP(H$1,'MON HOC HKI'!$C$100:$E$115,3,0) -> 2 | I17: =VLOOKUP(I$1,'MON HOC HKI'!$C$100:$E$115,3,0) -> 2 | ... Q17: =VLOOKUP(Q$1,'MON HOC HKI'!$C$100:$E$115,3,0) -> 0
A18: 13TC-QTM | B18: =VLOOKUP(B$1,'MON HOC HKI'!$C$84:$E$99,2,0) -> Anh văn chuyên ngành | C18: =VLOOKUP(C$1,'MON HOC HKI'!$C$84:$E$99,2,0) -> Lập trình Windows | D18: =VLOOKUP(D$1,'MON HOC HKI'!$C$84:$E$99,2,0) -> Thiết kế Web | E18: =VLOOKUP(E$1,'MON HOC HKI'!$C$84:$E$99,2,0) -> SQL server | F18: =VLOOKUP(F$1,'MON HOC HKI'!$C$84:$E$99,2,0) -> Mạng Linux | G18: =VLOOKUP(G$1,'MON HOC HKI'!$C$84:$E$99,2,0) -> Thiết lập và bảo trì hệ thống mạng | H18: =VLOOKUP(H$1,'MON HOC HKI'!$C$84:$E$99,2,0) -> Mạng viễn thông và truyền số liệu | I18: =VLOOKUP(I$1,'MON HOC HKI'!$C$84:$E$99,2,0) -> 0 | ... Q18: =VLOOKUP(Q$1,'MON HOC HKI'!$C$84:$E$99,2,0) -> 0
A19: ĐVHT13QT | B19: =VLOOKUP(B$1,'MON HOC HKI'!$C$84:$E$99,3,0) -> 2 | C19: =VLOOKUP(C$1,'MON HOC HKI'!$C$84:$E$99,3,0) -> 5 | D19: =VLOOKUP(D$1,'MON HOC HKI'!$C$84:$E$99,3,0) -> 5 | E19: =VLOOKUP(E$1,'MON HOC HKI'!$C$84:$E$99,3,0) -> 3 | F19: =VLOOKUP(F$1,'MON HOC HKI'!$C$84:$E$99,3,0) -> 2 | G19: =VLOOKUP(G$1,'MON HOC HKI'!$C$84:$E$99,3,0) -> 5 | H19: =VLOOKUP(H$1,'MON HOC HKI'!$C$84:$E$99,3,0) -> 4 | I19: =VLOOKUP(I$1,'MON HOC HKI'!$C$84:$E$99,3,0) -> 0 | ... Q19: =VLOOKUP(Q$1,'MON HOC HKI'!$C$84:$E$99,3,0) -> 0

Sheet TK NỢ HP
A1: ỦY BAN NHÂN DÂN THÀNH PHỐ HỒ CHÍ MINH
A2: TRƯỜNG CĐKT LÝ TỰ TRỌNG THÀNH PHỐ HỒ CHÍ MINH
B3: LỚP: | C3: =IF(B7="","",IF(ISNA(VLOOKUP(#REF!,'DS LOP HKI'!$B$2:$F$1060,5,FALSE))=TRUE,"",VLOOKUP(B7,'DS LOP HKI'!$B$2:$F$1060,5,FALSE))) -> 13TC-Đ2 | D3: SS: | E3: =IF(B7="",0,MAX($A$7:$A$43)) -> 29
A4: BẢNG THỐNG KÊ NỢ HỌC PHẦN
C5: HỌC KỲ: | D5: I | F5: NĂM HỌC: | H5: 2014-2015
B6: MSSV | C6: Họ tên sinh viên | E6: Số HP nợ | F6: =IF(HKI!H6="","",HKI!H6) -> Anh văn chuyên ngành | G6: =IF(HKI!M6="","",HKI!M6) -> Cơ kỹ thuật | H6: =IF(HKI!R6="","",HKI!R6) -> Trang bị điện | I6: =IF(HKI!W6="","",HKI!W6) -> Điều khiển lập trình (PLC) | J6: =IF(HKI!AB6="","",HKI!AB6) -> Điều khiển điện - khí nén | K6: =IF(HKI!AG6="","",HKI!AG6) | L6: =IF(HKI!AL6="","",HKI!AL6) | M6: =IF(HKI!AQ6="","",HKI!AQ6) | N6: =IF(HKI!AV6="","",HKI!AV6) | O6: =IF(HKI!BA6="","",HKI!BA6) | P6: =IF(HKI!BF6="","",HKI!BF6) -> Thực tập Sửa chữa máy điện | Q6: =IF(HKI!BK6="","",HKI!BK6) -> Thực tập Sửa chữa điện | R6: =IF(HKI!BP6="","",HKI!BP6) -> Thực tập Trang bị điện-Điện tử CB | S6: =IF(HKI!BU6="","",HKI!BU6) | T6: =IF(HKI!BZ6="","",HKI!BZ6) | U6: =IF(HKI!CE6="","",HKI!CE6)
A7: =IF(B7="","",SUBTOTAL(3,$B$7:B7)) -> 1 | B7: =IF(HKI!$B12="","",HKI!B12) -> 13B3080002 | C7: =IF(HKI!$B12="","",HKI!C12) -> Lâm Thanh | D7: =IF(HKI!$B12="","",HKI!D12) -> Bình | E7: =IF(COUNTIF(F7:T7,"X")>0,COUNTIF(F7:T7,"X"),"") -> 2 | F7: =IF(HKI!J12<5,"X","") | G7: =IF(HKI!O12<5,"X","") | H7: =IF(HKI!T12<5,"X","") | I7: =IF(HKI!Y12<5,"X","") -> X | J7: =IF(HKI!AD12<5,"X","") -> X | K7: =IF(HKI!AI12<5,"X","") | L7: =IF(HKI!AN12<5,"X","") | M7: =IF(HKI!AS12<5,"X","") | N7: =IF(HKI!AX12<5,"X","") | O7: =IF(HKI!BC12<5,"X","") | P7: =IF(HKI!BH12<5,"X","") | Q7: =IF(HKI!BM12<5,"X","") | R7: =IF(HKI!BR12<5,"X","") | S7: =IF(HKI!BW12<5,"X","") | T7: =IF(HKI!CB12<5,"X","") | U7: =IF(HKI!CG12<5,"X","")
A8: =IF(B8="","",SUBTOTAL(3,$B$7:B8)) -> 2 | B8: =IF(HKI!$B13="","",HKI!B13) -> 13B3080004 | C8: =IF(HKI!$B13="","",HKI!C13) -> Nguyễn | D8: =IF(HKI!$B13="","",HKI!D13) -> Cảnh | E8: =IF(COUNTIF(F8:T8,"X")>0,COUNTIF(F8:T8,"X"),"") -> 2 | F8: =IF(HKI!J13<5,"X","") | G8: =IF(HKI!O13<5,"X","") -> X | H8: =IF(HKI!T13<5,"X","") | I8: =IF(HKI!Y13<5,"X","") | J8: =IF(HKI!AD13<5,"X","") -> X | K8: =IF(HKI!AI13<5,"X","") | L8: =IF(HKI!AN13<5,"X","") | M8: =IF(HKI!AS13<5,"X","") | N8: =IF(HKI!AX13<5,"X","") | O8: =IF(HKI!BC13<5,"X","") | P8: =IF(HKI!BH13<5,"X","") | Q8: =IF(HKI!BM13<5,"X","") | R8: =IF(HKI!BR13<5,"X","") | S8: =IF(HKI!BW13<5,"X","") | T8: =IF(HKI!CB13<5,"X","") | U8: =IF(HKI!CG13<5,"X","")
A9: =IF(B9="","",SUBTOTAL(3,$B$7:B9)) -> 3 | B9: =IF(HKI!$B14="","",HKI!B14) -> 13B3080104 | C9: =IF(HKI!$B14="","",HKI!C14) -> Lê Minh | D9: =IF(HKI!$B14="","",HKI!D14) -> Cường | E9: =IF(COUNTIF(F9:T9,"X")>0,COUNTIF(F9:T9,"X"),"") -> 2 | F9: =IF(HKI!J14<5,"X","") -> X | G9: =IF(HKI!O14<5,"X","") -> X | H9: =IF(HKI!T14<5,"X","") | I9: =IF(HKI!Y14<5,"X","") | J9: =IF(HKI!AD14<5,"X","") | K9: =IF(HKI!AI14<5,"X","") | L9: =IF(HKI!AN14<5,"X","") | M9: =IF(HKI!AS14<5,"X","") | N9: =IF(HKI!AX14<5,"X","") | O9: =IF(HKI!BC14<5,"X","") | P9: =IF(HKI!BH14<5,"X","") | Q9: =IF(HKI!BM14<5,"X","") | R9: =IF(HKI!BR14<5,"X","") | S9: =IF(HKI!BW14<5,"X","") | T9: =IF(HKI!CB14<5,"X","") | U9: =IF(HKI!CG14<5,"X","")
A10: =IF(B10="","",SUBTOTAL(3,$B$7:B10)) -> 4 | B10: =IF(HKI!$B15="","",HKI!B15) -> 13B3080008 | C10: =IF(HKI!$B15="","",HKI!C15) -> Cao Thành | D10: =IF(HKI!$B15="","",HKI!D15) -> Danh | E10: =IF(COUNTIF(F10:T10,"X")>0,COUNTIF(F10:T10,"X"),"") | F10: =IF(HKI!J15<5,"X","") | G10: =IF(HKI!O15<5,"X","") | H10: =IF(HKI!T15<5,"X","") | I10: =IF(HKI!Y15<5,"X","") | J10: =IF(HKI!AD15<5,"X","") | K10: =IF(HKI!AI15<5,"X","") | L10: =IF(HKI!AN15<5,"X","") | M10: =IF(HKI!AS15<5,"X","") | N10: =IF(HKI!AX15<5,"X","") | O10: =IF(HKI!BC15<5,"X","") | P10: =IF(HKI!BH15<5,"X","") | Q10: =IF(HKI!BM15<5,"X","") | R10: =IF(HKI!BR15<5,"X","") | S10: =IF(HKI!BW15<5,"X","") | T10: =IF(HKI!CB15<5,"X","") | U10: =IF(HKI!CG15<5,"X","")
A11: =IF(B11="","",SUBTOTAL(3,$B$7:B11)) -> 5 | B11: =IF(HKI!$B16="","",HKI!B16) -> 13B3080010 | C11: =IF(HKI!$B16="","",HKI!C16) -> Nguyễn Tiến | D11: =IF(HKI!$B16="","",HKI!D16) -> Dũng | E11: =IF(COUNTIF(F11:T11,"X")>0,COUNTIF(F11:T11,"X"),"") | F11: =IF(HKI!J16<5,"X","") | G11: =IF(HKI!O16<5,"X","") | H11: =IF(HKI!T16<5,"X","") | I11: =IF(HKI!Y16<5,"X","") | J11: =IF(HKI!AD16<5,"X","") | K11: =IF(HKI!AI16<5,"X","") | L11: =IF(HKI!AN16<5,"X","") | M11: =IF(HKI!AS16<5,"X","") | N11: =IF(HKI!AX16<5,"X","") | O11: =IF(HKI!BC16<5,"X","") | P11: =IF(HKI!BH16<5,"X","") | Q11: =IF(HKI!BM16<5,"X","") | R11: =IF(HKI!BR16<5,"X","") | S11: =IF(HKI!BW16<5,"X","") | T11: =IF(HKI!CB16<5,"X","") | U11: =IF(HKI!CG16<5,"X","")
A12: =IF(B12="","",SUBTOTAL(3,$B$7:B12)) -> 6 | B12: =IF(HKI!$B17="","",HKI!B17) -> 13B3080012 | C12: =IF(HKI!$B17="","",HKI!C17) -> Võ Hồng | D12: =IF(HKI!$B17="","",HKI!D17) -> Dương | E12: =IF(COUNTIF(F12:T12,"X")>0,COUNTIF(F12:T12,"X"),"") | F12: =IF(HKI!J17<5,"X","") | G12: =IF(HKI!O17<5,"X","") | H12: =IF(HKI!T17<5,"X","") | I12: =IF(HKI!Y17<5,"X","") | J12: =IF(HKI!AD17<5,"X","") | K12: =IF(HKI!AI17<5,"X","") | L12: =IF(HKI!AN17<5,"X","") | M12: =IF(HKI!AS17<5,"X","") | N12: =IF(HKI!AX17<5,"X","") | O12: =IF(HKI!BC17<5,"X","") | P12: =IF(HKI!BH17<5,"X","") | Q12: =IF(HKI!BM17<5,"X","") | R12: =IF(HKI!BR17<5,"X","") | S12: =IF(HKI!BW17<5,"X","") | T12: =IF(HKI!CB17<5,"X","") | U12: =IF(HKI!CG17<5,"X","")
A13: =IF(B13="","",SUBTOTAL(3,$B$7:B13)) -> 7 | B13: =IF(HKI!$B18="","",HKI!B18) -> 13B3080016 | C13: =IF(HKI!$B18="","",HKI!C18) -> Nguyễn Quang | D13: =IF(HKI!$B18="","",HKI!D18) -> Đại | E13: =IF(COUNTIF(F13:T13,"X")>0,COUNTIF(F13:T13,"X"),"") -> 3 | F13: =IF(HKI!J18<5,"X","") -> X | G13: =IF(HKI!O18<5,"X","") -> X | H13: =IF(HKI!T18<5,"X","") | I13: =IF(HKI!Y18<5,"X","") -> X | J13: =IF(HKI!AD18<5,"X","") | K13: =IF(HKI!AI18<5,"X","") | L13: =IF(HKI!AN18<5,"X","") | M13: =IF(HKI!AS18<5,"X","") | N13: =IF(HKI!AX18<5,"X","") | O13: =IF(HKI!BC18<5,"X","") | P13: =IF(HKI!BH18<5,"X","") | Q13: =IF(HKI!BM18<5,"X","") | R13: =IF(HKI!BR18<5,"X","") | S13: =IF(HKI!BW18<5,"X","") | T13: =IF(HKI!CB18<5,"X","") | U13: =IF(HKI!CG18<5,"X","")
A14: =IF(B14="","",SUBTOTAL(3,$B$7:B14)) -> 8 | B14: =IF(HKI!$B19="","",HKI!B19) -> 13B3080018 | C14: =IF(HKI!$B19="","",HKI!C19) -> Nguyễn Hồng | D14: =IF(HKI!$B19="","",HKI!D19) -> Đức | E14: =IF(COUNTIF(F14:T14,"X")>0,COUNTIF(F14:T14,"X"),"") | F14: =IF(HKI!J19<5,"X","") | G14: =IF(HKI!O19<5,"X","") | H14: =IF(HKI!T19<5,"X","") | I14: =IF(HKI!Y19<5,"X","") | J14: =IF(HKI!AD19<5,"X","") | K14: =IF(HKI!AI19<5,"X","") | L14: =IF(HKI!AN19<5,"X","") | M14: =IF(HKI!AS19<5,"X","") | N14: =IF(HKI!AX19<5,"X","") | O14: =IF(HKI!BC19<5,"X","") | P14: =IF(HKI!BH19<5,"X","") | Q14: =IF(HKI!BM19<5,"X","") | R14: =IF(HKI!BR19<5,"X","") | S14: =IF(HKI!BW19<5,"X","") | T14: =IF(HKI!CB19<5,"X","") | U14: =IF(HKI!CG19<5,"X","")
A15: =IF(B15="","",SUBTOTAL(3,$B$7:B15)) -> 9 | B15: =IF(HKI!$B20="","",HKI!B20) -> 13B3080100 | C15: =IF(HKI!$B20="","",HKI!C20) -> Nguyễn Hoàng | D15: =IF(HKI!$B20="","",HKI!D20) -> Gia | E15: =IF(COUNTIF(F15:T15,"X")>0,COUNTIF(F15:T15,"X"),"") | F15: =IF(HKI!J20<5,"X","") | G15: =IF(HKI!O20<5,"X","") | H15: =IF(HKI!T20<5,"X","") | I15: =IF(HKI!Y20<5,"X","") | J15: =IF(HKI!AD20<5,"X","") | K15: =IF(HKI!AI20<5,"X","") | L15: =IF(HKI!AN20<5,"X","") | M15: =IF(HKI!AS20<5,"X","") | N15: =IF(HKI!AX20<5,"X","") | O15: =IF(HKI!BC20<5,"X","") | P15: =IF(HKI!BH20<5,"X","") | Q15: =IF(HKI!BM20<5,"X","") | R15: =IF(HKI!BR20<5,"X","") | S15: =IF(HKI!BW20<5,"X","") | T15: =IF(HKI!CB20<5,"X","") | U15: =IF(HKI!CG20<5,"X","")
A16: =IF(B16="","",SUBTOTAL(3,$B$7:B16)) -> 10 | B16: =IF(HKI!$B21="","",HKI!B21) -> 13B3080026 | C16: =IF(HKI!$B21="","",HKI!C21) -> Nguyễn Cảnh | D16: =IF(HKI!$B21="","",HKI!D21) -> Hưng | E16: =IF(COUNTIF(F16:T16,"X")>0,COUNTIF(F16:T16,"X"),"") -> 1 | F16: =IF(HKI!J21<5,"X","") | G16: =IF(HKI!O21<5,"X","") -> X | H16: =IF(HKI!T21<5,"X","") | I16: =IF(HKI!Y21<5,"X","") | J16: =IF(HKI!AD21<5,"X","") | K16: =IF(HKI!AI21<5,"X","") | L16: =IF(HKI!AN21<5,"X","") | M16: =IF(HKI!AS21<5,"X","") | N16: =IF(HKI!AX21<5,"X","") | O16: =IF(HKI!BC21<5,"X","") | P16: =IF(HKI!BH21<5,"X","") | Q16: =IF(HKI!BM21<5,"X","") | R16: =IF(HKI!BR21<5,"X","") | S16: =IF(HKI!BW21<5,"X","") | T16: =IF(HKI!CB21<5,"X","") | U16: =IF(HKI!CG21<5,"X","")
A17: =IF(B17="","",SUBTOTAL(3,$B$7:B17)) -> 11 | B17: =IF(HKI!$B22="","",HKI!B22) -> 13B3080030 | C17: =IF(HKI!$B22="","",HKI!C22) -> Lê Quốc | D17: =IF(HKI!$B22="","",HKI!D22) -> Huy | E17: =IF(COUNTIF(F17:T17,"X")>0,COUNTIF(F17:T17,"X"),"") | F17: =IF(HKI!J22<5,"X","") | G17: =IF(HKI!O22<5,"X","") | H17: =IF(HKI!T22<5,"X","") | I17: =IF(HKI!Y22<5,"X","") | J17: =IF(HKI!AD22<5,"X","") | K17: =IF(HKI!AI22<5,"X","") | L17: =IF(HKI!AN22<5,"X","") | M17: =IF(HKI!AS22<5,"X","") | N17: =IF(HKI!AX22<5,"X","") | O17: =IF(HKI!BC22<5,"X","") | P17: =IF(HKI!BH22<5,"X","") | Q17: =IF(HKI!BM22<5,"X","") | R17: =IF(HKI!BR22<5,"X","") | S17: =IF(HKI!BW22<5,"X","") | T17: =IF(HKI!CB22<5,"X","") | U17: =IF(HKI!CG22<5,"X","")
A18: =IF(B18="","",SUBTOTAL(3,$B$7:B18)) -> 12 | B18: =IF(HKI!$B23="","",HKI!B23) -> 13B3080032 | C18: =IF(HKI!$B23="","",HKI!C23) -> Nguyễn Văn | D18: =IF(HKI!$B23="","",HKI!D23) -> Khánh | E18: =IF(COUNTIF(F18:T18,"X")>0,COUNTIF(F18:T18,"X"),"") | F18: =IF(HKI!J23<5,"X","") | G18: =IF(HKI!O23<5,"X","") | H18: =IF(HKI!T23<5,"X","") | I18: =IF(HKI!Y23<5,"X","") | J18: =IF(HKI!AD23<5,"X","") | K18: =IF(HKI!AI23<5,"X","") | L18: =IF(HKI!AN23<5,"X","") | M18: =IF(HKI!AS23<5,"X","") | N18: =IF(HKI!AX23<5,"X","") | O18: =IF(HKI!BC23<5,"X","") | P18: =IF(HKI!BH23<5,"X","") | Q18: =IF(HKI!BM23<5,"X","") | R18: =IF(HKI!BR23<5,"X","") | S18: =IF(HKI!BW23<5,"X","") | T18: =IF(HKI!CB23<5,"X","") | U18: =IF(HKI!CG23<5,"X","")
... A40: =IF(B40="","",SUBTOTAL(3,$B$7:B40)) | B40: =IF(HKI!$B45="","",HKI!B45) | C40: =IF(HKI!$B45="","",HKI!C45) | D40: =IF(HKI!$B45="","",HKI!D45) | E40: =IF(COUNTIF(F40:T40,"X")>0,COUNTIF(F40:T40,"X"),"") | F40: =IF(HKI!J45<5,"X","") | G40: =IF(HKI!O45<5,"X","") | H40: =IF(HKI!T45<5,"X","") | I40: =IF(HKI!Y45<5,"X","") | J40: =IF(HKI!AD45<5,"X","") | K40: =IF(HKI!AI45<5,"X","") | L40: =IF(HKI!AN45<5,"X","") | M40: =IF(HKI!AS45<5,"X","") | N40: =IF(HKI!AX45<5,"X","") | O40: =IF(HKI!BC45<5,"X","") | P40: =IF(HKI!BH45<5,"X","") | Q40: =IF(HKI!BM45<5,"X","") | R40: =IF(HKI!BR45<5,"X","") | S40: =IF(HKI!BW45<5,"X","") | T40: =IF(HKI!CB45<5,"X","") | U40: =IF(HKI!CG45<5,"X","")
A41: =IF(B41="","",SUBTOTAL(3,$B$7:B41)) | B41: =IF(HKI!$B50="","",HKI!B50) | C41: =IF(HKI!$B50="","",HKI!C50) | D41: =IF(HKI!$B50="","",HKI!D50) | E41: =IF(COUNTIF(F41:T41,"X")>0,COUNTIF(F41:T41,"X"),"") | F41: =IF(HKI!J50<5,"X","") | G41: =IF(HKI!O50<5,"X","") | H41: =IF(HKI!T50<5,"X","") | I41: =IF(HKI!Y50<5,"X","") | J41: =IF(HKI!AD50<5,"X","") | K41: =IF(HKI!AI50<5,"X","") | L41: =IF(HKI!AN50<5,"X","") | M41: =IF(HKI!AS50<5,"X","") | N41: =IF(HKI!AX50<5,"X","") | O41: =IF(HKI!BC50<5,"X","") | P41: =IF(HKI!BH50<5,"X","") | Q41: =IF(HKI!BM50<5,"X","") | R41: =IF(HKI!BR50<5,"X","") | S41: =IF(HKI!BW50<5,"X","") | T41: =IF(HKI!CB50<5,"X","") | U41: =IF(HKI!CG50<5,"X","")
A42: =IF(B42="","",SUBTOTAL(3,$B$7:B42)) | B42: =IF(HKI!$B51="","",HKI!B51) | C42: =IF(HKI!$B51="","",HKI!C51) | D42: =IF(HKI!$B51="","",HKI!D51) | E42: =IF(COUNTIF(F42:T42,"X")>0,COUNTIF(F42:T42,"X"),"") | F42: =IF(HKI!J51<5,"X","") | G42: =IF(HKI!O51<5,"X","") | H42: =IF(HKI!T51<5,"X","") | I42: =IF(HKI!Y51<5,"X","") | J42: =IF(HKI!AD51<5,"X","") | K42: =IF(HKI!AI51<5,"X","") | L42: =IF(HKI!AN51<5,"X","") | M42: =IF(HKI!AS51<5,"X","") | N42: =IF(HKI!AX51<5,"X","") | O42: =IF(HKI!BC51<5,"X","") | P42: =IF(HKI!BH51<5,"X","") | Q42: =IF(HKI!BM51<5,"X","") | R42: =IF(HKI!BR51<5,"X","") | S42: =IF(HKI!BW51<5,"X","") | T42: =IF(HKI!CB51<5,"X","") | U42: =IF(HKI!CG51<5,"X","")
A43: Số lượng Sinh viên nợ theo học phần | F43: =COUNTIF(F7:F42,"X") -> 3 | G43: =COUNTIF(G7:G42,"X") -> 9 | H43: =COUNTIF(H7:H42,"X") -> 0 | I43: =COUNTIF(I7:I42,"X") -> 4 | J43: =COUNTIF(J7:J42,"X") -> 2 | K43: =COUNTIF(K7:K42,"X") -> 0 | L43: =COUNTIF(L7:L42,"X") -> 0 | M43: =COUNTIF(M7:M42,"X") -> 0 | ... U43: =COUNTIF(U7:U42,"X") -> 0

Sheet HKI
A1: ỦY BAN NHÂN DÂN THÀNH PHỐ HỒ CHÍ MINH | BF1: CỘNG HOÀ XÃ HỘI CHỦ NGHĨA VIỆT NAM
A2: TRƯỜNG CĐKT LÝ TỰ TRỌNG THÀNH PHỐ HỒ CHÍ MINH | BF2: Độc lập - Tự do - hạnh phúc
C3: LỚP: | D3: =IF($B12="","",IF(ISNA(VLOOKUP($B12,'DS LOP HKI'!$B$2:$F$1060,5,FALSE))=TRUE,"",VLOOKUP($B12,'DS LOP HKI'!$B$2:$F$1060,5,FALSE))) -> 13TC-Đ2 | G3: SĨ SỐ: | I3: =IF(B12="",0,MAX($A$12:$A$51)) -> 29
A4: BẢNG TỔNG KẾT HỌC TẬP HỌC KỲ I NĂM HỌC 2014 - 2015
A6: Số thứ tự | B6: HỌC PHẦN | H6: =IF($B12="","",IF('LT01'!$C$6="","",'LT01'!$C$6)) -> Anh văn chuyên ngành | M6: =IF($B12="","",IF('LT02'!$C$6="","",'LT02'!$C$6)) -> Cơ kỹ thuật | R6: =IF($B12="","",IF('LT03'!$C$6="","",'LT03'!$C$6)) -> Trang bị điện | W6: =IF($B12="","",IF('LT04'!$C$6="","",'LT04'!$C$6)) -> Điều khiển lập trình (PLC) | AB6: =IF($B12="","",IF('LT05'!$C$6="","",'LT05'!$C$6)) -> Điều khiển điện - khí nén | AG6: =IF($B12="","",IF('LT06'!$C$6="","",'LT06'!$C$6)) | AL6: =IF($B12="","",IF('LT07'!$C$6="","",'LT07'!$C$6)) | AQ6: =IF($B12="","",IF('LT08'!$C$6="","",'LT08'!$C$6)) | AV6: =IF($B12="","",IF('LT09'!$C$6="","",'LT09'!$C$6)) | BA6: =IF($B12="","",IF('DO AN'!$C$6="","",'DO AN'!$C$6)) | BF6: =IF($B12="","",IF('TH01'!$C$6="","",'TH01'!$C$6)) -> Thực tập Sửa chữa máy điện | BK6: =IF($B12="","",IF('TH02'!$C$6="","",'TH02'!$C$6)) -> Thực tập Sửa chữa điện | BP6: =IF($B12="","",IF('TH03'!$C$6="","",'TH03'!$C$6)) -> Thực tập Trang bị điện-Điện tử CB | BU6: =IF($B12="","",IF('TH04'!$C$6="","",'TH04'!$C$6)) | BZ6: =IF($B12="","",IF('TH05'!$C$6="","",'TH05'!$C$6)) | CE6: =IF($B12="","",IF('TH06'!$C$6="","",'TH06'!$C$6)) | CJ6: TBC HỌC TẬP | CL6: KẾT QUẢ RÈN LUYỆN | CM6: XẾP LOẠI HT | CO6: KHEN THƯỞNG | CP6: GHI CHÚ
B7: SỐ ĐVHT | H7: =IF($B12="","",IF('LT01'!$J$6="","",'LT01'!$J$6)) -> 2 | M7: =IF($B12="","",IF('LT02'!$J$6="","",'LT02'!$J$6)) -> 2 | R7: =IF($B12="","",IF('LT03'!$J$6="","",'LT03'!$J$6)) -> 4 | W7: =IF($B12="","",IF('LT04'!$J$6="","",'LT04'!$J$6)) -> 3 | AB7: =IF($B12="","",IF('LT05'!$J$6="","",'LT05'!$J$6)) -> 2 | AG7: =IF($B12="","",IF('LT06'!$J$6="","",'LT06'!$J$6)) | AL7: =IF($B12="","",IF('LT07'!$J$6="","",'LT07'!$J$6)) | AQ7: =IF($B12="","",IF('LT08'!$J$6="","",'LT08'!$J$6)) | AV7: =IF($B12="","",IF('LT09'!$J$6="","",'LT09'!$J$6)) | BA7: =IF($B12="","",IF('DO AN'!$J$6="","",'DO AN'!$J$6)) | BF7: =IF($B12="","",IF('TH01'!$J$6="","",'TH01'!$J$6)) -> 4 | BK7: =IF($B12="","",IF('TH02'!$J$6="","",'TH02'!$J$6)) -> 4 | BP7: =IF($B12="","",IF('TH03'!$J$6="","",'TH03'!$J$6)) -> 3 | BU7: =IF($B12="","",IF('TH04'!$J$6="","",'TH04'!$J$6)) | BZ7: =IF($B12="","",IF('TH05'!$J$6="","",'TH05'!$J$6)) | CE7: =IF($B12="","",IF('TH06'!$J$6="","",'TH06'!$J$6)) | CJ7: =SUM(H7:CI7) -> 24 | CQ7: Đếm cột Thi Chính <5 | CR7: =$H$7 -> 2 | CS7: =$M$7 -> 2 | CT7: =$R$7 -> 4 | CU7: =$W$7 -> 3 | CV7: =$AB$7 -> 2 | CW7: =$AG$7 | CX7: =$AL$7 | CY7: =$AQ$7 | CZ7: =$AV$7 | DA7: =$BA$7 | DB7: =$BF$7 -> 4 | DC7: =$BK$7 -> 4 | DD7: =$BP$7 -> 3 | DE7: =$BU$7 | DF7: =$BZ$7 | DG7: =$CE$7 | DH7: Đếm cột HP Chính <5 | DI7: =$H$7 -> 2 | DJ7: =$M$7 -> 2 | DK7: =$R$7 -> 4 | DL7: =$W$7 -> 3 | DM7: =$AB$7 -> 2 | DN7: =$AG$7 | DO7: =$AL$7 | DP7: =$AQ$7 | DQ7: =$AV$7 | DR7: =$BA$7 | DS7: =$BF$7 -> 4 | DT7: =$BK$7 -> 4 | DU7: =$BP$7 -> 3 | DV7: =$BU$7 | DW7: =$BZ$7 | DX7: =$CE$7 | DY7: =SUM(DI7:DX7) -> 24 | EP7: =$H$7 -> 2 | EQ7: =$M$7 -> 2 | ER7: =$R$7 -> 4 | ES7: =$W$7 -> 3 | ET7: =$AB$7 -> 2 | EU7: =$AG$7 | EV7: =$AL$7 | EW7: =$AQ$7 | EX7: =$AV$7 | EY7: =$BA$7 | EZ7: =$BF$7 -> 4 | FA7: =$BK$7 -> 4 | FB7: =$BP$7 -> 3 | FC7: =$BU$7 | FD7: =$BZ$7 | FE7: =$CE$7
B8: MSHS | C8: Họ tên học sinh | E8: HỆ CHUẨN | F8: NGÀY NGHỈ | H8: Trung bình | I8: Thi lần 1 | J8: Tổng kết lần 1 | K8: Thi lần 2 | L8: Tổng kết lần 2 | M8: Trung bình | N8: Thi lần 1 | O8: Tổng kết lần 1 | P8: Thi lần 2 | Q8: Tổng kết lần 2 | R8: Trung bình | S8: Thi lần 1 | T8: Tổng kết lần 1 | U8: Thi lần 2 | V8: Tổng kết lần 2 | W8: Trung bình | X8: Thi lần 1 | Y8: Tổng kết lần 1 | Z8: Thi lần 2 | AA8: Tổng kết lần 2 | AB8: Trung bình | AC8: Thi lần 1 | AD8: Tổng kết lần 1 | AE8: Thi lần 2 | AF8: Tổng kết lần 2 | AG8: Trung bình | AH8: Thi lần 1 | AI8: Tổng kết lần 1 | AJ8: Thi lần 2 | AK8: Tổng kết lần 2 | AL8: Trung bình | AM8: Thi lần 1 | AN8: Tổng kết lần 1 | AO8: Thi lần 2 | AP8: Tổng kết lần 2 | AQ8: Trung bình | AR8: Thi lần 1 | AS8: Tổng kết lần 1 | AT8: Thi lần 2 | AU8: Tổng kết lần 2 | AV8: Trung bình | AW8: Thi lần 1 | AX8: Tổng kết lần 1 | AY8: Thi lần 2 | AZ8: Tổng kết lần 2 | BA8: Trung bình | BB8: Thi lần 1 | BC8: Tổng kết lần 1 | BD8: Thi lần 2 | BE8: Tổng kết lần 2 | BF8: Trung bình | BG8: Thi lần 1 | BH8: Tổng kết lần 1 | BI8: Thi lần 2 | BJ8: Tổng kết lần 2 | BK8: Trung bình | BL8: Thi lần 1 | BM8: Tổng kết lần 1 | BN8: Thi lần 2 | BO8: Tổng kết lần 2 | BP8: Trung bình | BQ8: Thi lần 1 | BR8: Tổng kết lần 1 | BS8: Thi lần 2 | BT8: Tổng kết lần 2 | BU8: Trung bình | BV8: Thi lần 1 | BW8: Tổng kết lần 1 | BX8: Thi lần 2 | BY8: Tổng kết lần 2 | BZ8: Trung bình | CA8: Thi lần 1 | CB8: Tổng kết lần 1 | CC8: Thi lần 2 | CD8: Tổng kết lần 2 | CE8: Trung bình | CF8: Thi lần 1 | CG8: Tổng kết lần 1 | CH8: Thi lần 2 | CI8: Tổng kết lần 2 | CJ8: Kỳ thi lần 1 | CK8: Kỳ thi lần 2 | CM8: Kỳ thi lần 1 | CN8: Kỳ thi lần 2 | CR8: =$H$6 -> Anh văn chuyên ngành | CS8: =$M$6 -> Cơ kỹ thuật | CT8: =$R$6 -> Trang bị điện | CU8: =$W$6 -> Điều khiển lập trình (PLC) | CV8: =$AB$6 -> Điều khiển điện - khí nén | CW8: =$AG$6 | CX8: =$AL$6 | CY8: =$AQ$6 | CZ8: =$AV$6 | DA8: =$BA$6 | DB8: =$BF$6 -> Thực tập Sửa chữa máy điện | DC8: =$BK$6 -> Thực tập Sửa chữa điện | DD8: =$BP$6 -> Thực tập Trang bị điện-Điện tử CB | DE8: =$BU$6 | DF8: =$BZ$6 | DG8: =$CE$6 | DI8: =H6 -> Anh văn chuyên ngành | DJ8: =M6 -> Cơ kỹ thuật | DK8: =R6 -> Trang bị điện | DL8: =W6 -> Điều khiển lập trình (PLC) | DM8: =AB6 -> Điều khiển điện - khí nén | DN8: =AG6 | DO8: =AL6 | DP8: =AQ6 | DQ8: =AV6 | DR8: =$BA$6 | DS8: =BF6 -> Thực tập Sửa chữa máy điện | DT8: =BK6 -> Thực tập Sửa chữa điện | DU8: =BP6 -> Thực tập Trang bị điện-Điện tử CB | DV8: =BU6 | DW8: =BZ6 | DX8: =CE6 | DZ8: =H6 -> Anh văn chuyên ngành | EA8: =M6 -> Cơ kỹ thuật | EB8: =R6 -> Trang bị điện | EC8: =W6 -> Điều khiển lập trình (PLC) | ED8: =AB6 -> Điều khiển điện - khí nén | EE8: =AG6 | EF8: =AL6 | EG8: =AQ6 | EH8: =AV6 | EI8: =$BA$6 | EJ8: =BF6 -> Thực tập Sửa chữa máy điện | EK8: =BK6 -> Thực tập Sửa chữa điện | EL8: =BP6 -> Thực tập Trang bị điện-Điện tử CB | EM8: =BU6 | EN8: =BZ6 | EO8: =CE6 | EP8: =H6 -> Anh văn chuyên ngành | EQ8: =M6 -> Cơ kỹ thuật | ER8: =R6 -> Trang bị điện | ES8: =W6 -> Điều khiển lập trình (PLC) | ET8: =AB6 -> Điều khiển điện - khí nén | EU8: =AG6 | EV8: =AL6 | EW8: =AQ6 | EX8: =AV6 | EY8: =$BA$6 | EZ8: =BF6 -> Thực tập Sửa chữa máy điện | FA8: =BK6 -> Thực tập Sửa chữa điện | FB8: =BP6 -> Thực tập Trang bị điện-Điện tử CB | FC8: =BU6 | FD8: =BZ6 | FE8: =CE6
F9: P | G9: K
A10: (0) | B10: 1 | C10: 2 | D10: 3 | E10: 4 | F10: 5 | G10: 6 | H10: 7 | I10: 8 | J10: 9 | K10: 10 | L10: 11 | M10: 12 | N10: 13 | O10: 14 | P10: 15 | Q10: 16 | R10: 17 | S10: 18 | T10: 19 | U10: 20 | V10: 21 | W10: 22 | X10: 23 | Y10: 24 | Z10: 25 | AA10: 26 | AB10: 27 | AC10: 28 | AD10: 29 | AE10: 30 | AF10: 31 | AG10: 32 | AH10: 33 | AI10: 34 | AJ10: 35 | AK10: 36 | AL10: 37 | AM10: 38 | AN10: 39 | AO10: 40 | AP10: 41 | AQ10: 42 | AR10: 43 | AS10: 44 | AT10: 45 | AU10: 46 | AV10: 47 | AW10: 48 | AX10: 49 | AY10: 50 | AZ10: 51 | BA10: 62 | BB10: 63 | BC10: 64 | BD10: 65 | BE10: 66 | BF10: 62 | BG10: 63 | BH10: 64 | BI10: 65 | BJ10: 66 | BK10: 67 | BL10: 68 | BM10: 69 | BN10: 70 | BO10: 71 | BP10: 72 | BQ10: 73 | BR10: 74 | BS10: 75 | BT10: 76 | BU10: 77 | BV10: 78 | BW10: 79 | BX10: 80 | BY10: 81 | BZ10: 82 | CA10: 83 | CB10: 84 | CC10: 85 | CD10: 86 | CE10: 87 | CF10: 88 | CG10: 89 | CH10: 90 | CI10: 91 | CJ10: 92 | CK10: 93 | CL10: 94 | CM10: 95 | CN10: 96 | CO10: 97 | CP10: 98
A11: (1) | B11: (2) | C11: (3) | E11: (4) | F11: (5) | G11: (6) | H11: (7) | M11: (8) | R11: (9) | W11: (10) | AB11: (11) | AG11: (12) | AL11: (13) | AQ11: (14) | AV11: (15) | BA11: (19) | BF11: (19) | BK11: (20) | BP11: (21) | BU11: (22) | BZ11: (23) | CE11: (24) | CJ11: (25) | CK11: (26) | CL11: (27) | CM11: (28) | CN11: (29) | CO11: (30) | CP11: (31)
A12: =IF(B12="","",SUBTOTAL(3,$B$12:B12)) -> 1 | B12: 13B3080002 | C12: =IF($B12="","",IF(ISNA(VLOOKUP($B12,'DS LOP HKI'!$B$2:$D$1060,2,FALSE))=TRUE,"",VLOOKUP($B12,'DS LOP HKI'!$B$2:$D$1060,2,FALSE))) -> Lâm Thanh | D12: =IF($B12="","",IF(ISNA(VLOOKUP($B12,'DS LOP HKI'!$B$2:$D$1060,3,FALSE))=TRUE,"",VLOOKUP($B12,'DS LOP HKI'!$B$2:$D$1060,3,FALSE))) -> Bình | E12: A | H12: =IF(OR($H$6="",$H$7=""),"",IF($B12="","",IF(ISNA(VLOOKUP($B12,'LT01'!$B$12:$N$51,11,FALSE)),"",IF(VLOOKUP($B12,'LT01'!$B$12:$N$51,11,FALSE)="","",VLOOKUP($B12,'LT01'!$B$12:$N$51,11,FALSE))))) -> 6.3 | I12: =IF(OR($H$6="",$H$7=""),"",IF($B12="","",IF(ISNA(VLOOKUP($B12,'LT01'!$B$12:$N$51,12,FALSE)),"",IF(VLOOKUP($B12,'LT01'!$B$12:$N$51,12,FALSE)="","",VLOOKUP($B12,'LT01'!$B$12:$N$51,12,FALSE))))) -> 6.8 | J12: =IF(OR($H$6="",$H$7=""),"",IF($B12="","",IF(ISNA(VLOOKUP($B12,'LT01'!$B$12:$N$51,13,FALSE)),"",IF(VLOOKUP($B12,'LT01'!$B$12:$N$51,13,FALSE)="","",VLOOKUP($B12,'LT01'!$B$12:$N$51,13,FALSE))))) -> 6.6 | L12: =IF($H$7=0,"",IF(J12="","",IF(K12="","",IF(K12>I12,ROUND((H12*0.4+K12*0.6),1),I12)))) | M12: =IF(OR($M$6="",$M$7=""),"",IF($B12="","",IF(ISNA(VLOOKUP($B12,'LT02'!$B$12:$N$51,11,FALSE)),"",IF(VLOOKUP($B12,'LT02'!$B$12:$N$51,11,FALSE)="","",VLOOKUP($B12,'LT02'!$B$12:$N$51,11,FALSE))))) -> 7.3 | N12: =IF(OR($H$6="",$H$7=""),"",IF($B12="","",IF(ISNA(VLOOKUP($B12,'LT02'!$B$12:$N$51,12,FALSE)),"",IF(VLOOKUP($B12,'LT02'!$B$12:$N$51,12,FALSE)="","",VLOOKUP($B12,'LT02'!$B$12:$N$51,12,FALSE))))) -> 8 | O12: =IF(OR($M$6="",$M$7=""),"",IF($B12="","",IF(ISNA(VLOOKUP($B12,'LT02'!$B$12:$N$51,13,FALSE)),"",IF(VLOOKUP($B12,'LT02'!$B$12:$N$51,13,FALSE)="","",VLOOKUP($B12,'LT02'!$B$12:$N$51,13,FALSE))))) -> 7.7 | Q12: =IF($M$7=0,"",IF(O12="","",IF(P12="","",IF(N12>P12,O12,ROUND((M12*0.4+P12*0.6),1))))) | R12: =IF(OR($R$6="",$R$7=""),"",IF($B12="","",IF(ISNA(VLOOKUP($B12,'LT03'!$B$12:$N$51,11,FALSE)),"",IF(VLOOKUP($B12,'LT03'!$B$12:$N$51,11,FALSE)="","",VLOOKUP($B12,'LT03'!$B$12:$N$51,11,FALSE))))) -> 6.3 | S12: =IF(OR($H$6="",$H$7=""),"",IF($B12="","",IF(ISNA(VLOOKUP($B12,'LT03'!$B$12:$N$51,12,FALSE)),"",IF(VLOOKUP($B12,'LT03'!$B$12:$N$51,12,FALSE)="","",VLOOKUP($B12,'LT03'!$B$12:$N$51,12,FALSE))))) -> 6.6 | T12: =IF(OR($R$6="",$R$7=""),"",IF($B12="","",IF(ISNA(VLOOKUP($B12,'LT03'!$B$12:$N$51,13,FALSE)),"",IF(VLOOKUP($B12,'LT03'!$B$12:$N$51,13,FALSE)="","",VLOOKUP($B12,'LT03'!$B$12:$N$51,13,FALSE))))) -> 6.5 | V12: =IF($R$7=0,"",IF(T12="","",IF(U12="","",IF(S12>U12,T12,ROUND((R12*0.4+U12*0.6),1))))) | W12: =IF(OR($W$6="",$W$7=""),"",IF($B12="","",IF(ISNA(VLOOKUP($B12,'LT04'!$B$12:$N$51,11,FALSE)),"",IF(VLOOKUP($B12,'LT04'!$B$12:$N$51,11,FALSE)="","",VLOOKUP($B12,'LT04'!$B$12:$N$51,11,FALSE))))) -> 5.6 | X12: =IF(OR($H$6="",$H$7=""),"",IF($B12="","",IF(ISNA(VLOOKUP($B12,'LT04'!$B$12:$N$51,12,FALSE)),"",IF(VLOOKUP($B12,'LT04'!$B$12:$N$51,12,FALSE)="","",VLOOKUP($B12,'LT04'!$B$12:$N$51,12,FALSE))))) -> 3 | Y12: =IF(OR($W$6="",$W$7=""),"",IF($B12="","",IF(ISNA(VLOOKUP($B12,'LT04'!$B$12:$N$51,13,FALSE)),"",IF(VLOOKUP($B12,'LT04'!$B$12:$N$51,13,FALSE)="","",VLOOKUP($B12,'LT04'!$B$12:$N$51,13,FALSE))))) -> 4 | AA12: =IF($W$7=0,"",IF(Y12="","",IF(Z12="","",IF(X12>Z12,Y12,ROUND((W12*0.4+Z12*0.6),1))))) | AB12: =IF(OR($AB$6="",$AB$7=""),"",IF($B12="","",IF(ISNA(VLOOKUP($B12,'LT05'!$B$12:$N$51,11,FALSE)),"",IF(VLOOKUP($B12,'LT05'!$B$12:$N$51,11,FALSE)="","",VLOOKUP($B12,'LT05'!$B$12:$N$51,11,FALSE))))) -> 5.3 | AC12: =IF(OR($H$6="",$H$7=""),"",IF($B12="","",IF(ISNA(VLOOKUP($B12,'LT05'!$B$12:$N$51,12,FALSE)),"",IF(VLOOKUP($B12,'LT05'!$B$12:$N$51,12,FALSE)="","",VLOOKUP($B12,'LT05'!$B$12:$N$51,12,FALSE))))) -> 4 | AD12: =IF(OR($AB$6="",$AB$7=""),"",IF($B12="","",IF(ISNA(VLOOKUP($B12,'LT05'!$B$12:$N$51,13,FALSE)),"",IF(VLOOKUP($B12,'LT05'!$B$12:$N$51,13,FALSE)="","",VLOOKUP($B12,'LT05'!$B$12:$N$51,13,FALSE))))) -> 4.5 | AF12: =IF($AB$7=0,"",IF(AD12="","",IF(AE12="","",IF(AC12>AE12,AD12,ROUND((AB12*0.4+AE12*0.6),1))))) | AG12: =IF(OR($AG$6="",$AG$7=""),"",IF($B12="","",IF(ISNA(VLOOKUP($B12,'LT06'!$B$12:$N$51,11,FALSE)),"",IF(VLOOKUP($B12,'LT06'!$B$12:$N$51,11,FALSE)="","",VLOOKUP($B12,'LT06'!$B$12:$N$51,11,FALSE))))) | AH12: =IF(OR($H$6="",$H$7=""),"",IF($B12="","",IF(ISNA(VLOOKUP($B12,'LT06'!$B$12:$N$51,12,FALSE)),"",IF(VLOOKUP($B12,'LT06'!$B$12:$N$51,12,FALSE)="","",VLOOKUP($B12,'LT06'!$B$12:$N$51,12,FALSE))))) | AI12: =IF(OR($AG$6="",$AG$7=""),"",IF($B12="","",IF(ISNA(VLOOKUP($B12,'LT06'!$B$12:$N$51,13,FALSE)),"",IF(VLOOKUP($B12,'LT06'!$B$12:$N$51,13,FALSE)="","",VLOOKUP($B12,'LT06'!$B$12:$N$51,13,FALSE))))) | AK12: =IF($AG$7=0,"",IF(AI12="","",IF(AJ12="","",IF(AH12>AJ12,AI12,ROUND((AG12*0.4+AJ12*0.6),1))))) | AL12: =IF(OR($AL$6="",$AL$7=""),"",IF($B12="","",IF(ISNA(VLOOKUP($B12,'LT07'!$B$12:$N$51,11,FALSE)),"",IF(VLOOKUP($B12,'LT07'!$B$12:$N$51,11,FALSE)="","",VLOOKUP($B12,'LT07'!$B$12:$N$51,11,FALSE))))) | AM12: =IF(OR($H$6="",$H$7=""),"",IF($B12="","",IF(ISNA(VLOOKUP($B12,'LT07'!$B$12:$N$51,12,FALSE)),"",IF(VLOOKUP($B12,'LT07'!$B$12:$N$51,12,FALSE)="","",VLOOKUP($B12,'LT07'!$B$12:$N$51,12,FALSE))))) | AN12: =IF(OR($AL$6="",$AL$7=""),"",IF($B12="","",IF(ISNA(VLOOKUP($B12,'LT07'!$B$12:$N$51,13,FALSE)),"",IF(VLOOKUP($B12,'LT07'!$B$12:$N$51,13,FALSE)="","",VLOOKUP($B12,'LT07'!$B$12:$N$51,13,FALSE))))) | AP12: =IF($AL$7=0,"",IF(AN12="","",IF(AO12="","",IF(AM12>AO12,AN12,ROUND((AL12*0.4+AO12*0.6),1))))) | AQ12: =IF(OR($AQ$6="",$AQ$7=""),"",IF($B12="","",IF(ISNA(VLOOKUP($B12,'LT08'!$B$12:$N$51,11,FALSE)),"",IF(VLOOKUP($B12,'LT08'!$B$12:$N$51,11,FALSE)="","",VLOOKUP($B12,'LT08'!$B$12:$N$51,11,FALSE))))) | AR12: =IF(OR($H$6="",$H$7=""),"",IF($B12="","",IF(ISNA(VLOOKUP($B12,'LT08'!$B$12:$N$51,12,FALSE)),"",IF(VLOOKUP($B12,'LT08'!$B$12:$N$51,12,FALSE)="","",VLOOKUP($B12,'LT08'!$B$12:$N$51,12,FALSE))))) | AS12: =IF(OR($AQ$6="",$AQ$7=""),"",IF($B12="","",IF(ISNA(VLOOKUP($B12,'LT08'!$B$12:$N$51,13,FALSE)),"",IF(VLOOKUP($B12,'LT08'!$B$12:$N$51,13,FALSE)="","",VLOOKUP($B12,'LT08'!$B$12:$N$51,13,FALSE))))) | AU12: =IF($AQ$7=0,"",IF(AS12="","",IF(AT12="","",IF(AR12>AT12,AS12,ROUND((AQ12*0.4+AT12*0.6),1))))) | AV12: =IF(OR($AV$6="",$AV$7=""),"",IF($B12="","",IF(ISNA(VLOOKUP($B12,'LT09'!$B$12:$N$51,11,FALSE)),"",IF(VLOOKUP($B12,'LT09'!$B$12:$N$51,11,FALSE)="","",VLOOKUP($B12,'LT09'!$B$12:$N$51,11,FALSE))))) | AW12: =IF(OR($H$6="",$H$7=""),"",IF($B12="","",IF(ISNA(VLOOKUP($B12,'LT09'!$B$12:$N$51,12,FALSE)),"",IF(VLOOKUP($B12,'LT09'!$B$12:$N$51,12,FALSE)="","",VLOOKUP($B12,'LT09'!$B$12:$N$51,12,FALSE))))) | AX12: =IF(OR($AV$6="",$AV$7=""),"",IF($B12="","",IF(ISNA(VLOOKUP($B12,'LT09'!$B$12:$N$51,13,FALSE)),"",IF(VLOOKUP($B12,'LT09'!$B$12:$N$51,13,FALSE)="","",VLOOKUP($B12,'LT09'!$B$12:$N$51,13,FALSE))))) | AZ12: =IF($AV$7=0,"",IF(AX12="","",IF(AY12="","",IF(AW12>AY12,AX12,ROUND((AV12*0.4+AY12*0.6),1))))) | BC12: =IF(OR($BF$6="",$BF$7=""),"",IF($B12="","",IF(ISNA(VLOOKUP($B12,'DO AN'!$B$12:$N$51,11,FALSE)),"",IF(VLOOKUP($B12,'DO AN'!$B$12:$N$51,11,FALSE)="","",VLOOKUP($B12,'DO AN'!$B$12:$N$51,11,FALSE))))) | BF12: =IF(OR($BF$6="",$BF$7=""),"",IF($B12="","",IF(ISNA(VLOOKUP($B12,'TH01'!$B$12:$N$51,11,FALSE)),"",IF(VLOOKUP($B12,'TH01'!$B$12:$N$51,11,FALSE)="","",VLOOKUP($B12,'TH01'!$B$12:$N$51,11,FALSE))))) -> 6.5 | BG12: =IF(OR($H$6="",$H$7=""),"",IF($B12="","",IF(ISNA(VLOOKUP($B12,'TH01'!$B$12:$N$51,12,FALSE)),"",IF(VLOOKUP($B12,'TH01'!$B$12:$N$51,12,FALSE)="","",VLOOKUP($B12,'TH01'!$B$12:$N$51,12,FALSE))))) -> 7 | BH12: =IF(OR($BF$6="",$BF$7=""),"",IF($B12="","",IF(ISNA(VLOOKUP($B12,'TH01'!$B$12:$N$51,13,FALSE)),"",IF(VLOOKUP($B12,'TH01'!$B$12:$N$51,13,FALSE)="","",VLOOKUP($B12,'TH01'!$B$12:$N$51,13,FALSE))))) -> 6.8 | BJ12: =IF($BF$7=0,"",IF(BH12="","",IF(BI12="","",IF(BG12>BI12,BH12,ROUND((BF12*0.4+BI12*0.6),1))))) | BK12: =IF(OR($BK$6="",$BK$7=""),"",IF($B12="","",IF(ISNA(VLOOKUP($B12,'TH02'!$B$12:$N$51,11,FALSE)),"",IF(VLOOKUP($B12,'TH02'!$B$12:$N$51,11,FALSE)="","",VLOOKUP($B12,'TH02'!$B$12:$N$51,11,FALSE))))) -> 5.3 | BL12: =IF(OR($H$6="",$H$7=""),"",IF($B12="","",IF(ISNA(VLOOKUP($B12,'TH02'!$B$12:$N$51,12,FALSE)),"",IF(VLOOKUP($B12,'TH02'!$B$12:$N$51,12,FALSE)="","",VLOOKUP($B12,'TH02'!$B$12:$N$51,12,FALSE))))) -> 5 | BM12: =IF(OR($BK$6="",$BK$7=""),"",IF($B12="","",IF(ISNA(VLOOKUP($B12,'TH02'!$B$12:$N$51,13,FALSE)),"",IF(VLOOKUP($B12,'TH02'!$B$12:$N$51,13,FALSE)="","",VLOOKUP($B12,'TH02'!$B$12:$N$51,13,FALSE))))) -> 5.1 | BO12: =IF($BK$7=0,"",IF(BM12="","",IF(BN12="","",IF(BL12>BN12,BM12,ROUND((BK12*0.4+BN12*0.6),1))))) | BP12: =IF(OR($BP$6="",$BP$7=""),"",IF($B12="","",IF(ISNA(VLOOKUP($B12,'TH03'!$B$12:$N$51,11,FALSE)),"",IF(VLOOKUP($B12,'TH03'!$B$12:$N$51,11,FALSE)="","",VLOOKUP($B12,'TH03'!$B$12:$N$51,11,FALSE))))) -> 6.9 | BQ12: =IF(OR($H$6="",$H$7=""),"",IF($B12="","",IF(ISNA(VLOOKUP($B12,'TH03'!$B$12:$N$51,12,FALSE)),"",IF(VLOOKUP($B12,'TH03'!$B$12:$N$51,12,FALSE)="","",VLOOKUP($B12,'TH03'!$B$12:$N$51,12,FALSE))))) -> 8 | BR12: =IF(OR($BP$6="",$BP$7=""),"",IF($B12="","",IF(ISNA(VLOOKUP($B12,'TH03'!$B$12:$N$51,13,FALSE)),"",IF(VLOOKUP($B12,'TH03'!$B$12:$N$51,13,FALSE)="","",VLOOKUP($B12,'TH03'!$B$12:$N$51,13,FALSE))))) -> 7.6 | BT12: =IF($BP$7=0,"",IF(BR12="","",IF(BS12="","",IF(BQ12>BS12,BR12,ROUND((BP12*0.4+BS12*0.6),1))))) | BU12: =IF(OR($BU$6="",$BU$7=""),"",IF($B12="","",IF(ISNA(VLOOKUP($B12,'TH04'!$B$12:$N$51,11,FALSE)),"",IF(VLOOKUP($B12,'TH04'!$B$12:$N$51,11,FALSE)="","",VLOOKUP($B12,'TH04'!$B$12:$N$51,11,FALSE))))) | BV12: =IF(OR($H$6="",$H$7=""),"",IF($B12="","",IF(ISNA(VLOOKUP($B12,'TH04'!$B$12:$N$51,12,FALSE)),"",IF(VLOOKUP($B12,'TH04'!$B$12:$N$51,12,FALSE)="","",VLOOKUP($B12,'TH04'!$B$12:$N$51,12,FALSE))))) | BW12: =IF(OR($BU$6="",$BU$7=""),"",IF($B12="","",IF(ISNA(VLOOKUP($B12,'TH04'!$B$12:$N$51,13,FALSE)),"",IF(VLOOKUP($B12,'TH04'!$B$12:$N$51,13,FALSE)="","",VLOOKUP($B12,'TH04'!$B$12:$N$51,13,FALSE))))) | BY12: =IF($BU$7=0,"",IF(BW12="","",IF(BX12="","",IF(BV12>BX12,BW12,ROUND((BU12*0.4+BX12*0.6),1))))) | BZ12: =IF(OR($BZ$6="",$BZ$7=""),"",IF($B12="","",IF(ISNA(VLOOKUP($B12,'TH05'!$B$12:$N$51,11,FALSE)),"",IF(VLOOKUP($B12,'TH05'!$B$12:$N$51,11,FALSE)="","",VLOOKUP($B12,'TH05'!$B$12:$N$51,11,FALSE))))) | CA12: =IF(OR($H$6="",$H$7=""),"",IF($B12="","",IF(ISNA(VLOOKUP($B12,'TH05'!$B$12:$N$51,12,FALSE)),"",IF(VLOOKUP($B12,'TH05'!$B$12:$N$51,12,FALSE)="","",VLOOKUP($B12,'TH05'!$B$12:$N$51,12,FALSE))))) | CB12: =IF(OR($BZ$6="",$BZ$7=""),"",IF($B12="","",IF(ISNA(VLOOKUP($B12,'TH05'!$B$12:$N$51,13,FALSE)),"",IF(VLOOKUP($B12,'TH05'!$B$12:$N$51,13,FALSE)="","",VLOOKUP($B12,'TH05'!$B$12:$N$51,13,FALSE))))) | CD12: =IF($BZ$7=0,"",IF(CB12="","",IF(CC12="","",IF(CA12>CC12,CB12,ROUND((BZ12*0.4+CC12*0.6),1))))) | CE12: =IF(OR($CE$6="",$CE$7=""),"",IF($B12="","",IF(ISNA(VLOOKUP($B12,'TH06'!$B$12:$N$51,11,FALSE)),"",IF(VLOOKUP($B12,'TH06'!$B$12:$N$51,11,FALSE)="","",VLOOKUP($B12,'TH06'!$B$12:$N$51,11,FALSE))))) | CF12: =IF(OR($H$6="",$H$7=""),"",IF($B12="","",IF(ISNA(VLOOKUP($B12,'TH06'!$B$12:$N$51,12,FALSE)),"",IF(VLOOKUP($B12,'TH06'!$B$12:$N$51,12,FALSE)="","",VLOOKUP($B12,'TH06'!$B$12:$N$51,12,FALSE))))) | CG12: =IF(OR($CE$6="",$CE$7=""),"",IF($B12="","",IF(ISNA(VLOOKUP($B12,'TH06'!$B$12:$N$51,13,FALSE)),"",IF(VLOOKUP($B12,'TH06'!$B$12:$N$51,13,FALSE)="","",VLOOKUP($B12,'TH06'!$B$12:$N$51,13,FALSE))))) | CI12: =IF($CE$7=0,"",IF(CG12="","",IF(CH12="","",IF(CF12>CH12,CG12,ROUND((CE12*0.4+CH12*0.6),1))))) | CJ12: =DY12 -> 6.1 | CK12: =FF12 | CM12: =IF(CJ12="","",IF(C12="","",IF(CJ12<4,"Kém",IF(CJ12<5,"Yếu",IF(CJ12<6,"TB",IF(CJ12<7,"TBKhá",IF(CJ12<8,"Khá",IF(CJ12<9,"Giỏi","XS")))))))) -> TBKhá | CN12: =IF(CK12="","",IF(C12="","",IF(CK12<4,"Kém",IF(CK12<5,"Yếu",IF(CK12<6,"TB",IF(CK12<7,"TBKhá",IF(CK12<8,"Khá",IF(CK12<9,"Giỏi","XS")))))))) | CO12: =IF(AND(CJ12>=7,CL12>=70,ISBLANK(CP12)=TRUE,CQ12=0,DH12=0,COUNT(CR12:DG12)>0,COUNT(DI12:DX12)>0),"Xét KT&HB","") | CQ12: =COUNTIF(CR12:DG12,"<5") -> 2 | CR12: =I12 -> 6.8 | CS12: =N12 -> 8 | CT12: =S12 -> 6.6 | CU12: =X12 -> 3 | CV12: =AC12 -> 4 | CW12: =AH12 | CX12: =AM12 | CY12: =AR12 | CZ12: =AW12 | DA12: =BC12 | DB12: =BG12 -> 7 | DC12: =BL12 -> 5 | DD12: =BQ12 -> 8 | DE12: =BV12 | DF12: =CA12 | DG12: =CF12 | DH12: =IF(COUNT(DI12:DX12)=0,"",COUNTIF(DI12:DX12,"<5")) -> 2 | DI12: =J12 -> 6.6 | DJ12: =O12 -> 7.7 | DK12: =T12 -> 6.5 | DL12: =Y12 -> 4 | DM12: =AD12 -> 4.5 | DN12: =AI12 | DO12: =AN12 | DP12: =AS12 | DQ12: =AX12 | DR12: =BC12 | DS12: =BH12 -> 6.8 | DT12: =BM12 -> 5.1 | DU12: =BR12 -> 7.6 | DV12: =BW12 | DW12: =CB12 | DX12: =CG12 | DY12: =IF(COUNT(DI12:DX12)=0,"",ROUND(SUMPRODUCT(DI12:DX12,$DI$7:$DX$7)/SUM($DI$7:$DX$7),1)) -> 6.1 | DZ12: =L12 | EA12: =Q12 | EB12: =V12 | EC12: =AA12 | ED12: =AF12 | EE12: =AK12 | EF12: =AP12 | EG12: =AU12 | EH12: =AZ12 | EI12: =IF(BE12="","",BE12) | EJ12: =BJ12 | EK12: =BO12 | EL12: =BT12 | EM12: =BY12 | EN12: =CD12 | EO12: =CI12 | EP12: =IF(AND(I12="",ISNUMBER(J12),K12=""),J12,IF(I12>=K12,J12,L12)) -> 6.6 | EQ12: =IF(AND(N12="",ISNUMBER(O12),P12=""),O12,IF(N12>=P12,O12,Q12)) -> 7.7 | ER12: =IF(AND(S12="",ISNUMBER(T12),U12=""),T12,IF(S12>=U12,T12,V12)) -> 6.5 | ES12: =IF(AND(X12="",ISNUMBER(Y12),Z12=""),Y12,IF(X12>=Z12,Y12,AA12)) -> 4 | ET12: =IF(AND(AC12="",ISNUMBER(AD12),AE12=""),AD12,IF(AC12>=AE12,AD12,AF12)) -> 4.5 | EU12: =IF(AND(AH12="",ISNUMBER(AI12),AJ12=""),AI12,IF(AH12>=AJ12,AI12,AK12)) | EV12: =IF(AND(AM12="",ISNUMBER(AN12),AO12=""),AN12,IF(AM12>=AO12,AN12,AP12)) | EW12: =IF(AND(AR12="",ISNUMBER(AS12),AT12=""),AS12,IF(AR12>=AT12,AS12,AU12)) | EX12: =IF(AND(AW12="",ISNUMBER(AX12),AY12=""),AX12,IF(AW12>=AY12,AX12,AZ12)) | EY12: =IF(BE12="","",BE12) | EZ12: =IF(AND(BG12="",ISNUMBER(BH12),BI12=""),BH12,IF(BG12>=BI12,BH12,BJ12)) -> 6.8 | FA12: =IF(AND(BL12="",ISNUMBER(BM12),BN12=""),BM12,IF(BL12>=BN12,BM12,BO12)) -> 5.1 | FB12: =IF(AND(BQ12="",ISNUMBER(BR12),BS12=""),BR12,IF(BQ12>=BS12,BR12,BT12)) -> 7.6 | FC12: =IF(AND(BV12="",ISNUMBER(BW12),BX12=""),BW12,IF(BV12>=BX12,BW12,BY12)) | FD12: =IF(AND(CA12="",ISNUMBER(CB12),CC12=""),CB12,IF(CA12>=CC12,CB12,CD12)) | FE12: =IF(AND(CF12="",ISNUMBER(CG12),CH12=""),CG12,IF(CF12>=CH12,CG12,CI12)) | FF12: =IF(COUNT(DZ12:EO12)=0,"",ROUND(SUMPRODUCT(EP12:FE12,$EP$7:$FE$7)/SUM($EP$7:$FE$7),1))
A13: =IF(B13="","",IF(SUBTOTAL(3,$B$12:B13)=SUBTOTAL(3,$B$12:B12),"",SUBTOTAL(3,$B$12:B13))) -> 2 | B13: 13B3080004 | C13: =IF($B13="","",IF(ISNA(VLOOKUP($B13,'DS LOP HKI'!$B$2:$D$1060,2,FALSE))=TRUE,"",VLOOKUP($B13,'DS LOP HKI'!$B$2:$D$1060,2,FALSE))) -> Nguyễn | D13: =IF($B13="","",IF(ISNA(VLOOKUP($B13,'DS LOP HKI'!$B$2:$D$1060,3,FALSE))=TRUE,"",VLOOKUP($B13,'DS LOP HKI'!$B$2:$D$1060,3,FALSE))) -> Cảnh | E13: B | H13: =IF(OR($H$6="",$H$7=""),"",IF($B13="","",IF(ISNA(VLOOKUP($B13,'LT01'!$B$12:$N$51,11,FALSE)),"",IF(VLOOKUP($B13,'LT01'!$B$12:$N$51,11,FALSE)="","",VLOOKUP($B13,'LT01'!$B$12:$N$51,11,FALSE))))) -> 5.8 | I13: =IF(OR($H$6="",$H$7=""),"",IF($B13="","",IF(ISNA(VLOOKUP($B13,'LT01'!$B$12:$N$51,12,FALSE)),"",IF(VLOOKUP($B13,'LT01'!$B$12:$N$51,12,FALSE)="","",VLOOKUP($B13,'LT01'!$B$12:$N$51,12,FALSE))))) -> 4.4 | J13: =IF(OR($H$6="",$H$7=""),"",IF($B13="","",IF(ISNA(VLOOKUP($B13,'LT01'!$B$12:$N$51,13,FALSE)),"",IF(VLOOKUP($B13,'LT01'!$B$12:$N$51,13,FALSE)="","",VLOOKUP($B13,'LT01'!$B$12:$N$51,13,FALSE))))) -> 5 | L13: =IF($H$7=0,"",IF(J13="","",IF(K13="","",IF(K13>I13,ROUND((H13*0.4+K13*0.6),1),I13)))) | M13: =IF(OR($M$6="",$M$7=""),"",IF($B13="","",IF(ISNA(VLOOKUP($B13,'LT02'!$B$12:$N$51,11,FALSE)),"",IF(VLOOKUP($B13,'LT02'!$B$12:$N$51,11,FALSE)="","",VLOOKUP($B13,'LT02'!$B$12:$N$51,11,FALSE))))) -> 4 | N13: =IF(OR($H$6="",$H$7=""),"",IF($B13="","",IF(ISNA(VLOOKUP($B13,'LT02'!$B$12:$N$51,12,FALSE)),"",IF(VLOOKUP($B13,'LT02'!$B$12:$N$51,12,FALSE)="","",VLOOKUP($B13,'LT02'!$B$12:$N$51,12,FALSE))))) -> 3.5 | O13: =IF(OR($M$6="",$M$7=""),"",IF($B13="","",IF(ISNA(VLOOKUP($B13,'LT02'!$B$12:$N$51,13,FALSE)),"",IF(VLOOKUP($B13,'LT02'!$B$12:$N$51,13,FALSE)="","",VLOOKUP($B13,'LT02'!$B$12:$N$51,13,FALSE))))) -> 3.7 | Q13: =IF($M$7=0,"",IF(O13="","",IF(P13="","",IF(N13>P13,O13,ROUND((M13*0.4+P13*0.6),1))))) | R13: =IF(OR($R$6="",$R$7=""),"",IF($B13="","",IF(ISNA(VLOOKUP($B13,'LT03'!$B$12:$N$51,11,FALSE)),"",IF(VLOOKUP($B13,'LT03'!$B$12:$N$51,11,FALSE)="","",VLOOKUP($B13,'LT03'!$B$12:$N$51,11,FALSE))))) -> 6.4 | S13: =IF(OR($H$6="",$H$7=""),"",IF($B13="","",IF(ISNA(VLOOKUP($B13,'LT03'!$B$12:$N$51,12,FALSE)),"",IF(VLOOKUP($B13,'LT03'!$B$12:$N$51,12,FALSE)="","",VLOOKUP($B13,'LT03'!$B$12:$N$51,12,FALSE))))) -> 5.8 | T13: =IF(OR($R$6="",$R$7=""),"",IF($B13="","",IF(ISNA(VLOOKUP($B13,'LT03'!$B$12:$N$51,13,FALSE)),"",IF(VLOOKUP($B13,'LT03'!$B$12:$N$51,13,FALSE)="","",VLOOKUP($B13,'LT03'!$B$12:$N$51,13,FALSE))))) -> 6 | V13: =IF($R$7=0,"",IF(T13="","",IF(U13="","",IF(S13>U13,T13,ROUND((R13*0.4+U13*0.6),1))))) | W13: =IF(OR($W$6="",$W$7=""),"",IF($B13="","",IF(ISNA(VLOOKUP($B13,'LT04'!$B$12:$N$51,11,FALSE)),"",IF(VLOOKUP($B13,'LT04'!$B$12:$N$51,11,FALSE)="","",VLOOKUP($B13,'LT04'!$B$12:$N$51,11,FALSE))))) -> 4 | X13: =IF(OR($H$6="",$H$7=""),"",IF($B13="","",IF(ISNA(VLOOKUP($B13,'LT04'!$B$12:$N$51,12,FALSE)),"",IF(VLOOKUP($B13,'LT04'!$B$12:$N$51,12,FALSE)="","",VLOOKUP($B13,'LT04'!$B$12:$N$51,12,FALSE))))) -> 7.5 | Y13: =IF(OR($W$6="",$W$7=""),"",IF($B13="","",IF(ISNA(VLOOKUP($B13,'LT04'!$B$12:$N$51,13,FALSE)),"",IF(VLOOKUP($B13,'LT04'!$B$12:$N$51,13,FALSE)="","",VLOOKUP($B13,'LT04'!$B$12:$N$51,13,FALSE))))) -> 6.1 | AA13: =IF($W$7=0,"",IF(Y13="","",IF(Z13="","",IF(X13>Z13,Y13,ROUND((W13*0.4+Z13*0.6),1))))) | AB13: =IF(OR($AB$6="",$AB$7=""),"",IF($B13="","",IF(ISNA(VLOOKUP($B13,'LT05'!$B$12:$N$51,11,FALSE)),"",IF(VLOOKUP($B13,'LT05'!$B$12:$N$51,11,FALSE)="","",VLOOKUP($B13,'LT05'!$B$12:$N$51,11,FALSE))))) -> 5 | AC13: =IF(OR($H$6="",$H$7=""),"",IF($B13="","",IF(ISNA(VLOOKUP($B13,'LT05'!$B$12:$N$51,12,FALSE)),"",IF(VLOOKUP($B13,'LT05'!$B$12:$N$51,12,FALSE)="","",VLOOKUP($B13,'LT05'!$B$12:$N$51,12,FALSE))))) -> 4 | AD13: =IF(OR($AB$6="",$AB$7=""),"",IF($B13="","",IF(ISNA(VLOOKUP($B13,'LT05'!$B$12:$N$51,13,FALSE)),"",IF(VLOOKUP($B13,'LT05'!$B$12:$N$51,13,FALSE)="","",VLOOKUP($B13,'LT05'!$B$12:$N$51,13,FALSE))))) -> 4.4 | AF13: =IF($AB$7=0,"",IF(AD13="","",IF(AE13="","",IF(AC13>AE13,AD13,ROUND((AB13*0.4+AE13*0.6),1))))) | AG13: =IF(OR($AG$6="",$AG$7=""),"",IF($B13="","",IF(ISNA(VLOOKUP($B13,'LT06'!$B$12:$N$51,11,FALSE)),"",IF(VLOOKUP($B13,'LT06'!$B$12:$N$51,11,FALSE)="","",VLOOKUP($B13,'LT06'!$B$12:$N$51,11,FALSE))))) | AH13: =IF(OR($H$6="",$H$7=""),"",IF($B13="","",IF(ISNA(VLOOKUP($B13,'LT06'!$B$12:$N$51,12,FALSE)),"",IF(VLOOKUP($B13,'LT06'!$B$12:$N$51,12,FALSE)="","",VLOOKUP($B13,'LT06'!$B$12:$N$51,12,FALSE))))) | AI13: =IF(OR($AG$6="",$AG$7=""),"",IF($B13="","",IF(ISNA(VLOOKUP($B13,'LT06'!$B$12:$N$51,13,FALSE)),"",IF(VLOOKUP($B13,'LT06'!$B$12:$N$51,13,FALSE)="","",VLOOKUP($B13,'LT06'!$B$12:$N$51,13,FALSE))))) | AK13: =IF($AG$7=0,"",IF(AI13="","",IF(AJ13="","",IF(AH13>AJ13,AI13,ROUND((AG13*0.4+AJ13*0.6),1))))) | AL13: =IF(OR($AL$6="",$AL$7=""),"",IF($B13="","",IF(ISNA(VLOOKUP($B13,'LT07'!$B$12:$N$51,11,FALSE)),"",IF(VLOOKUP($B13,'LT07'!$B$12:$N$51,11,FALSE)="","",VLOOKUP($B13,'LT07'!$B$12:$N$51,11,FALSE))))) | AM13: =IF(OR($H$6="",$H$7=""),"",IF($B13="","",IF(ISNA(VLOOKUP($B13,'LT07'!$B$12:$N$51,12,FALSE)),"",IF(VLOOKUP($B13,'LT07'!$B$12:$N$51,12,FALSE)="","",VLOOKUP($B13,'LT07'!$B$12:$N$51,12,FALSE))))) | AN13: =IF(OR($AL$6="",$AL$7=""),"",IF($B13="","",IF(ISNA(VLOOKUP($B13,'LT07'!$B$12:$N$51,13,FALSE)),"",IF(VLOOKUP($B13,'LT07'!$B$12:$N$51,13,FALSE)="","",VLOOKUP($B13,'LT07'!$B$12:$N$51,13,FALSE))))) | AP13: =IF($AL$7=0,"",IF(AN13="","",IF(AO13="","",IF(AM13>AO13,AN13,ROUND((AL13*0.4+AO13*0.6),1))))) | AQ13: =IF(OR($AQ$6="",$AQ$7=""),"",IF($B13="","",IF(ISNA(VLOOKUP($B13,'LT08'!$B$12:$N$51,11,FALSE)),"",IF(VLOOKUP($B13,'LT08'!$B$12:$N$51,11,FALSE)="","",VLOOKUP($B13,'LT08'!$B$12:$N$51,11,FALSE))))) | AR13: =IF(OR($H$6="",$H$7=""),"",IF($B13="","",IF(ISNA(VLOOKUP($B13,'LT08'!$B$12:$N$51,12,FALSE)),"",IF(VLOOKUP($B13,'LT08'!$B$12:$N$51,12,FALSE)="","",VLOOKUP($B13,'LT08'!$B$12:$N$51,12,FALSE))))) | AS13: =IF(OR($AQ$6="",$AQ$7=""),"",IF($B13="","",IF(ISNA(VLOOKUP($B13,'LT08'!$B$12:$N$51,13,FALSE)),"",IF(VLOOKUP($B13,'LT08'!$B$12:$N$51,13,FALSE)="","",VLOOKUP($B13,'LT08'!$B$12:$N$51,13,FALSE))))) | AU13: =IF($AQ$7=0,"",IF(AS13="","",IF(AT13="","",IF(AR13>AT13,AS13,ROUND((AQ13*0.4+AT13*0.6),1))))) | AV13: =IF(OR($AV$6="",$AV$7=""),"",IF($B13="","",IF(ISNA(VLOOKUP($B13,'LT09'!$B$12:$N$51,11,FALSE)),"",IF(VLOOKUP($B13,'LT09'!$B$12:$N$51,11,FALSE)="","",VLOOKUP($B13,'LT09'!$B$12:$N$51,11,FALSE))))) | AW13: =IF(OR($H$6="",$H$7=""),"",IF($B13="","",IF(ISNA(VLOOKUP($B13,'LT09'!$B$12:$N$51,12,FALSE)),"",IF(VLOOKUP($B13,'LT09'!$B$12:$N$51,12,FALSE)="","",VLOOKUP($B13,'LT09'!$B$12:$N$51,12,FALSE))))) | AX13: =IF(OR($AV$6="",$AV$7=""),"",IF($B13="","",IF(ISNA(VLOOKUP($B13,'LT09'!$B$12:$N$51,13,FALSE)),"",IF(VLOOKUP($B13,'LT09'!$B$12:$N$51,13,FALSE)="","",VLOOKUP($B13,'LT09'!$B$12:$N$51,13,FALSE))))) | AZ13: =IF($AV$7=0,"",IF(AX13="","",IF(AY13="","",IF(AW13>AY13,AX13,ROUND((AV13*0.4+AY13*0.6),1))))) | BC13: =IF(OR($BF$6="",$BF$7=""),"",IF($B13="","",IF(ISNA(VLOOKUP($B13,'DO AN'!$B$12:$N$51,11,FALSE)),"",IF(VLOOKUP($B13,'DO AN'!$B$12:$N$51,11,FALSE)="","",VLOOKUP($B13,'DO AN'!$B$12:$N$51,11,FALSE))))) | BF13: =IF(OR($BF$6="",$BF$7=""),"",IF($B13="","",IF(ISNA(VLOOKUP($B13,'TH01'!$B$12:$N$51,11,FALSE)),"",IF(VLOOKUP($B13,'TH01'!$B$12:$N$51,11,FALSE)="","",VLOOKUP($B13,'TH01'!$B$12:$N$51,11,FALSE))))) -> 5 | BG13: =IF(OR($H$6="",$H$7=""),"",IF($B13="","",IF(ISNA(VLOOKUP($B13,'TH01'!$B$12:$N$51,12,FALSE)),"",IF(VLOOKUP($B13,'TH01'!$B$12:$N$51,12,FALSE)="","",VLOOKUP($B13,'TH01'!$B$12:$N$51,12,FALSE))))) -> 5 | BH13: =IF(OR($BF$6="",$BF$7=""),"",IF($B13="","",IF(ISNA(VLOOKUP($B13,'TH01'!$B$12:$N$51,13,FALSE)),"",IF(VLOOKUP($B13,'TH01'!$B$12:$N$51,13,FALSE)="","",VLOOKUP($B13,'TH01'!$B$12:$N$51,13,FALSE))))) -> 5 | BJ13: =IF($BF$7=0,"",IF(BH13="","",IF(BI13="","",IF(BG13>BI13,BH13,ROUND((BF13*0.4+BI13*0.6),1))))) | BK13: =IF(OR($BK$6="",$BK$7=""),"",IF($B13="","",IF(ISNA(VLOOKUP($B13,'TH02'!$B$12:$N$51,11,FALSE)),"",IF(VLOOKUP($B13,'TH02'!$B$12:$N$51,11,FALSE)="","",VLOOKUP($B13,'TH02'!$B$12:$N$51,11,FALSE))))) -> 5 | BL13: =IF(OR($H$6="",$H$7=""),"",IF($B13="","",IF(ISNA(VLOOKUP($B13,'TH02'!$B$12:$N$51,12,FALSE)),"",IF(VLOOKUP($B13,'TH02'!$B$12:$N$51,12,FALSE)="","",VLOOKUP($B13,'TH02'!$B$12:$N$51,12,FALSE))))) -> 5 | BM13: =IF(OR($BK$6="",$BK$7=""),"",IF($B13="","",IF(ISNA(VLOOKUP($B13,'TH02'!$B$12:$N$51,13,FALSE)),"",IF(VLOOKUP($B13,'TH02'!$B$12:$N$51,13,FALSE)="","",VLOOKUP($B13,'TH02'!$B$12:$N$51,13,FALSE))))) -> 5 | BO13: =IF($BK$7=0,"",IF(BM13="","",IF(BN13="","",IF(BL13>BN13,BM13,ROUND((BK13*0.4+BN13*0.6),1))))) | BP13: =IF(OR($BP$6="",$BP$7=""),"",IF($B13="","",IF(ISNA(VLOOKUP($B13,'TH03'!$B$12:$N$51,11,FALSE)),"",IF(VLOOKUP($B13,'TH03'!$B$12:$N$51,11,FALSE)="","",VLOOKUP($B13,'TH03'!$B$12:$N$51,11,FALSE))))) -> 5 | BQ13: =IF(OR($H$6="",$H$7=""),"",IF($B13="","",IF(ISNA(VLOOKUP($B13,'TH03'!$B$12:$N$51,12,FALSE)),"",IF(VLOOKUP($B13,'TH03'!$B$12:$N$51,12,FALSE)="","",VLOOKUP($B13,'TH03'!$B$12:$N$51,12,FALSE))))) -> 7 | BR13: =IF(OR($BP$6="",$BP$7=""),"",IF($B13="","",IF(ISNA(VLOOKUP($B13,'TH03'!$B$12:$N$51,13,FALSE)),"",IF(VLOOKUP($B13,'TH03'!$B$12:$N$51,13,FALSE)="","",VLOOKUP($B13,'TH03'!$B$12:$N$51,13,FALSE))))) -> 6.2 | BT13: =IF($BP$7=0,"",IF(BR13="","",IF(BS13="","",IF(BQ13>BS13,BR13,ROUND((BP13*0.4+BS13*0.6),1))))) | BU13: =IF(OR($BU$6="",$BU$7=""),"",IF($B13="","",IF(ISNA(VLOOKUP($B13,'TH04'!$B$12:$N$51,11,FALSE)),"",IF(VLOOKUP($B13,'TH04'!$B$12:$N$51,11,FALSE)="","",VLOOKUP($B13,'TH04'!$B$12:$N$51,11,FALSE))))) | BV13: =IF(OR($H$6="",$H$7=""),"",IF($B13="","",IF(ISNA(VLOOKUP($B13,'TH04'!$B$12:$N$51,12,FALSE)),"",IF(VLOOKUP($B13,'TH04'!$B$12:$N$51,12,FALSE)="","",VLOOKUP($B13,'TH04'!$B$12:$N$51,12,FALSE))))) | BW13: =IF(OR($BU$6="",$BU$7=""),"",IF($B13="","",IF(ISNA(VLOOKUP($B13,'TH04'!$B$12:$N$51,13,FALSE)),"",IF(VLOOKUP($B13,'TH04'!$B$12:$N$51,13,FALSE)="","",VLOOKUP($B13,'TH04'!$B$12:$N$51,13,FALSE))))) | BY13: =IF($BU$7=0,"",IF(BW13="","",IF(BX13="","",IF(BV13>BX13,BW13,ROUND((BU13*0.4+BX13*0.6),1))))) | BZ13: =IF(OR($BZ$6="",$BZ$7=""),"",IF($B13="","",IF(ISNA(VLOOKUP($B13,'TH05'!$B$12:$N$51,11,FALSE)),"",IF(VLOOKUP($B13,'TH05'!$B$12:$N$51,11,FALSE)="","",VLOOKUP($B13,'TH05'!$B$12:$N$51,11,FALSE))))) | CA13: =IF(OR($H$6="",$H$7=""),"",IF($B13="","",IF(ISNA(VLOOKUP($B13,'TH05'!$B$12:$N$51,12,FALSE)),"",IF(VLOOKUP($B13,'TH05'!$B$12:$N$51,12,FALSE)="","",VLOOKUP($B13,'TH05'!$B$12:$N$51,12,FALSE))))) | CB13: =IF(OR($BZ$6="",$BZ$7=""),"",IF($B13="","",IF(ISNA(VLOOKUP($B13,'TH05'!$B$12:$N$51,13,FALSE)),"",IF(VLOOKUP($B13,'TH05'!$B$12:$N$51,13,FALSE)="","",VLOOKUP($B13,'TH05'!$B$12:$N$51,13,FALSE))))) | CD13: =IF($BZ$7=0,"",IF(CB13="","",IF(CC13="","",IF(CA13>CC13,CB13,ROUND((BZ13*0.4+CC13*0.6),1))))) | CE13: =IF(OR($CE$6="",$CE$7=""),"",IF($B13="","",IF(ISNA(VLOOKUP($B13,'TH06'!$B$12:$N$51,11,FALSE)),"",IF(VLOOKUP($B13,'TH06'!$B$12:$N$51,11,FALSE)="","",VLOOKUP($B13,'TH06'!$B$12:$N$51,11,FALSE))))) | CF13: =IF(OR($H$6="",$H$7=""),"",IF($B13="","",IF(ISNA(VLOOKUP($B13,'TH06'!$B$12:$N$51,12,FALSE)),"",IF(VLOOKUP($B13,'TH06'!$B$12:$N$51,12,FALSE)="","",VLOOKUP($B13,'TH06'!$B$12:$N$51,12,FALSE))))) | CG13: =IF(OR($CE$6="",$CE$7=""),"",IF($B13="","",IF(ISNA(VLOOKUP($B13,'TH06'!$B$12:$N$51,13,FALSE)),"",IF(VLOOKUP($B13,'TH06'!$B$12:$N$51,13,FALSE)="","",VLOOKUP($B13,'TH06'!$B$12:$N$51,13,FALSE))))) | CI13: =IF($CE$7=0,"",IF(CG13="","",IF(CH13="","",IF(CF13>CH13,CG13,ROUND((CE13*0.4+CH13*0.6),1))))) | CJ13: =DY13 -> 5.3 | CK13: =FF13 | CM13: =IF(CJ13="","",IF(C13="","",IF(CJ13<4,"Kém",IF(CJ13<5,"Yếu",IF(CJ13<6,"TB",IF(CJ13<7,"TBKhá",IF(CJ13<8,"Khá",IF(CJ13<9,"Giỏi","XS")))))))) -> TB | CN13: =IF(CK13="","",IF(C13="","",IF(CK13<4,"Kém",IF(CK13<5,"Yếu",IF(CK13<6,"TB",IF(CK13<7,"TBKhá",IF(CK13<8,"Khá",IF(CK13<9,"Giỏi","XS")))))))) | CO13: =IF(AND(CJ13>=7,CL13>=70,ISBLANK(CP13)=TRUE,CQ13=0,DH13=0,COUNT(CR13:DG13)>0,COUNT(DI13:DX13)>0),"Xét KT&HB","") | CQ13: =COUNTIF(CR13:DG13,"<5") -> 3 | CR13: =I13 -> 4.4 | CS13: =N13 -> 3.5 | CT13: =S13 -> 5.8 | CU13: =X13 -> 7.5 | CV13: =AC13 -> 4 | CW13: =AH13 | CX13: =AM13 | CY13: =AR13 | CZ13: =AW13 | DA13: =BC13 | DB13: =BG13 -> 5 | DC13: =BL13 -> 5 | DD13: =BQ13 -> 7 | DE13: =BV13 | DF13: =CA13 | DG13: =CF13 | DH13: =IF(COUNT(DI13:DX13)=0,"",COUNTIF(DI13:DX13,"<5")) -> 2 | DI13: =J13 -> 5 | DJ13: =O13 -> 3.7 | DK13: =T13 -> 6 | DL13: =Y13 -> 6.1 | DM13: =AD13 -> 4.4 | DN13: =AI13 | DO13: =AN13 | DP13: =AS13 | DQ13: =AX13 | DR13: =BC13 | DS13: =BH13 -> 5 | DT13: =BM13 -> 5 | DU13: =BR13 -> 6.2 | DV13: =BW13 | DW13: =CB13 | DX13: =CG13 | DY13: =IF(COUNT(DI13:DX13)=0,"",ROUND(SUMPRODUCT(DI13:DX13,$DI$7:$DX$7)/SUM($DI$7:$DX$7),1)) -> 5.3 | DZ13: =L13 | EA13: =Q13 | EB13: =V13 | EC13: =AA13 | ED13: =AF13 | EE13: =AK13 | EF13: =AP13 | EG13: =AU13 | EH13: =AZ13 | EI13: =IF(BE13="","",BE13) | EJ13: =BJ13 | EK13: =BO13 | EL13: =BT13 | EM13: =BY13 | EN13: =CD13 | EO13: =CI13 | EP13: =IF(AND(I13="",ISNUMBER(J13),K13=""),J13,IF(I13>=K13,J13,L13)) -> 5 | EQ13: =IF(AND(N13="",ISNUMBER(O13),P13=""),O13,IF(N13>=P13,O13,Q13)) -> 3.7 | ER13: =IF(AND(S13="",ISNUMBER(T13),U13=""),T13,IF(S13>=U13,T13,V13)) -> 6 | ES13: =IF(AND(X13="",ISNUMBER(Y13),Z13=""),Y13,IF(X13>=Z13,Y13,AA13)) -> 6.1 | ET13: =IF(AND(AC13="",ISNUMBER(AD13),AE13=""),AD13,IF(AC13>=AE13,AD13,AF13)) -> 4.4 | EU13: =IF(AND(AH13="",ISNUMBER(AI13),AJ13=""),AI13,IF(AH13>=AJ13,AI13,AK13)) | EV13: =IF(AND(AM13="",ISNUMBER(AN13),AO13=""),AN13,IF(AM13>=AO13,AN13,AP13)) | EW13: =IF(AND(AR13="",ISNUMBER(AS13),AT13=""),AS13,IF(AR13>=AT13,AS13,AU13)) | EX13: =IF(AND(AW13="",ISNUMBER(AX13),AY13=""),AX13,IF(AW13>=AY13,AX13,AZ13)) | EY13: =IF(BE13="","",BE13) | EZ13: =IF(AND(BG13="",ISNUMBER(BH13),BI13=""),BH13,IF(BG13>=BI13,BH13,BJ13)) -> 5 | FA13: =IF(AND(BL13="",ISNUMBER(BM13),BN13=""),BM13,IF(BL13>=BN13,BM13,BO13)) -> 5 | FB13: =IF(AND(BQ13="",ISNUMBER(BR13),BS13=""),BR13,IF(BQ13>=BS13,BR13,BT13)) -> 6.2 | FC13: =IF(AND(BV13="",ISNUMBER(BW13),BX13=""),BW13,IF(BV13>=BX13,BW13,BY13)) | FD13: =IF(AND(CA13="",ISNUMBER(CB13),CC13=""),CB13,IF(CA13>=CC13,CB13,CD13)) | FE13: =IF(AND(CF13="",ISNUMBER(CG13),CH13=""),CG13,IF(CF13>=CH13,CG13,CI13)) | FF13: =IF(COUNT(DZ13:EO13)=0,"",ROUND(SUMPRODUCT(EP13:FE13,$EP$7:$FE$7)/SUM($EP$7:$FE$7),1))
A14: =IF(B14="","",IF(SUBTOTAL(3,$B$12:B14)=SUBTOTAL(3,$B$12:B13),"",SUBTOTAL(3,$B$12:B14))) -> 3 | B14: 13B3080104 | C14: =IF($B14="","",IF(ISNA(VLOOKUP($B14,'DS LOP HKI'!$B$2:$D$1060,2,FALSE))=TRUE,"",VLOOKUP($B14,'DS LOP HKI'!$B$2:$D$1060,2,FALSE))) -> Lê Minh | D14: =IF($B14="","",IF(ISNA(VLOOKUP($B14,'DS LOP HKI'!$B$2:$D$1060,3,FALSE))=TRUE,"",VLOOKUP($B14,'DS LOP HKI'!$B$2:$D$1060,3,FALSE))) -> Cường | E14: B | H14: =IF(OR($H$6="",$H$7=""),"",IF($B14="","",IF(ISNA(VLOOKUP($B14,'LT01'!$B$12:$N$51,11,FALSE)),"",IF(VLOOKUP($B14,'LT01'!$B$12:$N$51,11,FALSE)="","",VLOOKUP($B14,'LT01'!$B$12:$N$51,11,FALSE))))) -> 4.5 | I14: =IF(OR($H$6="",$H$7=""),"",IF($B14="","",IF(ISNA(VLOOKUP($B14,'LT01'!$B$12:$N$51,12,FALSE)),"",IF(VLOOKUP($B14,'LT01'!$B$12:$N$51,12,FALSE)="","",VLOOKUP($B14,'LT01'!$B$12:$N$51,12,FALSE))))) -> 0 | J14: =IF(OR($H$6="",$H$7=""),"",IF($B14="","",IF(ISNA(VLOOKUP($B14,'LT01'!$B$12:$N$51,13,FALSE)),"",IF(VLOOKUP($B14,'LT01'!$B$12:$N$51,13,FALSE)="","",VLOOKUP($B14,'LT01'!$B$12:$N$51,13,FALSE))))) -> 1.8 | L14: =IF($H$7=0,"",IF(J14="","",IF(K14="","",IF(K14>I14,ROUND((H14*0.4+K14*0.6),1),I14)))) | M14: =IF(OR($M$6="",$M$7=""),"",IF($B14="","",IF(ISNA(VLOOKUP($B14,'LT02'!$B$12:$N$51,11,FALSE)),"",IF(VLOOKUP($B14,'LT02'!$B$12:$N$51,11,FALSE)="","",VLOOKUP($B14,'LT02'!$B$12:$N$51,11,FALSE))))) -> 3 | N14: =IF(OR($H$6="",$H$7=""),"",IF($B14="","",IF(ISNA(VLOOKUP($B14,'LT02'!$B$12:$N$51,12,FALSE)),"",IF(VLOOKUP($B14,'LT02'!$B$12:$N$51,12,FALSE)="","",VLOOKUP($B14,'LT02'!$B$12:$N$51,12,FALSE))))) -> 4.5 | O14: =IF(OR($M$6="",$M$7=""),"",IF($B14="","",IF(ISNA(VLOOKUP($B14,'LT02'!$B$12:$N$51,13,FALSE)),"",IF(VLOOKUP($B14,'LT02'!$B$12:$N$51,13,FALSE)="","",VLOOKUP($B14,'LT02'!$B$12:$N$51,13,FALSE))))) -> 3.9 | Q14: =IF($M$7=0,"",IF(O14="","",IF(P14="","",IF(N14>P14,O14,ROUND((M14*0.4+P14*0.6),1))))) | R14: =IF(OR($R$6="",$R$7=""),"",IF($B14="","",IF(ISNA(VLOOKUP($B14,'LT03'!$B$12:$N$51,11,FALSE)),"",IF(VLOOKUP($B14,'LT03'!$B$12:$N$51,11,FALSE)="","",VLOOKUP($B14,'LT03'!$B$12:$N$51,11,FALSE))))) -> 6.1 | S14: =IF(OR($H$6="",$H$7=""),"",IF($B14="","",IF(ISNA(VLOOKUP($B14,'LT03'!$B$12:$N$51,12,FALSE)),"",IF(VLOOKUP($B14,'LT03'!$B$12:$N$51,12,FALSE)="","",VLOOKUP($B14,'LT03'!$B$12:$N$51,12,FALSE))))) -> 4.9 | T14: =IF(OR($R$6="",$R$7=""),"",IF($B14="","",IF(ISNA(VLOOKUP($B14,'LT03'!$B$12:$N$51,13,FALSE)),"",IF(VLOOKUP($B14,'LT03'!$B$12:$N$51,13,FALSE)="","",VLOOKUP($B14,'LT03'!$B$12:$N$51,13,FALSE))))) -> 5.4 | V14: =IF($R$7=0,"",IF(T14="","",IF(U14="","",IF(S14>U14,T14,ROUND((R14*0.4+U14*0.6),1))))) | W14: =IF(OR($W$6="",$W$7=""),"",IF($B14="","",IF(ISNA(VLOOKUP($B14,'LT04'!$B$12:$N$51,11,FALSE)),"",IF(VLOOKUP($B14,'LT04'!$B$12:$N$51,11,FALSE)="","",VLOOKUP($B14,'LT04'!$B$12:$N$51,11,FALSE))))) -> 3.8 | X14: =IF(OR($H$6="",$H$7=""),"",IF($B14="","",IF(ISNA(VLOOKUP($B14,'LT04'!$B$12:$N$51,12,FALSE)),"",IF(VLOOKUP($B14,'LT04'!$B$12:$N$51,12,FALSE)="","",VLOOKUP($B14,'LT04'!$B$12:$N$51,12,FALSE))))) -> 7.5 | Y14: =IF(OR($W$6="",$W$7=""),"",IF($B14="","",IF(ISNA(VLOOKUP($B14,'LT04'!$B$12:$N$51,13,FALSE)),"",IF(VLOOKUP($B14,'LT04'!$B$12:$N$51,13,FALSE)="","",VLOOKUP($B14,'LT04'!$B$12:$N$51,13,FALSE))))) -> 6 | AA14: =IF($W$7=0,"",IF(Y14="","",IF(Z14="","",IF(X14>Z14,Y14,ROUND((W14*0.4+Z14*0.6),1))))) | AB14: =IF(OR($AB$6="",$AB$7=""),"",IF($B14="","",IF(ISNA(VLOOKUP($B14,'LT05'!$B$12:$N$51,11,FALSE)),"",IF(VLOOKUP($B14,'LT05'!$B$12:$N$51,11,FALSE)="","",VLOOKUP($B14,'LT05'!$B$12:$N$51,11,FALSE))))) -> 4.3 | AC14: =IF(OR($H$6="",$H$7=""),"",IF($B14="","",IF(ISNA(VLOOKUP($B14,'LT05'!$B$12:$N$51,12,FALSE)),"",IF(VLOOKUP($B14,'LT05'!$B$12:$N$51,12,FALSE)="","",VLOOKUP($B14,'LT05'!$B$12:$N$51,12,FALSE))))) -> 7 | AD14: =IF(OR($AB$6="",$AB$7=""),"",IF($B14="","",IF(ISNA(VLOOKUP($B14,'LT05'!$B$12:$N$51,13,FALSE)),"",IF(VLOOKUP($B14,'LT05'!$B$12:$N$51,13,FALSE)="","",VLOOKUP($B14,'LT05'!$B$12:$N$51,13,FALSE))))) -> 5.9 | AF14: =IF($AB$7=0,"",IF(AD14="","",IF(AE14="","",IF(AC14>AE14,AD14,ROUND((AB14*0.4+AE14*0.6),1))))) | AG14: =IF(OR($AG$6="",$AG$7=""),"",IF($B14="","",IF(ISNA(VLOOKUP($B14,'LT06'!$B$12:$N$51,11,FALSE)),"",IF(VLOOKUP($B14,'LT06'!$B$12:$N$51,11,FALSE)="","",VLOOKUP($B14,'LT06'!$B$12:$N$51,11,FALSE))))) | AH14: =IF(OR($H$6="",$H$7=""),"",IF($B14="","",IF(ISNA(VLOOKUP($B14,'LT06'!$B$12:$N$51,12,FALSE)),"",IF(VLOOKUP($B14,'LT06'!$B$12:$N$51,12,FALSE)="","",VLOOKUP($B14,'LT06'!$B$12:$N$51,12,FALSE))))) | AI14: =IF(OR($AG$6="",$AG$7=""),"",IF($B14="","",IF(ISNA(VLOOKUP($B14,'LT06'!$B$12:$N$51,13,FALSE)),"",IF(VLOOKUP($B14,'LT06'!$B$12:$N$51,13,FALSE)="","",VLOOKUP($B14,'LT06'!$B$12:$N$51,13,FALSE))))) | AK14: =IF($AG$7=0,"",IF(AI14="","",IF(AJ14="","",IF(AH14>AJ14,AI14,ROUND((AG14*0.4+AJ14*0.6),1))))) | AL14: =IF(OR($AL$6="",$AL$7=""),"",IF($B14="","",IF(ISNA(VLOOKUP($B14,'LT07'!$B$12:$N$51,11,FALSE)),"",IF(VLOOKUP($B14,'LT07'!$B$12:$N$51,11,FALSE)="","",VLOOKUP($B14,'LT07'!$B$12:$N$51,11,FALSE))))) | AM14: =IF(OR($H$6="",$H$7=""),"",IF($B14="","",IF(ISNA(VLOOKUP($B14,'LT07'!$B$12:$N$51,12,FALSE)),"",IF(VLOOKUP($B14,'LT07'!$B$12:$N$51,12,FALSE)="","",VLOOKUP($B14,'LT07'!$B$12:$N$51,12,FALSE))))) | AN14: =IF(OR($AL$6="",$AL$7=""),"",IF($B14="","",IF(ISNA(VLOOKUP($B14,'LT07'!$B$12:$N$51,13,FALSE)),"",IF(VLOOKUP($B14,'LT07'!$B$12:$N$51,13,FALSE)="","",VLOOKUP($B14,'LT07'!$B$12:$N$51,13,FALSE))))) | AP14: =IF($AL$7=0,"",IF(AN14="","",IF(AO14="","",IF(AM14>AO14,AN14,ROUND((AL14*0.4+AO14*0.6),1))))) | AQ14: =IF(OR($AQ$6="",$AQ$7=""),"",IF($B14="","",IF(ISNA(VLOOKUP($B14,'LT08'!$B$12:$N$51,11,FALSE)),"",IF(VLOOKUP($B14,'LT08'!$B$12:$N$51,11,FALSE)="","",VLOOKUP($B14,'LT08'!$B$12:$N$51,11,FALSE))))) | AR14: =IF(OR($H$6="",$H$7=""),"",IF($B14="","",IF(ISNA(VLOOKUP($B14,'LT08'!$B$12:$N$51,12,FALSE)),"",IF(VLOOKUP($B14,'LT08'!$B$12:$N$51,12,FALSE)="","",VLOOKUP($B14,'LT08'!$B$12:$N$51,12,FALSE))))) | AS14: =IF(OR($AQ$6="",$AQ$7=""),"",IF($B14="","",IF(ISNA(VLOOKUP($B14,'LT08'!$B$12:$N$51,13,FALSE)),"",IF(VLOOKUP($B14,'LT08'!$B$12:$N$51,13,FALSE)="","",VLOOKUP($B14,'LT08'!$B$12:$N$51,13,FALSE))))) | AU14: =IF($AQ$7=0,"",IF(AS14="","",IF(AT14="","",IF(AR14>AT14,AS14,ROUND((AQ14*0.4+AT14*0.6),1))))) | AV14: =IF(OR($AV$6="",$AV$7=""),"",IF($B14="","",IF(ISNA(VLOOKUP($B14,'LT09'!$B$12:$N$51,11,FALSE)),"",IF(VLOOKUP($B14,'LT09'!$B$12:$N$51,11,FALSE)="","",VLOOKUP($B14,'LT09'!$B$12:$N$51,11,FALSE))))) | AW14: =IF(OR($H$6="",$H$7=""),"",IF($B14="","",IF(ISNA(VLOOKUP($B14,'LT09'!$B$12:$N$51,12,FALSE)),"",IF(VLOOKUP($B14,'LT09'!$B$12:$N$51,12,FALSE)="","",VLOOKUP($B14,'LT09'!$B$12:$N$51,12,FALSE))))) | AX14: =IF(OR($AV$6="",$AV$7=""),"",IF($B14="","",IF(ISNA(VLOOKUP($B14,'LT09'!$B$12:$N$51,13,FALSE)),"",IF(VLOOKUP($B14,'LT09'!$B$12:$N$51,13,FALSE)="","",VLOOKUP($B14,'LT09'!$B$12:$N$51,13,FALSE))))) | AZ14: =IF($AV$7=0,"",IF(AX14="","",IF(AY14="","",IF(AW14>AY14,AX14,ROUND((AV14*0.4+AY14*0.6),1))))) | BC14: =IF(OR($BF$6="",$BF$7=""),"",IF($B14="","",IF(ISNA(VLOOKUP($B14,'DO AN'!$B$12:$N$51,11,FALSE)),"",IF(VLOOKUP($B14,'DO AN'!$B$12:$N$51,11,FALSE)="","",VLOOKUP($B14,'DO AN'!$B$12:$N$51,11,FALSE))))) | BF14: =IF(OR($BF$6="",$BF$7=""),"",IF($B14="","",IF(ISNA(VLOOKUP($B14,'TH01'!$B$12:$N$51,11,FALSE)),"",IF(VLOOKUP($B14,'TH01'!$B$12:$N$51,11,FALSE)="","",VLOOKUP($B14,'TH01'!$B$12:$N$51,11,FALSE))))) -> 5 | BG14: =IF(OR($H$6="",$H$7=""),"",IF($B14="","",IF(ISNA(VLOOKUP($B14,'TH01'!$B$12:$N$51,12,FALSE)),"",IF(VLOOKUP($B14,'TH01'!$B$12:$N$51,12,FALSE)="","",VLOOKUP($B14,'TH01'!$B$12:$N$51,12,FALSE))))) -> 6 | BH14: =IF(OR($BF$6="",$BF$7=""),"",IF($B14="","",IF(ISNA(VLOOKUP($B14,'TH01'!$B$12:$N$51,13,FALSE)),"",IF(VLOOKUP($B14,'TH01'!$B$12:$N$51,13,FALSE)="","",VLOOKUP($B14,'TH01'!$B$12:$N$51,13,FALSE))))) -> 5.6 | BJ14: =IF($BF$7=0,"",IF(BH14="","",IF(BI14="","",IF(BG14>BI14,BH14,ROUND((BF14*0.4+BI14*0.6),1))))) | BK14: =IF(OR($BK$6="",$BK$7=""),"",IF($B14="","",IF(ISNA(VLOOKUP($B14,'TH02'!$B$12:$N$51,11,FALSE)),"",IF(VLOOKUP($B14,'TH02'!$B$12:$N$51,11,FALSE)="","",VLOOKUP($B14,'TH02'!$B$12:$N$51,11,FALSE))))) -> 5 | BL14: =IF(OR($H$6="",$H$7=""),"",IF($B14="","",IF(ISNA(VLOOKUP($B14,'TH02'!$B$12:$N$51,12,FALSE)),"",IF(VLOOKUP($B14,'TH02'!$B$12:$N$51,12,FALSE)="","",VLOOKUP($B14,'TH02'!$B$12:$N$51,12,FALSE))))) -> 5 | BM14: =IF(OR($BK$6="",$BK$7=""),"",IF($B14="","",IF(ISNA(VLOOKUP($B14,'TH02'!$B$12:$N$51,13,FALSE)),"",IF(VLOOKUP($B14,'TH02'!$B$12:$N$51,13,FALSE)="","",VLOOKUP($B14,'TH02'!$B$12:$N$51,13,FALSE))))) -> 5 | BO14: =IF($BK$7=0,"",IF(BM14="","",IF(BN14="","",IF(BL14>BN14,BM14,ROUND((BK14*0.4+BN14*0.6),1))))) | BP14: =IF(OR($BP$6="",$BP$7=""),"",IF($B14="","",IF(ISNA(VLOOKUP($B14,'TH03'!$B$12:$N$51,11,FALSE)),"",IF(VLOOKUP($B14,'TH03'!$B$12:$N$51,11,FALSE)="","",VLOOKUP($B14,'TH03'!$B$12:$N$51,11,FALSE))))) -> 6.1 | BQ14: =IF(OR($H$6="",$H$7=""),"",IF($B14="","",IF(ISNA(VLOOKUP($B14,'TH03'!$B$12:$N$51,12,FALSE)),"",IF(VLOOKUP($B14,'TH03'!$B$12:$N$51,12,FALSE)="","",VLOOKUP($B14,'TH03'!$B$12:$N$51,12,FALSE))))) -> 5 | BR14: =IF(OR($BP$6="",$BP$7=""),"",IF($B14="","",IF(ISNA(VLOOKUP($B14,'TH03'!$B$12:$N$51,13,FALSE)),"",IF(VLOOKUP($B14,'TH03'!$B$12:$N$51,13,FALSE)="","",VLOOKUP($B14,'TH03'!$B$12:$N$51,13,FALSE))))) -> 5.4 | BT14: =IF($BP$7=0,"",IF(BR14="","",IF(BS14="","",IF(BQ14>BS14,BR14,ROUND((BP14*0.4+BS14*0.6),1))))) | BU14: =IF(OR($BU$6="",$BU$7=""),"",IF($B14="","",IF(ISNA(VLOOKUP($B14,'TH04'!$B$12:$N$51,11,FALSE)),"",IF(VLOOKUP($B14,'TH04'!$B$12:$N$51,11,FALSE)="","",VLOOKUP($B14,'TH04'!$B$12:$N$51,11,FALSE))))) | BV14: =IF(OR($H$6="",$H$7=""),"",IF($B14="","",IF(ISNA(VLOOKUP($B14,'TH04'!$B$12:$N$51,12,FALSE)),"",IF(VLOOKUP($B14,'TH04'!$B$12:$N$51,12,FALSE)="","",VLOOKUP($B14,'TH04'!$B$12:$N$51,12,FALSE))))) | BW14: =IF(OR($BU$6="",$BU$7=""),"",IF($B14="","",IF(ISNA(VLOOKUP($B14,'TH04'!$B$12:$N$51,13,FALSE)),"",IF(VLOOKUP($B14,'TH04'!$B$12:$N$51,13,FALSE)="","",VLOOKUP($B14,'TH04'!$B$12:$N$51,13,FALSE))))) | BY14: =IF($BU$7=0,"",IF(BW14="","",IF(BX14="","",IF(BV14>BX14,BW14,ROUND((BU14*0.4+BX14*0.6),1))))) | BZ14: =IF(OR($BZ$6="",$BZ$7=""),"",IF($B14="","",IF(ISNA(VLOOKUP($B14,'TH05'!$B$12:$N$51,11,FALSE)),"",IF(VLOOKUP($B14,'TH05'!$B$12:$N$51,11,FALSE)="","",VLOOKUP($B14,'TH05'!$B$12:$N$51,11,FALSE))))) | CA14: =IF(OR($H$6="",$H$7=""),"",IF($B14="","",IF(ISNA(VLOOKUP($B14,'TH05'!$B$12:$N$51,12,FALSE)),"",IF(VLOOKUP($B14,'TH05'!$B$12:$N$51,12,FALSE)="","",VLOOKUP($B14,'TH05'!$B$12:$N$51,12,FALSE))))) | CB14: =IF(OR($BZ$6="",$BZ$7=""),"",IF($B14="","",IF(ISNA(VLOOKUP($B14,'TH05'!$B$12:$N$51,13,FALSE)),"",IF(VLOOKUP($B14,'TH05'!$B$12:$N$51,13,FALSE)="","",VLOOKUP($B14,'TH05'!$B$12:$N$51,13,FALSE))))) | CD14: =IF($BZ$7=0,"",IF(CB14="","",IF(CC14="","",IF(CA14>CC14,CB14,ROUND((BZ14*0.4+CC14*0.6),1))))) | CE14: =IF(OR($CE$6="",$CE$7=""),"",IF($B14="","",IF(ISNA(VLOOKUP($B14,'TH06'!$B$12:$N$51,11,FALSE)),"",IF(VLOOKUP($B14,'TH06'!$B$12:$N$51,11,FALSE)="","",VLOOKUP($B14,'TH06'!$B$12:$N$51,11,FALSE))))) | CF14: =IF(OR($H$6="",$H$7=""),"",IF($B14="","",IF(ISNA(VLOOKUP($B14,'TH06'!$B$12:$N$51,12,FALSE)),"",IF(VLOOKUP($B14,'TH06'!$B$12:$N$51,12,FALSE)="","",VLOOKUP($B14,'TH06'!$B$12:$N$51,12,FALSE))))) | CG14: =IF(OR($CE$6="",$CE$7=""),"",IF($B14="","",IF(ISNA(VLOOKUP($B14,'TH06'!$B$12:$N$51,13,FALSE)),"",IF(VLOOKUP($B14,'TH06'!$B$12:$N$51,13,FALSE)="","",VLOOKUP($B14,'TH06'!$B$12:$N$51,13,FALSE))))) | CI14: =IF($CE$7=0,"",IF(CG14="","",IF(CH14="","",IF(CF14>CH14,CG14,ROUND((CE14*0.4+CH14*0.6),1))))) | CJ14: =DY14 -> 5.1 | CK14: =FF14 | CM14: =IF(CJ14="","",IF(C14="","",IF(CJ14<4,"Kém",IF(CJ14<5,"Yếu",IF(CJ14<6,"TB",IF(CJ14<7,"TBKhá",IF(CJ14<8,"Khá",IF(CJ14<9,"Giỏi","XS")))))))) -> TB | CN14: =IF(CK14="","",IF(C14="","",IF(CK14<4,"Kém",IF(CK14<5,"Yếu",IF(CK14<6,"TB",IF(CK14<7,"TBKhá",IF(CK14<8,"Khá",IF(CK14<9,"Giỏi","XS")))))))) | CO14: =IF(AND(CJ14>=7,CL14>=70,ISBLANK(CP14)=TRUE,CQ14=0,DH14=0,COUNT(CR14:DG14)>0,COUNT(DI14:DX14)>0),"Xét KT&HB","") | CQ14: =COUNTIF(CR14:DG14,"<5") -> 3 | CR14: =I14 -> 0 | CS14: =N14 -> 4.5 | CT14: =S14 -> 4.9 | CU14: =X14 -> 7.5 | CV14: =AC14 -> 7 | CW14: =AH14 | CX14: =AM14 | CY14: =AR14 | CZ14: =AW14 | DA14: =BC14 | DB14: =BG14 -> 6 | DC14: =BL14 -> 5 | DD14: =BQ14 -> 5 | DE14: =BV14 | DF14: =CA14 | DG14: =CF14 | DH14: =IF(COUNT(DI14:DX14)=0,"",COUNTIF(DI14:DX14,"<5")) -> 2 | DI14: =J14 -> 1.8 | DJ14: =O14 -> 3.9 | DK14: =T14 -> 5.4 | DL14: =Y14 -> 6 | DM14: =AD14 -> 5.9 | DN14: =AI14 | DO14: =AN14 | DP14: =AS14 | DQ14: =AX14 | DR14: =BC14 | DS14: =BH14 -> 5.6 | DT14: =BM14 -> 5 | DU14: =BR14 -> 5.4 | DV14: =BW14 | DW14: =CB14 | DX14: =CG14 | DY14: =IF(COUNT(DI14:DX14)=0,"",ROUND(SUMPRODUCT(DI14:DX14,$DI$7:$DX$7)/SUM($DI$7:$DX$7),1)) -> 5.1 | DZ14: =L14 | EA14: =Q14 | EB14: =V14 | EC14: =AA14 | ED14: =AF14 | EE14: =AK14 | EF14: =AP14 | EG14: =AU14 | EH14: =AZ14 | EI14: =IF(BE14="","",BE14) | EJ14: =BJ14 | EK14: =BO14 | EL14: =BT14 | EM14: =BY14 | EN14: =CD14 | EO14: =CI14 | EP14: =IF(AND(I14="",ISNUMBER(J14),K14=""),J14,IF(I14>=K14,J14,L14)) -> 1.8 | EQ14: =IF(AND(N14="",ISNUMBER(O14),P14=""),O14,IF(N14>=P14,O14,Q14)) -> 3.9 | ER14: =IF(AND(S14="",ISNUMBER(T14),U14=""),T14,IF(S14>=U14,T14,V14)) -> 5.4 | ES14: =IF(AND(X14="",ISNUMBER(Y14),Z14=""),Y14,IF(X14>=Z14,Y14,AA14)) -> 6 | ET14: =IF(AND(AC14="",ISNUMBER(AD14),AE14=""),AD14,IF(AC14>=AE14,AD14,AF14)) -> 5.9 | EU14: =IF(AND(AH14="",ISNUMBER(AI14),AJ14=""),AI14,IF(AH14>=AJ14,AI14,AK14)) | EV14: =IF(AND(AM14="",ISNUMBER(AN14),AO14=""),AN14,IF(AM14>=AO14,AN14,AP14)) | EW14: =IF(AND(AR14="",ISNUMBER(AS14),AT14=""),AS14,IF(AR14>=AT14,AS14,AU14)) | EX14: =IF(AND(AW14="",ISNUMBER(AX14),AY14=""),AX14,IF(AW14>=AY14,AX14,AZ14)) | EY14: =IF(BE14="","",BE14) | EZ14: =IF(AND(BG14="",ISNUMBER(BH14),BI14=""),BH14,IF(BG14>=BI14,BH14,BJ14)) -> 5.6 | FA14: =IF(AND(BL14="",ISNUMBER(BM14),BN14=""),BM14,IF(BL14>=BN14,BM14,BO14)) -> 5 | FB14: =IF(AND(BQ14="",ISNUMBER(BR14),BS14=""),BR14,IF(BQ14>=BS14,BR14,BT14)) -> 5.4 | FC14: =IF(AND(BV14="",ISNUMBER(BW14),BX14=""),BW14,IF(BV14>=BX14,BW14,BY14)) | FD14: =IF(AND(CA14="",ISNUMBER(CB14),CC14=""),CB14,IF(CA14>=CC14,CB14,CD14)) | FE14: =IF(AND(CF14="",ISNUMBER(CG14),CH14=""),CG14,IF(CF14>=CH14,CG14,CI14)) | FF14: =IF(COUNT(DZ14:EO14)=0,"",ROUND(SUMPRODUCT(EP14:FE14,$EP$7:$FE$7)/SUM($EP$7:$FE$7),1))
A15: =IF(B15="","",IF(SUBTOTAL(3,$B$12:B15)=SUBTOTAL(3,$B$12:B14),"",SUBTOTAL(3,$B$12:B15))) -> 4 | B15: 13B3080008 | C15: =IF($B15="","",IF(ISNA(VLOOKUP($B15,'DS LOP HKI'!$B$2:$D$1060,2,FALSE))=TRUE,"",VLOOKUP($B15,'DS LOP HKI'!$B$2:$D$1060,2,FALSE))) -> Cao Thành | D15: =IF($B15="","",IF(ISNA(VLOOKUP($B15,'DS LOP HKI'!$B$2:$D$1060,3,FALSE))=TRUE,"",VLOOKUP($B15,'DS LOP HKI'!$B$2:$D$1060,3,FALSE))) -> Danh | E15: B | H15: =IF(OR($H$6="",$H$7=""),"",IF($B15="","",IF(ISNA(VLOOKUP($B15,'LT01'!$B$12:$N$51,11,FALSE)),"",IF(VLOOKUP($B15,'LT01'!$B$12:$N$51,11,FALSE)="","",VLOOKUP($B15,'LT01'!$B$12:$N$51,11,FALSE))))) -> 7.8 | I15: =IF(OR($H$6="",$H$7=""),"",IF($B15="","",IF(ISNA(VLOOKUP($B15,'LT01'!$B$12:$N$51,12,FALSE)),"",IF(VLOOKUP($B15,'LT01'!$B$12:$N$51,12,FALSE)="","",VLOOKUP($B15,'LT01'!$B$12:$N$51,12,FALSE))))) -> 5.4 | J15: =IF(OR($H$6="",$H$7=""),"",IF($B15="","",IF(ISNA(VLOOKUP($B15,'LT01'!$B$12:$N$51,13,FALSE)),"",IF(VLOOKUP($B15,'LT01'!$B$12:$N$51,13,FALSE)="","",VLOOKUP($B15,'LT01'!$B$12:$N$51,13,FALSE))))) -> 6.4 | L15: =IF($H$7=0,"",IF(J15="","",IF(K15="","",IF(K15>I15,ROUND((H15*0.4+K15*0.6),1),I15)))) | M15: =IF(OR($M$6="",$M$7=""),"",IF($B15="","",IF(ISNA(VLOOKUP($B15,'LT02'!$B$12:$N$51,11,FALSE)),"",IF(VLOOKUP($B15,'LT02'!$B$12:$N$51,11,FALSE)="","",VLOOKUP($B15,'LT02'!$B$12:$N$51,11,FALSE))))) -> 10 | N15: =IF(OR($H$6="",$H$7=""),"",IF($B15="","",IF(ISNA(VLOOKUP($B15,'LT02'!$B$12:$N$51,12,FALSE)),"",IF(VLOOKUP($B15,'LT02'!$B$12:$N$51,12,FALSE)="","",VLOOKUP($B15,'LT02'!$B$12:$N$51,12,FALSE))))) -> 10 | O15: =IF(OR($M$6="",$M$7=""),"",IF($B15="","",IF(ISNA(VLOOKUP($B15,'LT02'!$B$12:$N$51,13,FALSE)),"",IF(VLOOKUP($B15,'LT02'!$B$12:$N$51,13,FALSE)="","",VLOOKUP($B15,'LT02'!$B$12:$N$51,13,FALSE))))) -> 10 | Q15: =IF($M$7=0,"",IF(O15="","",IF(P15="","",IF(N15>P15,O15,ROUND((M15*0.4+P15*0.6),1))))) | R15: =IF(OR($R$6="",$R$7=""),"",IF($B15="","",IF(ISNA(VLOOKUP($B15,'LT03'!$B$12:$N$51,11,FALSE)),"",IF(VLOOKUP($B15,'LT03'!$B$12:$N$51,11,FALSE)="","",VLOOKUP($B15,'LT03'!$B$12:$N$51,11,FALSE))))) -> 6.4 | S15: =IF(OR($H$6="",$H$7=""),"",IF($B15="","",IF(ISNA(VLOOKUP($B15,'LT03'!$B$12:$N$51,12,FALSE)),"",IF(VLOOKUP($B15,'LT03'!$B$12:$N$51,12,FALSE)="","",VLOOKUP($B15,'LT03'!$B$12:$N$51,12,FALSE))))) -> 6.8 | T15: =IF(OR($R$6="",$R$7=""),"",IF($B15="","",IF(ISNA(VLOOKUP($B15,'LT03'!$B$12:$N$51,13,FALSE)),"",IF(VLOOKUP($B15,'LT03'!$B$12:$N$51,13,FALSE)="","",VLOOKUP($B15,'LT03'!$B$12:$N$51,13,FALSE))))) -> 6.6 | V15: =IF($R$7=0,"",IF(T15="","",IF(U15="","",IF(S15>U15,T15,ROUND((R15*0.4+U15*0.6),1))))) | W15: =IF(OR($W$6="",$W$7=""),"",IF($B15="","",IF(ISNA(VLOOKUP($B15,'LT04'!$B$12:$N$51,11,FALSE)),"",IF(VLOOKUP($B15,'LT04'!$B$12:$N$51,11,FALSE)="","",VLOOKUP($B15,'LT04'!$B$12:$N$51,11,FALSE))))) -> 10 | X15: =IF(OR($H$6="",$H$7=""),"",IF($B15="","",IF(ISNA(VLOOKUP($B15,'LT04'!$B$12:$N$51,12,FALSE)),"",IF(VLOOKUP($B15,'LT04'!$B$12:$N$51,12,FALSE)="","",VLOOKUP($B15,'LT04'!$B$12:$N$51,12,FALSE))))) -> 9 | Y15: =IF(OR($W$6="",$W$7=""),"",IF($B15="","",IF(ISNA(VLOOKUP($B15,'LT04'!$B$12:$N$51,13,FALSE)),"",IF(VLOOKUP($B15,'LT04'!$B$12:$N$51,13,FALSE)="","",VLOOKUP($B15,'LT04'!$B$12:$N$51,13,FALSE))))) -> 9.4 | AA15: =IF($W$7=0,"",IF(Y15="","",IF(Z15="","",IF(X15>Z15,Y15,ROUND((W15*0.4+Z15*0.6),1))))) | AB15: =IF(OR($AB$6="",$AB$7=""),"",IF($B15="","",IF(ISNA(VLOOKUP($B15,'LT05'!$B$12:$N$51,11,FALSE)),"",IF(VLOOKUP($B15,'LT05'!$B$12:$N$51,11,FALSE)="","",VLOOKUP($B15,'LT05'!$B$12:$N$51,11,FALSE))))) -> 10 | AC15: =IF(OR($H$6="",$H$7=""),"",IF($B15="","",IF(ISNA(VLOOKUP($B15,'LT05'!$B$12:$N$51,12,FALSE)),"",IF(VLOOKUP($B15,'LT05'!$B$12:$N$51,12,FALSE)="","",VLOOKUP($B15,'LT05'!$B$12:$N$51,12,FALSE))))) -> 9 | AD15: =IF(OR($AB$6="",$AB$7=""),"",IF($B15="","",IF(ISNA(VLOOKUP($B15,'LT05'!$B$12:$N$51,13,FALSE)),"",IF(VLOOKUP($B15,'LT05'!$B$12:$N$51,13,FALSE)="","",VLOOKUP($B15,'LT05'!$B$12:$N$51,13,FALSE))))) -> 9.4 | AF15: =IF($AB$7=0,"",IF(AD15="","",IF(AE15="","",IF(AC15>AE15,AD15,ROUND((AB15*0.4+AE15*0.6),1))))) | AG15: =IF(OR($AG$6="",$AG$7=""),"",IF($B15="","",IF(ISNA(VLOOKUP($B15,'LT06'!$B$12:$N$51,11,FALSE)),"",IF(VLOOKUP($B15,'LT06'!$B$12:$N$51,11,FALSE)="","",VLOOKUP($B15,'LT06'!$B$12:$N$51,11,FALSE))))) | AH15: =IF(OR($H$6="",$H$7=""),"",IF($B15="","",IF(ISNA(VLOOKUP($B15,'LT06'!$B$12:$N$51,12,FALSE)),"",IF(VLOOKUP($B15,'LT06'!$B$12:$N$51,12,FALSE)="","",VLOOKUP($B15,'LT06'!$B$12:$N$51,12,FALSE))))) | AI15: =IF(OR($AG$6="",$AG$7=""),"",IF($B15="","",IF(ISNA(VLOOKUP($B15,'LT06'!$B$12:$N$51,13,FALSE)),"",IF(VLOOKUP($B15,'LT06'!$B$12:$N$51,13,FALSE)="","",VLOOKUP($B15,'LT06'!$B$12:$N$51,13,FALSE))))) | AK15: =IF($AG$7=0,"",IF(AI15="","",IF(AJ15="","",IF(AH15>AJ15,AI15,ROUND((AG15*0.4+AJ15*0.6),1))))) | AL15: =IF(OR($AL$6="",$AL$7=""),"",IF($B15="","",IF(ISNA(VLOOKUP($B15,'LT07'!$B$12:$N$51,11,FALSE)),"",IF(VLOOKUP($B15,'LT07'!$B$12:$N$51,11,FALSE)="","",VLOOKUP($B15,'LT07'!$B$12:$N$51,11,FALSE))))) | AM15: =IF(OR($H$6="",$H$7=""),"",IF($B15="","",IF(ISNA(VLOOKUP($B15,'LT07'!$B$12:$N$51,12,FALSE)),"",IF(VLOOKUP($B15,'LT07'!$B$12:$N$51,12,FALSE)="","",VLOOKUP($B15,'LT07'!$B$12:$N$51,12,FALSE))))) | AN15: =IF(OR($AL$6="",$AL$7=""),"",IF($B15="","",IF(ISNA(VLOOKUP($B15,'LT07'!$B$12:$N$51,13,FALSE)),"",IF(VLOOKUP($B15,'LT07'!$B$12:$N$51,13,FALSE)="","",VLOOKUP($B15,'LT07'!$B$12:$N$51,13,FALSE))))) | AP15: =IF($AL$7=0,"",IF(AN15="","",IF(AO15="","",IF(AM15>AO15,AN15,ROUND((AL15*0.4+AO15*0.6),1))))) | AQ15: =IF(OR($AQ$6="",$AQ$7=""),"",IF($B15="","",IF(ISNA(VLOOKUP($B15,'LT08'!$B$12:$N$51,11,FALSE)),"",IF(VLOOKUP($B15,'LT08'!$B$12:$N$51,11,FALSE)="","",VLOOKUP($B15,'LT08'!$B$12:$N$51,11,FALSE))))) | AR15: =IF(OR($H$6="",$H$7=""),"",IF($B15="","",IF(ISNA(VLOOKUP($B15,'LT08'!$B$12:$N$51,12,FALSE)),"",IF(VLOOKUP($B15,'LT08'!$B$12:$N$51,12,FALSE)="","",VLOOKUP($B15,'LT08'!$B$12:$N$51,12,FALSE))))) | AS15: =IF(OR($AQ$6="",$AQ$7=""),"",IF($B15="","",IF(ISNA(VLOOKUP($B15,'LT08'!$B$12:$N$51,13,FALSE)),"",IF(VLOOKUP($B15,'LT08'!$B$12:$N$51,13,FALSE)="","",VLOOKUP($B15,'LT08'!$B$12:$N$51,13,FALSE))))) | AU15: =IF($AQ$7=0,"",IF(AS15="","",IF(AT15="","",IF(AR15>AT15,AS15,ROUND((AQ15*0.4+AT15*0.6),1))))) | AV15: =IF(OR($AV$6="",$AV$7=""),"",IF($B15="","",IF(ISNA(VLOOKUP($B15,'LT09'!$B$12:$N$51,11,FALSE)),"",IF(VLOOKUP($B15,'LT09'!$B$12:$N$51,11,FALSE)="","",VLOOKUP($B15,'LT09'!$B$12:$N$51,11,FALSE))))) | AW15: =IF(OR($H$6="",$H$7=""),"",IF($B15="","",IF(ISNA(VLOOKUP($B15,'LT09'!$B$12:$N$51,12,FALSE)),"",IF(VLOOKUP($B15,'LT09'!$B$12:$N$51,12,FALSE)="","",VLOOKUP($B15,'LT09'!$B$12:$N$51,12,FALSE))))) | AX15: =IF(OR($AV$6="",$AV$7=""),"",IF($B15="","",IF(ISNA(VLOOKUP($B15,'LT09'!$B$12:$N$51,13,FALSE)),"",IF(VLOOKUP($B15,'LT09'!$B$12:$N$51,13,FALSE)="","",VLOOKUP($B15,'LT09'!$B$12:$N$51,13,FALSE))))) | AZ15: =IF($AV$7=0,"",IF(AX15="","",IF(AY15="","",IF(AW15>AY15,AX15,ROUND((AV15*0.4+AY15*0.6),1))))) | BC15: =IF(OR($BF$6="",$BF$7=""),"",IF($B15="","",IF(ISNA(VLOOKUP($B15,'DO AN'!$B$12:$N$51,11,FALSE)),"",IF(VLOOKUP($B15,'DO AN'!$B$12:$N$51,11,FALSE)="","",VLOOKUP($B15,'DO AN'!$B$12:$N$51,11,FALSE))))) | BF15: =IF(OR($BF$6="",$BF$7=""),"",IF($B15="","",IF(ISNA(VLOOKUP($B15,'TH01'!$B$12:$N$51,11,FALSE)),"",IF(VLOOKUP($B15,'TH01'!$B$12:$N$51,11,FALSE)="","",VLOOKUP($B15,'TH01'!$B$12:$N$51,11,FALSE))))) -> 9.8 | BG15: =IF(OR($H$6="",$H$7=""),"",IF($B15="","",IF(ISNA(VLOOKUP($B15,'TH01'!$B$12:$N$51,12,FALSE)),"",IF(VLOOKUP($B15,'TH01'!$B$12:$N$51,12,FALSE)="","",VLOOKUP($B15,'TH01'!$B$12:$N$51,12,FALSE))))) -> 10 | BH15: =IF(OR($BF$6="",$BF$7=""),"",IF($B15="","",IF(ISNA(VLOOKUP($B15,'TH01'!$B$12:$N$51,13,FALSE)),"",IF(VLOOKUP($B15,'TH01'!$B$12:$N$51,13,FALSE)="","",VLOOKUP($B15,'TH01'!$B$12:$N$51,13,FALSE))))) -> 9.9 | BJ15: =IF($BF$7=0,"",IF(BH15="","",IF(BI15="","",IF(BG15>BI15,BH15,ROUND((BF15*0.4+BI15*0.6),1))))) | BK15: =IF(OR($BK$6="",$BK$7=""),"",IF($B15="","",IF(ISNA(VLOOKUP($B15,'TH02'!$B$12:$N$51,11,FALSE)),"",IF(VLOOKUP($B15,'TH02'!$B$12:$N$51,11,FALSE)="","",VLOOKUP($B15,'TH02'!$B$12:$N$51,11,FALSE))))) -> 10 | BL15: =IF(OR($H$6="",$H$7=""),"",IF($B15="","",IF(ISNA(VLOOKUP($B15,'TH02'!$B$12:$N$51,12,FALSE)),"",IF(VLOOKUP($B15,'TH02'!$B$12:$N$51,12,FALSE)="","",VLOOKUP($B15,'TH02'!$B$12:$N$51,12,FALSE))))) -> 8 | BM15: =IF(OR($BK$6="",$BK$7=""),"",IF($B15="","",IF(ISNA(VLOOKUP($B15,'TH02'!$B$12:$N$51,13,FALSE)),"",IF(VLOOKUP($B15,'TH02'!$B$12:$N$51,13,FALSE)="","",VLOOKUP($B15,'TH02'!$B$12:$N$51,13,FALSE))))) -> 8.8 | BO15: =IF($BK$7=0,"",IF(BM15="","",IF(BN15="","",IF(BL15>BN15,BM15,ROUND((BK15*0.4+BN15*0.6),1))))) | BP15: =IF(OR($BP$6="",$BP$7=""),"",IF($B15="","",IF(ISNA(VLOOKUP($B15,'TH03'!$B$12:$N$51,11,FALSE)),"",IF(VLOOKUP($B15,'TH03'!$B$12:$N$51,11,FALSE)="","",VLOOKUP($B15,'TH03'!$B$12:$N$51,11,FALSE))))) -> 8.4 | BQ15: =IF(OR($H$6="",$H$7=""),"",IF($B15="","",IF(ISNA(VLOOKUP($B15,'TH03'!$B$12:$N$51,12,FALSE)),"",IF(VLOOKUP($B15,'TH03'!$B$12:$N$51,12,FALSE)="","",VLOOKUP($B15,'TH03'!$B$12:$N$51,12,FALSE))))) -> 10 | BR15: =IF(OR($BP$6="",$BP$7=""),"",IF($B15="","",IF(ISNA(VLOOKUP($B15,'TH03'!$B$12:$N$51,13,FALSE)),"",IF(VLOOKUP($B15,'TH03'!$B$12:$N$51,13,FALSE)="","",VLOOKUP($B15,'TH03'!$B$12:$N$51,13,FALSE))))) -> 9.4 | BT15: =IF($BP$7=0,"",IF(BR15="","",IF(BS15="","",IF(BQ15>BS15,BR15,ROUND((BP15*0.4+BS15*0.6),1))))) | BU15: =IF(OR($BU$6="",$BU$7=""),"",IF($B15="","",IF(ISNA(VLOOKUP($B15,'TH04'!$B$12:$N$51,11,FALSE)),"",IF(VLOOKUP($B15,'TH04'!$B$12:$N$51,11,FALSE)="","",VLOOKUP($B15,'TH04'!$B$12:$N$51,11,FALSE))))) | BV15: =IF(OR($H$6="",$H$7=""),"",IF($B15="","",IF(ISNA(VLOOKUP($B15,'TH04'!$B$12:$N$51,12,FALSE)),"",IF(VLOOKUP($B15,'TH04'!$B$12:$N$51,12,FALSE)="","",VLOOKUP($B15,'TH04'!$B$12:$N$51,12,FALSE))))) | BW15: =IF(OR($BU$6="",$BU$7=""),"",IF($B15="","",IF(ISNA(VLOOKUP($B15,'TH04'!$B$12:$N$51,13,FALSE)),"",IF(VLOOKUP($B15,'TH04'!$B$12:$N$51,13,FALSE)="","",VLOOKUP($B15,'TH04'!$B$12:$N$51,13,FALSE))))) | BY15: =IF($BU$7=0,"",IF(BW15="","",IF(BX15="","",IF(BV15>BX15,BW15,ROUND((BU15*0.4+BX15*0.6),1))))) | BZ15: =IF(OR($BZ$6="",$BZ$7=""),"",IF($B15="","",IF(ISNA(VLOOKUP($B15,'TH05'!$B$12:$N$51,11,FALSE)),"",IF(VLOOKUP($B15,'TH05'!$B$12:$N$51,11,FALSE)="","",VLOOKUP($B15,'TH05'!$B$12:$N$51,11,FALSE))))) | CA15: =IF(OR($H$6="",$H$7=""),"",IF($B15="","",IF(ISNA(VLOOKUP($B15,'TH05'!$B$12:$N$51,12,FALSE)),"",IF(VLOOKUP($B15,'TH05'!$B$12:$N$51,12,FALSE)="","",VLOOKUP($B15,'TH05'!$B$12:$N$51,12,FALSE))))) | CB15: =IF(OR($BZ$6="",$BZ$7=""),"",IF($B15="","",IF(ISNA(VLOOKUP($B15,'TH05'!$B$12:$N$51,13,FALSE)),"",IF(VLOOKUP($B15,'TH05'!$B$12:$N$51,13,FALSE)="","",VLOOKUP($B15,'TH05'!$B$12:$N$51,13,FALSE))))) | CD15: =IF($BZ$7=0,"",IF(CB15="","",IF(CC15="","",IF(CA15>CC15,CB15,ROUND((BZ15*0.4+CC15*0.6),1))))) | CE15: =IF(OR($CE$6="",$CE$7=""),"",IF($B15="","",IF(ISNA(VLOOKUP($B15,'TH06'!$B$12:$N$51,11,FALSE)),"",IF(VLOOKUP($B15,'TH06'!$B$12:$N$51,11,FALSE)="","",VLOOKUP($B15,'TH06'!$B$12:$N$51,11,FALSE))))) | CF15: =IF(OR($H$6="",$H$7=""),"",IF($B15="","",IF(ISNA(VLOOKUP($B15,'TH06'!$B$12:$N$51,12,FALSE)),"",IF(VLOOKUP($B15,'TH06'!$B$12:$N$51,12,FALSE)="","",VLOOKUP($B15,'TH06'!$B$12:$N$51,12,FALSE))))) | CG15: =IF(OR($CE$6="",$CE$7=""),"",IF($B15="","",IF(ISNA(VLOOKUP($B15,'TH06'!$B$12:$N$51,13,FALSE)),"",IF(VLOOKUP($B15,'TH06'!$B$12:$N$51,13,FALSE)="","",VLOOKUP($B15,'TH06'!$B$12:$N$51,13,FALSE))))) | CI15: =IF($CE$7=0,"",IF(CG15="","",IF(CH15="","",IF(CF15>CH15,CG15,ROUND((CE15*0.4+CH15*0.6),1))))) | CJ15: =DY15 -> 8.7 | CK15: =FF15 | CM15: =IF(CJ15="","",IF(C15="","",IF(CJ15<4,"Kém",IF(CJ15<5,"Yếu",IF(CJ15<6,"TB",IF(CJ15<7,"TBKhá",IF(CJ15<8,"Khá",IF(CJ15<9,"Giỏi","XS")))))))) -> Giỏi | CN15: =IF(CK15="","",IF(C15="","",IF(CK15<4,"Kém",IF(CK15<5,"Yếu",IF(CK15<6,"TB",IF(CK15<7,"TBKhá",IF(CK15<8,"Khá",IF(CK15<9,"Giỏi","XS")))))))) | CO15: =IF(AND(CJ15>=7,CL15>=70,ISBLANK(CP15)=TRUE,CQ15=0,DH15=0,COUNT(CR15:DG15)>0,COUNT(DI15:DX15)>0),"Xét KT&HB","") | CQ15: =COUNTIF(CR15:DG15,"<5") -> 0 | CR15: =I15 -> 5.4 | CS15: =N15 -> 10 | CT15: =S15 -> 6.8 | CU15: =X15 -> 9 | CV15: =AC15 -> 9 | CW15: =AH15 | CX15: =AM15 | CY15: =AR15 | CZ15: =AW15 | DA15: =BC15 | DB15: =BG15 -> 10 | DC15: =BL15 -> 8 | DD15: =BQ15 -> 10 | DE15: =BV15 | DF15: =CA15 | DG15: =CF15 | DH15: =IF(COUNT(DI15:DX15)=0,"",COUNTIF(DI15:DX15,"<5")) -> 0 | DI15: =J15 -> 6.4 | DJ15: =O15 -> 10 | DK15: =T15 -> 6.6 | DL15: =Y15 -> 9.4 | DM15: =AD15 -> 9.4 | DN15: =AI15 | DO15: =AN15 | DP15: =AS15 | DQ15: =AX15 | DR15: =BC15 | DS15: =BH15 -> 9.9 | DT15: =BM15 -> 8.8 | DU15: =BR15 -> 9.4 | DV15: =BW15 | DW15: =CB15 | DX15: =CG15 | DY15: =IF(COUNT(DI15:DX15)=0,"",ROUND(SUMPRODUCT(DI15:DX15,$DI$7:$DX$7)/SUM($DI$7:$DX$7),1)) -> 8.7 | DZ15: =L15 | EA15: =Q15 | EB15: =V15 | EC15: =AA15 | ED15: =AF15 | EE15: =AK15 | EF15: =AP15 | EG15: =AU15 | EH15: =AZ15 | EI15: =IF(BE15="","",BE15) | EJ15: =BJ15 | EK15: =BO15 | EL15: =BT15 | EM15: =BY15 | EN15: =CD15 | EO15: =CI15 | EP15: =IF(AND(I15="",ISNUMBER(J15),K15=""),J15,IF(I15>=K15,J15,L15)) -> 6.4 | EQ15: =IF(AND(N15="",ISNUMBER(O15),P15=""),O15,IF(N15>=P15,O15,Q15)) -> 10 | ER15: =IF(AND(S15="",ISNUMBER(T15),U15=""),T15,IF(S15>=U15,T15,V15)) -> 6.6 | ES15: =IF(AND(X15="",ISNUMBER(Y15),Z15=""),Y15,IF(X15>=Z15,Y15,AA15)) -> 9.4 | ET15: =IF(AND(AC15="",ISNUMBER(AD15),AE15=""),AD15,IF(AC15>=AE15,AD15,AF15)) -> 9.4 | EU15: =IF(AND(AH15="",ISNUMBER(AI15),AJ15=""),AI15,IF(AH15>=AJ15,AI15,AK15)) | EV15: =IF(AND(AM15="",ISNUMBER(AN15),AO15=""),AN15,IF(AM15>=AO15,AN15,AP15)) | EW15: =IF(AND(AR15="",ISNUMBER(AS15),AT15=""),AS15,IF(AR15>=AT15,AS15,AU15)) | EX15: =IF(AND(AW15="",ISNUMBER(AX15),AY15=""),AX15,IF(AW15>=AY15,AX15,AZ15)) | EY15: =IF(BE15="","",BE15) | EZ15: =IF(AND(BG15="",ISNUMBER(BH15),BI15=""),BH15,IF(BG15>=BI15,BH15,BJ15)) -> 9.9 | FA15: =IF(AND(BL15="",ISNUMBER(BM15),BN15=""),BM15,IF(BL15>=BN15,BM15,BO15)) -> 8.8 | FB15: =IF(AND(BQ15="",ISNUMBER(BR15),BS15=""),BR15,IF(BQ15>=BS15,BR15,BT15)) -> 9.4 | FC15: =IF(AND(BV15="",ISNUMBER(BW15),BX15=""),BW15,IF(BV15>=BX15,BW15,BY15)) | FD15: =IF(AND(CA15="",ISNUMBER(CB15),CC15=""),CB15,IF(CA15>=CC15,CB15,CD15)) | FE15: =IF(AND(CF15="",ISNUMBER(CG15),CH15=""),CG15,IF(CF15>=CH15,CG15,CI15)) | FF15: =IF(COUNT(DZ15:EO15)=0,"",ROUND(SUMPRODUCT(EP15:FE15,$EP$7:$FE$7)/SUM($EP$7:$FE$7),1))
A16: =IF(B16="","",IF(SUBTOTAL(3,$B$12:B16)=SUBTOTAL(3,$B$12:B15),"",SUBTOTAL(3,$B$12:B16))) -> 5 | B16: 13B3080010 | C16: =IF($B16="","",IF(ISNA(VLOOKUP($B16,'DS LOP HKI'!$B$2:$D$1060,2,FALSE))=TRUE,"",VLOOKUP($B16,'DS LOP HKI'!$B$2:$D$1060,2,FALSE))) -> Nguyễn Tiến | D16: =IF($B16="","",IF(ISNA(VLOOKUP($B16,'DS LOP HKI'!$B$2:$D$1060,3,FALSE))=TRUE,"",VLOOKUP($B16,'DS LOP HKI'!$B$2:$D$1060,3,FALSE))) -> Dũng | E16: B | H16: =IF(OR($H$6="",$H$7=""),"",IF($B16="","",IF(ISNA(VLOOKUP($B16,'LT01'!$B$12:$N$51,11,FALSE)),"",IF(VLOOKUP($B16,'LT01'!$B$12:$N$51,11,FALSE)="","",VLOOKUP($B16,'LT01'!$B$12:$N$51,11,FALSE))))) -> 8 | I16: =IF(OR($H$6="",$H$7=""),"",IF($B16="","",IF(ISNA(VLOOKUP($B16,'LT01'!$B$12:$N$51,12,FALSE)),"",IF(VLOOKUP($B16,'LT01'!$B$12:$N$51,12,FALSE)="","",VLOOKUP($B16,'LT01'!$B$12:$N$51,12,FALSE))))) -> 6.6 | J16: =IF(OR($H$6="",$H$7=""),"",IF($B16="","",IF(ISNA(VLOOKUP($B16,'LT01'!$B$12:$N$51,13,FALSE)),"",IF(VLOOKUP($B16,'LT01'!$B$12:$N$51,13,FALSE)="","",VLOOKUP($B16,'LT01'!$B$12:$N$51,13,FALSE))))) -> 7.2 | L16: =IF($H$7=0,"",IF(J16="","",IF(K16="","",IF(K16>I16,ROUND((H16*0.4+K16*0.6),1),I16)))) | M16: =IF(OR($M$6="",$M$7=""),"",IF($B16="","",IF(ISNA(VLOOKUP($B16,'LT02'!$B$12:$N$51,11,FALSE)),"",IF(VLOOKUP($B16,'LT02'!$B$12:$N$51,11,FALSE)="","",VLOOKUP($B16,'LT02'!$B$12:$N$51,11,FALSE))))) -> 8.3 | N16: =IF(OR($H$6="",$H$7=""),"",IF($B16="","",IF(ISNA(VLOOKUP($B16,'LT02'!$B$12:$N$51,12,FALSE)),"",IF(VLOOKUP($B16,'LT02'!$B$12:$N$51,12,FALSE)="","",VLOOKUP($B16,'LT02'!$B$12:$N$51,12,FALSE))))) -> 8 | O16: =IF(OR($M$6="",$M$7=""),"",IF($B16="","",IF(ISNA(VLOOKUP($B16,'LT02'!$B$12:$N$51,13,FALSE)),"",IF(VLOOKUP($B16,'LT02'!$B$12:$N$51,13,FALSE)="","",VLOOKUP($B16,'LT02'!$B$12:$N$51,13,FALSE))))) -> 8.1 | Q16: =IF($M$7=0,"",IF(O16="","",IF(P16="","",IF(N16>P16,O16,ROUND((M16*0.4+P16*0.6),1))))) | R16: =IF(OR($R$6="",$R$7=""),"",IF($B16="","",IF(ISNA(VLOOKUP($B16,'LT03'!$B$12:$N$51,11,FALSE)),"",IF(VLOOKUP($B16,'LT03'!$B$12:$N$51,11,FALSE)="","",VLOOKUP($B16,'LT03'!$B$12:$N$51,11,FALSE))))) -> 6.4 | S16: =IF(OR($H$6="",$H$7=""),"",IF($B16="","",IF(ISNA(VLOOKUP($B16,'LT03'!$B$12:$N$51,12,FALSE)),"",IF(VLOOKUP($B16,'LT03'!$B$12:$N$51,12,FALSE)="","",VLOOKUP($B16,'LT03'!$B$12:$N$51,12,FALSE))))) -> 6.6 | T16: =IF(OR($R$6="",$R$7=""),"",IF($B16="","",IF(ISNA(VLOOKUP($B16,'LT03'!$B$12:$N$51,13,FALSE)),"",IF(VLOOKUP($B16,'LT03'!$B$12:$N$51,13,FALSE)="","",VLOOKUP($B16,'LT03'!$B$12:$N$51,13,FALSE))))) -> 6.5 | V16: =IF($R$7=0,"",IF(T16="","",IF(U16="","",IF(S16>U16,T16,ROUND((R16*0.4+U16*0.6),1))))) | W16: =IF(OR($W$6="",$W$7=""),"",IF($B16="","",IF(ISNA(VLOOKUP($B16,'LT04'!$B$12:$N$51,11,FALSE)),"",IF(VLOOKUP($B16,'LT04'!$B$12:$N$51,11,FALSE)="","",VLOOKUP($B16,'LT04'!$B$12:$N$51,11,FALSE))))) -> 7.8 | X16: =IF(OR($H$6="",$H$7=""),"",IF($B16="","",IF(ISNA(VLOOKUP($B16,'LT04'!$B$12:$N$51,12,FALSE)),"",IF(VLOOKUP($B16,'LT04'!$B$12:$N$51,12,FALSE)="","",VLOOKUP($B16,'LT04'!$B$12:$N$51,12,FALSE))))) -> 8 | Y16: =IF(OR($W$6="",$W$7=""),"",IF($B16="","",IF(ISNA(VLOOKUP($B16,'LT04'!$B$12:$N$51,13,FALSE)),"",IF(VLOOKUP($B16,'LT04'!$B$12:$N$51,13,FALSE)="","",VLOOKUP($B16,'LT04'!$B$12:$N$51,13,FALSE))))) -> 7.9 | AA16: =IF($W$7=0,"",IF(Y16="","",IF(Z16="","",IF(X16>Z16,Y16,ROUND((W16*0.4+Z16*0.6),1))))) | AB16: =IF(OR($AB$6="",$AB$7=""),"",IF($B16="","",IF(ISNA(VLOOKUP($B16,'LT05'!$B$12:$N$51,11,FALSE)),"",IF(VLOOKUP($B16,'LT05'!$B$12:$N$51,11,FALSE)="","",VLOOKUP($B16,'LT05'!$B$12:$N$51,11,FALSE))))) -> 8.3 | AC16: =IF(OR($H$6="",$H$7=""),"",IF($B16="","",IF(ISNA(VLOOKUP($B16,'LT05'!$B$12:$N$51,12,FALSE)),"",IF(VLOOKUP($B16,'LT05'!$B$12:$N$51,12,FALSE)="","",VLOOKUP($B16,'LT05'!$B$12:$N$51,12,FALSE))))) -> 10 | AD16: =IF(OR($AB$6="",$AB$7=""),"",IF($B16="","",IF(ISNA(VLOOKUP($B16,'LT05'!$B$12:$N$51,13,FALSE)),"",IF(VLOOKUP($B16,'LT05'!$B$12:$N$51,13,FALSE)="","",VLOOKUP($B16,'LT05'!$B$12:$N$51,13,FALSE))))) -> 9.3 | AF16: =IF($AB$7=0,"",IF(AD16="","",IF(AE16="","",IF(AC16>AE16,AD16,ROUND((AB16*0.4+AE16*0.6),1))))) | AG16: =IF(OR($AG$6="",$AG$7=""),"",IF($B16="","",IF(ISNA(VLOOKUP($B16,'LT06'!$B$12:$N$51,11,FALSE)),"",IF(VLOOKUP($B16,'LT06'!$B$12:$N$51,11,FALSE)="","",VLOOKUP($B16,'LT06'!$B$12:$N$51,11,FALSE))))) | AH16: =IF(OR($H$6="",$H$7=""),"",IF($B16="","",IF(ISNA(VLOOKUP($B16,'LT06'!$B$12:$N$51,12,FALSE)),"",IF(VLOOKUP($B16,'LT06'!$B$12:$N$51,12,FALSE)="","",VLOOKUP($B16,'LT06'!$B$12:$N$51,12,FALSE))))) | AI16: =IF(OR($AG$6="",$AG$7=""),"",IF($B16="","",IF(ISNA(VLOOKUP($B16,'LT06'!$B$12:$N$51,13,FALSE)),"",IF(VLOOKUP($B16,'LT06'!$B$12:$N$51,13,FALSE)="","",VLOOKUP($B16,'LT06'!$B$12:$N$51,13,FALSE))))) | AK16: =IF($AG$7=0,"",IF(AI16="","",IF(AJ16="","",IF(AH16>AJ16,AI16,ROUND((AG16*0.4+AJ16*0.6),1))))) | AL16: =IF(OR($AL$6="",$AL$7=""),"",IF($B16="","",IF(ISNA(VLOOKUP($B16,'LT07'!$B$12:$N$51,11,FALSE)),"",IF(VLOOKUP($B16,'LT07'!$B$12:$N$51,11,FALSE)="","",VLOOKUP($B16,'LT07'!$B$12:$N$51,11,FALSE))))) | AM16: =IF(OR($H$6="",$H$7=""),"",IF($B16="","",IF(ISNA(VLOOKUP($B16,'LT07'!$B$12:$N$51,12,FALSE)),"",IF(VLOOKUP($B16,'LT07'!$B$12:$N$51,12,FALSE)="","",VLOOKUP($B16,'LT07'!$B$12:$N$51,12,FALSE))))) | AN16: =IF(OR($AL$6="",$AL$7=""),"",IF($B16="","",IF(ISNA(VLOOKUP($B16,'LT07'!$B$12:$N$51,13,FALSE)),"",IF(VLOOKUP($B16,'LT07'!$B$12:$N$51,13,FALSE)="","",VLOOKUP($B16,'LT07'!$B$12:$N$51,13,FALSE))))) | AP16: =IF($AL$7=0,"",IF(AN16="","",IF(AO16="","",IF(AM16>AO16,AN16,ROUND((AL16*0.4+AO16*0.6),1))))) | AQ16: =IF(OR($AQ$6="",$AQ$7=""),"",IF($B16="","",IF(ISNA(VLOOKUP($B16,'LT08'!$B$12:$N$51,11,FALSE)),"",IF(VLOOKUP($B16,'LT08'!$B$12:$N$51,11,FALSE)="","",VLOOKUP($B16,'LT08'!$B$12:$N$51,11,FALSE))))) | AR16: =IF(OR($H$6="",$H$7=""),"",IF($B16="","",IF(ISNA(VLOOKUP($B16,'LT08'!$B$12:$N$51,12,FALSE)),"",IF(VLOOKUP($B16,'LT08'!$B$12:$N$51,12,FALSE)="","",VLOOKUP($B16,'LT08'!$B$12:$N$51,12,FALSE))))) | AS16: =IF(OR($AQ$6="",$AQ$7=""),"",IF($B16="","",IF(ISNA(VLOOKUP($B16,'LT08'!$B$12:$N$51,13,FALSE)),"",IF(VLOOKUP($B16,'LT08'!$B$12:$N$51,13,FALSE)="","",VLOOKUP($B16,'LT08'!$B$12:$N$51,13,FALSE))))) | AU16: =IF($AQ$7=0,"",IF(AS16="","",IF(AT16="","",IF(AR16>AT16,AS16,ROUND((AQ16*0.4+AT16*0.6),1))))) | AV16: =IF(OR($AV$6="",$AV$7=""),"",IF($B16="","",IF(ISNA(VLOOKUP($B16,'LT09'!$B$12:$N$51,11,FALSE)),"",IF(VLOOKUP($B16,'LT09'!$B$12:$N$51,11,FALSE)="","",VLOOKUP($B16,'LT09'!$B$12:$N$51,11,FALSE))))) | AW16: =IF(OR($H$6="",$H$7=""),"",IF($B16="","",IF(ISNA(VLOOKUP($B16,'LT09'!$B$12:$N$51,12,FALSE)),"",IF(VLOOKUP($B16,'LT09'!$B$12:$N$51,12,FALSE)="","",VLOOKUP($B16,'LT09'!$B$12:$N$51,12,FALSE))))) | AX16: =IF(OR($AV$6="",$AV$7=""),"",IF($B16="","",IF(ISNA(VLOOKUP($B16,'LT09'!$B$12:$N$51,13,FALSE)),"",IF(VLOOKUP($B16,'LT09'!$B$12:$N$51,13,FALSE)="","",VLOOKUP($B16,'LT09'!$B$12:$N$51,13,FALSE))))) | AZ16: =IF($AV$7=0,"",IF(AX16="","",IF(AY16="","",IF(AW16>AY16,AX16,ROUND((AV16*0.4+AY16*0.6),1))))) | BC16: =IF(OR($BF$6="",$BF$7=""),"",IF($B16="","",IF(ISNA(VLOOKUP($B16,'DO AN'!$B$12:$N$51,11,FALSE)),"",IF(VLOOKUP($B16,'DO AN'!$B$12:$N$51,11,FALSE)="","",VLOOKUP($B16,'DO AN'!$B$12:$N$51,11,FALSE))))) | BF16: =IF(OR($BF$6="",$BF$7=""),"",IF($B16="","",IF(ISNA(VLOOKUP($B16,'TH01'!$B$12:$N$51,11,FALSE)),"",IF(VLOOKUP($B16,'TH01'!$B$12:$N$51,11,FALSE)="","",VLOOKUP($B16,'TH01'!$B$12:$N$51,11,FALSE))))) -> 9.8 | BG16: =IF(OR($H$6="",$H$7=""),"",IF($B16="","",IF(ISNA(VLOOKUP($B16,'TH01'!$B$12:$N$51,12,FALSE)),"",IF(VLOOKUP($B16,'TH01'!$B$12:$N$51,12,FALSE)="","",VLOOKUP($B16,'TH01'!$B$12:$N$51,12,FALSE))))) -> 6 | BH16: =IF(OR($BF$6="",$BF$7=""),"",IF($B16="","",IF(ISNA(VLOOKUP($B16,'TH01'!$B$12:$N$51,13,FALSE)),"",IF(VLOOKUP($B16,'TH01'!$B$12:$N$51,13,FALSE)="","",VLOOKUP($B16,'TH01'!$B$12:$N$51,13,FALSE))))) -> 7.5 | BJ16: =IF($BF$7=0,"",IF(BH16="","",IF(BI16="","",IF(BG16>BI16,BH16,ROUND((BF16*0.4+BI16*0.6),1))))) | BK16: =IF(OR($BK$6="",$BK$7=""),"",IF($B16="","",IF(ISNA(VLOOKUP($B16,'TH02'!$B$12:$N$51,11,FALSE)),"",IF(VLOOKUP($B16,'TH02'!$B$12:$N$51,11,FALSE)="","",VLOOKUP($B16,'TH02'!$B$12:$N$51,11,FALSE))))) -> 8.7 | BL16: =IF(OR($H$6="",$H$7=""),"",IF($B16="","",IF(ISNA(VLOOKUP($B16,'TH02'!$B$12:$N$51,12,FALSE)),"",IF(VLOOKUP($B16,'TH02'!$B$12:$N$51,12,FALSE)="","",VLOOKUP($B16,'TH02'!$B$12:$N$51,12,FALSE))))) -> 5 | BM16: =IF(OR($BK$6="",$BK$7=""),"",IF($B16="","",IF(ISNA(VLOOKUP($B16,'TH02'!$B$12:$N$51,13,FALSE)),"",IF(VLOOKUP($B16,'TH02'!$B$12:$N$51,13,FALSE)="","",VLOOKUP($B16,'TH02'!$B$12:$N$51,13,FALSE))))) -> 6.5 | BO16: =IF($BK$7=0,"",IF(BM16="","",IF(BN16="","",IF(BL16>BN16,BM16,ROUND((BK16*0.4+BN16*0.6),1))))) | BP16: =IF(OR($BP$6="",$BP$7=""),"",IF($B16="","",IF(ISNA(VLOOKUP($B16,'TH03'!$B$12:$N$51,11,FALSE)),"",IF(VLOOKUP($B16,'TH03'!$B$12:$N$51,11,FALSE)="","",VLOOKUP($B16,'TH03'!$B$12:$N$51,11,FALSE))))) -> 6.1 | BQ16: =IF(OR($H$6="",$H$7=""),"",IF($B16="","",IF(ISNA(VLOOKUP($B16,'TH03'!$B$12:$N$51,12,FALSE)),"",IF(VLOOKUP($B16,'TH03'!$B$12:$N$51,12,FALSE)="","",VLOOKUP($B16,'TH03'!$B$12:$N$51,12,FALSE))))) -> 10 | BR16: =IF(OR($BP$6="",$BP$7=""),"",IF($B16="","",IF(ISNA(VLOOKUP($B16,'TH03'!$B$12:$N$51,13,FALSE)),"",IF(VLOOKUP($B16,'TH03'!$B$12:$N$51,13,FALSE)="","",VLOOKUP($B16,'TH03'!$B$12:$N$51,13,FALSE))))) -> 8.4 | BT16: =IF($BP$7=0,"",IF(BR16="","",IF(BS16="","",IF(BQ16>BS16,BR16,ROUND((BP16*0.4+BS16*0.6),1))))) | BU16: =IF(OR($BU$6="",$BU$7=""),"",IF($B16="","",IF(ISNA(VLOOKUP($B16,'TH04'!$B$12:$N$51,11,FALSE)),"",IF(VLOOKUP($B16,'TH04'!$B$12:$N$51,11,FALSE)="","",VLOOKUP($B16,'TH04'!$B$12:$N$51,11,FALSE))))) | BV16: =IF(OR($H$6="",$H$7=""),"",IF($B16="","",IF(ISNA(VLOOKUP($B16,'TH04'!$B$12:$N$51,12,FALSE)),"",IF(VLOOKUP($B16,'TH04'!$B$12:$N$51,12,FALSE)="","",VLOOKUP($B16,'TH04'!$B$12:$N$51,12,FALSE))))) | BW16: =IF(OR($BU$6="",$BU$7=""),"",IF($B16="","",IF(ISNA(VLOOKUP($B16,'TH04'!$B$12:$N$51,13,FALSE)),"",IF(VLOOKUP($B16,'TH04'!$B$12:$N$51,13,FALSE)="","",VLOOKUP($B16,'TH04'!$B$12:$N$51,13,FALSE))))) | BY16: =IF($BU$7=0,"",IF(BW16="","",IF(BX16="","",IF(BV16>BX16,BW16,ROUND((BU16*0.4+BX16*0.6),1))))) | BZ16: =IF(OR($BZ$6="",$BZ$7=""),"",IF($B16="","",IF(ISNA(VLOOKUP($B16,'TH05'!$B$12:$N$51,11,FALSE)),"",IF(VLOOKUP($B16,'TH05'!$B$12:$N$51,11,FALSE)="","",VLOOKUP($B16,'TH05'!$B$12:$N$51,11,FALSE))))) | CA16: =IF(OR($H$6="",$H$7=""),"",IF($B16="","",IF(ISNA(VLOOKUP($B16,'TH05'!$B$12:$N$51,12,FALSE)),"",IF(VLOOKUP($B16,'TH05'!$B$12:$N$51,12,FALSE)="","",VLOOKUP($B16,'TH05'!$B$12:$N$51,12,FALSE))))) | CB16: =IF(OR($BZ$6="",$BZ$7=""),"",IF($B16="","",IF(ISNA(VLOOKUP($B16,'TH05'!$B$12:$N$51,13,FALSE)),"",IF(VLOOKUP($B16,'TH05'!$B$12:$N$51,13,FALSE)="","",VLOOKUP($B16,'TH05'!$B$12:$N$51,13,FALSE))))) | CD16: =IF($BZ$7=0,"",IF(CB16="","",IF(CC16="","",IF(CA16>CC16,CB16,ROUND((BZ16*0.4+CC16*0.6),1))))) | CE16: =IF(OR($CE$6="",$CE$7=""),"",IF($B16="","",IF(ISNA(VLOOKUP($B16,'TH06'!$B$12:$N$51,11,FALSE)),"",IF(VLOOKUP($B16,'TH06'!$B$12:$N$51,11,FALSE)="","",VLOOKUP($B16,'TH06'!$B$12:$N$51,11,FALSE))))) | CF16: =IF(OR($H$6="",$H$7=""),"",IF($B16="","",IF(ISNA(VLOOKUP($B16,'TH06'!$B$12:$N$51,12,FALSE)),"",IF(VLOOKUP($B16,'TH06'!$B$12:$N$51,12,FALSE)="","",VLOOKUP($B16,'TH06'!$B$12:$N$51,12,FALSE))))) | CG16: =IF(OR($CE$6="",$CE$7=""),"",IF($B16="","",IF(ISNA(VLOOKUP($B16,'TH06'!$B$12:$N$51,13,FALSE)),"",IF(VLOOKUP($B16,'TH06'!$B$12:$N$51,13,FALSE)="","",VLOOKUP($B16,'TH06'!$B$12:$N$51,13,FALSE))))) | CI16: =IF($CE$7=0,"",IF(CG16="","",IF(CH16="","",IF(CF16>CH16,CG16,ROUND((CE16*0.4+CH16*0.6),1))))) | CJ16: =DY16 -> 7.5 | CK16: =FF16 | CM16: =IF(CJ16="","",IF(C16="","",IF(CJ16<4,"Kém",IF(CJ16<5,"Yếu",IF(CJ16<6,"TB",IF(CJ16<7,"TBKhá",IF(CJ16<8,"Khá",IF(CJ16<9,"Giỏi","XS")))))))) -> Khá | CN16: =IF(CK16="","",IF(C16="","",IF(CK16<4,"Kém",IF(CK16<5,"Yếu",IF(CK16<6,"TB",IF(CK16<7,"TBKhá",IF(CK16<8,"Khá",IF(CK16<9,"Giỏi","XS")))))))) | CO16: =IF(AND(CJ16>=7,CL16>=70,ISBLANK(CP16)=TRUE,CQ16=0,DH16=0,COUNT(CR16:DG16)>0,COUNT(DI16:DX16)>0),"Xét KT&HB","") | CQ16: =COUNTIF(CR16:DG16,"<5") -> 0 | CR16: =I16 -> 6.6 | CS16: =N16 -> 8 | CT16: =S16 -> 6.6 | CU16: =X16 -> 8 | CV16: =AC16 -> 10 | CW16: =AH16 | CX16: =AM16 | CY16: =AR16 | CZ16: =AW16 | DA16: =BC16 | DB16: =BG16 -> 6 | DC16: =BL16 -> 5 | DD16: =BQ16 -> 10 | DE16: =BV16 | DF16: =CA16 | DG16: =CF16 | DH16: =IF(COUNT(DI16:DX16)=0,"",COUNTIF(DI16:DX16,"<5")) -> 0 | DI16: =J16 -> 7.2 | DJ16: =O16 -> 8.1 | DK16: =T16 -> 6.5 | DL16: =Y16 -> 7.9 | DM16: =AD16 -> 9.3 | DN16: =AI16 | DO16: =AN16 | DP16: =AS16 | DQ16: =AX16 | DR16: =BC16 | DS16: =BH16 -> 7.5 | DT16: =BM16 -> 6.5 | DU16: =BR16 -> 8.4 | DV16: =BW16 | DW16: =CB16 | DX16: =CG16 | DY16: =IF(COUNT(DI16:DX16)=0,"",ROUND(SUMPRODUCT(DI16:DX16,$DI$7:$DX$7)/SUM($DI$7:$DX$7),1)) -> 7.5 | DZ16: =L16 | EA16: =Q16 | EB16: =V16 | EC16: =AA16 | ED16: =AF16 | EE16: =AK16 | EF16: =AP16 | EG16: =AU16 | EH16: =AZ16 | EI16: =IF(BE16="","",BE16) | EJ16: =BJ16 | EK16: =BO16 | EL16: =BT16 | EM16: =BY16 | EN16: =CD16 | EO16: =CI16 | EP16: =IF(AND(I16="",ISNUMBER(J16),K16=""),J16,IF(I16>=K16,J16,L16)) -> 7.2 | EQ16: =IF(AND(N16="",ISNUMBER(O16),P16=""),O16,IF(N16>=P16,O16,Q16)) -> 8.1 | ER16: =IF(AND(S16="",ISNUMBER(T16),U16=""),T16,IF(S16>=U16,T16,V16)) -> 6.5 | ES16: =IF(AND(X16="",ISNUMBER(Y16),Z16=""),Y16,IF(X16>=Z16,Y16,AA16)) -> 7.9 | ET16: =IF(AND(AC16="",ISNUMBER(AD16),AE16=""),AD16,IF(AC16>=AE16,AD16,AF16)) -> 9.3 | EU16: =IF(AND(AH16="",ISNUMBER(AI16),AJ16=""),AI16,IF(AH16>=AJ16,AI16,AK16)) | EV16: =IF(AND(AM16="",ISNUMBER(AN16),AO16=""),AN16,IF(AM16>=AO16,AN16,AP16)) | EW16: =IF(AND(AR16="",ISNUMBER(AS16),AT16=""),AS16,IF(AR16>=AT16,AS16,AU16)) | EX16: =IF(AND(AW16="",ISNUMBER(AX16),AY16=""),AX16,IF(AW16>=AY16,AX16,AZ16)) | EY16: =IF(BE16="","",BE16) | EZ16: =IF(AND(BG16="",ISNUMBER(BH16),BI16=""),BH16,IF(BG16>=BI16,BH16,BJ16)) -> 7.5 | FA16: =IF(AND(BL16="",ISNUMBER(BM16),BN16=""),BM16,IF(BL16>=BN16,BM16,BO16)) -> 6.5 | FB16: =IF(AND(BQ16="",ISNUMBER(BR16),BS16=""),BR16,IF(BQ16>=BS16,BR16,BT16)) -> 8.4 | FC16: =IF(AND(BV16="",ISNUMBER(BW16),BX16=""),BW16,IF(BV16>=BX16,BW16,BY16)) | FD16: =IF(AND(CA16="",ISNUMBER(CB16),CC16=""),CB16,IF(CA16>=CC16,CB16,CD16)) | FE16: =IF(AND(CF16="",ISNUMBER(CG16),CH16=""),CG16,IF(CF16>=CH16,CG16,CI16)) | FF16: =IF(COUNT(DZ16:EO16)=0,"",ROUND(SUMPRODUCT(EP16:FE16,$EP$7:$FE$7)/SUM($EP$7:$FE$7),1))
A17: =IF(B17="","",IF(SUBTOTAL(3,$B$12:B17)=SUBTOTAL(3,$B$12:B16),"",SUBTOTAL(3,$B$12:B17))) -> 6 | B17: 13B3080012 | C17: =IF($B17="","",IF(ISNA(VLOOKUP($B17,'DS LOP HKI'!$B$2:$D$1060,2,FALSE))=TRUE,"",VLOOKUP($B17,'DS LOP HKI'!$B$2:$D$1060,2,FALSE))) -> Võ Hồng | D17: =IF($B17="","",IF(ISNA(VLOOKUP($B17,'DS LOP HKI'!$B$2:$D$1060,3,FALSE))=TRUE,"",VLOOKUP($B17,'DS LOP HKI'!$B$2:$D$1060,3,FALSE))) -> Dương | E17: B | H17: =IF(OR($H$6="",$H$7=""),"",IF($B17="","",IF(ISNA(VLOOKUP($B17,'LT01'!$B$12:$N$51,11,FALSE)),"",IF(VLOOKUP($B17,'LT01'!$B$12:$N$51,11,FALSE)="","",VLOOKUP($B17,'LT01'!$B$12:$N$51,11,FALSE))))) -> 6.5 | I17: =IF(OR($H$6="",$H$7=""),"",IF($B17="","",IF(ISNA(VLOOKUP($B17,'LT01'!$B$12:$N$51,12,FALSE)),"",IF(VLOOKUP($B17,'LT01'!$B$12:$N$51,12,FALSE)="","",VLOOKUP($B17,'LT01'!$B$12:$N$51,12,FALSE))))) -> 6.6 | J17: =IF(OR($H$6="",$H$7=""),"",IF($B17="","",IF(ISNA(VLOOKUP($B17,'LT01'!$B$12:$N$51,13,FALSE)),"",IF(VLOOKUP($B17,'LT01'!$B$12:$N$51,13,FALSE)="","",VLOOKUP($B17,'LT01'!$B$12:$N$51,13,FALSE))))) -> 6.6 | L17: =IF($H$7=0,"",IF(J17="","",IF(K17="","",IF(K17>I17,ROUND((H17*0.4+K17*0.6),1),I17)))) | M17: =IF(OR($M$6="",$M$7=""),"",IF($B17="","",IF(ISNA(VLOOKUP($B17,'LT02'!$B$12:$N$51,11,FALSE)),"",IF(VLOOKUP($B17,'LT02'!$B$12:$N$51,11,FALSE)="","",VLOOKUP($B17,'LT02'!$B$12:$N$51,11,FALSE))))) -> 7.7 | N17: =IF(OR($H$6="",$H$7=""),"",IF($B17="","",IF(ISNA(VLOOKUP($B17,'LT02'!$B$12:$N$51,12,FALSE)),"",IF(VLOOKUP($B17,'LT02'!$B$12:$N$51,12,FALSE)="","",VLOOKUP($B17,'LT02'!$B$12:$N$51,12,FALSE))))) -> 5.5 | O17: =IF(OR($M$6="",$M$7=""),"",IF($B17="","",IF(ISNA(VLOOKUP($B17,'LT02'!$B$12:$N$51,13,FALSE)),"",IF(VLOOKUP($B17,'LT02'!$B$12:$N$51,13,FALSE)="","",VLOOKUP($B17,'LT02'!$B$12:$N$51,13,FALSE))))) -> 6.4 | Q17: =IF($M$7=0,"",IF(O17="","",IF(P17="","",IF(N17>P17,O17,ROUND((M17*0.4+P17*0.6),1))))) | R17: =IF(OR($R$6="",$R$7=""),"",IF($B17="","",IF(ISNA(VLOOKUP($B17,'LT03'!$B$12:$N$51,11,FALSE)),"",IF(VLOOKUP($B17,'LT03'!$B$12:$N$51,11,FALSE)="","",VLOOKUP($B17,'LT03'!$B$12:$N$51,11,FALSE))))) -> 5.7 | S17: =IF(OR($H$6="",$H$7=""),"",IF($B17="","",IF(ISNA(VLOOKUP($B17,'LT03'!$B$12:$N$51,12,FALSE)),"",IF(VLOOKUP($B17,'LT03'!$B$12:$N$51,12,FALSE)="","",VLOOKUP($B17,'LT03'!$B$12:$N$51,12,FALSE))))) -> 6 | T17: =IF(OR($R$6="",$R$7=""),"",IF($B17="","",IF(ISNA(VLOOKUP($B17,'LT03'!$B$12:$N$51,13,FALSE)),"",IF(VLOOKUP($B17,'LT03'!$B$12:$N$51,13,FALSE)="","",VLOOKUP($B17,'LT03'!$B$12:$N$51,13,FALSE))))) -> 5.9 | V17: =IF($R$7=0,"",IF(T17="","",IF(U17="","",IF(S17>U17,T17,ROUND((R17*0.4+U17*0.6),1))))) | W17: =IF(OR($W$6="",$W$7=""),"",IF($B17="","",IF(ISNA(VLOOKUP($B17,'LT04'!$B$12:$N$51,11,FALSE)),"",IF(VLOOKUP($B17,'LT04'!$B$12:$N$51,11,FALSE)="","",VLOOKUP($B17,'LT04'!$B$12:$N$51,11,FALSE))))) -> 4 | X17: =IF(OR($H$6="",$H$7=""),"",IF($B17="","",IF(ISNA(VLOOKUP($B17,'LT04'!$B$12:$N$51,12,FALSE)),"",IF(VLOOKUP($B17,'LT04'!$B$12:$N$51,12,FALSE)="","",VLOOKUP($B17,'LT04'!$B$12:$N$51,12,FALSE))))) -> 6.5 | Y17: =IF(OR($W$6="",$W$7=""),"",IF($B17="","",IF(ISNA(VLOOKUP($B17,'LT04'!$B$12:$N$51,13,FALSE)),"",IF(VLOOKUP($B17,'LT04'!$B$12:$N$51,13,FALSE)="","",VLOOKUP($B17,'LT04'!$B$12:$N$51,13,FALSE))))) -> 5.5 | AA17: =IF($W$7=0,"",IF(Y17="","",IF(Z17="","",IF(X17>Z17,Y17,ROUND((W17*0.4+Z17*0.6),1))))) | AB17: =IF(OR($AB$6="",$AB$7=""),"",IF($B17="","",IF(ISNA(VLOOKUP($B17,'LT05'!$B$12:$N$51,11,FALSE)),"",IF(VLOOKUP($B17,'LT05'!$B$12:$N$51,11,FALSE)="","",VLOOKUP($B17,'LT05'!$B$12:$N$51,11,FALSE))))) -> 8.7 | AC17: =IF(OR($H$6="",$H$7=""),"",IF($B17="","",IF(ISNA(VLOOKUP($B17,'LT05'!$B$12:$N$51,12,FALSE)),"",IF(VLOOKUP($B17,'LT05'!$B$12:$N$51,12,FALSE)="","",VLOOKUP($B17,'LT05'!$B$12:$N$51,12,FALSE))))) -> 8 | AD17: =IF(OR($AB$6="",$AB$7=""),"",IF($B17="","",IF(ISNA(VLOOKUP($B17,'LT05'!$B$12:$N$51,13,FALSE)),"",IF(VLOOKUP($B17,'LT05'!$B$12:$N$51,13,FALSE)="","",VLOOKUP($B17,'LT05'!$B$12:$N$51,13,FALSE))))) -> 8.3 | AF17: =IF($AB$7=0,"",IF(AD17="","",IF(AE17="","",IF(AC17>AE17,AD17,ROUND((AB17*0.4+AE17*0.6),1))))) | AG17: =IF(OR($AG$6="",$AG$7=""),"",IF($B17="","",IF(ISNA(VLOOKUP($B17,'LT06'!$B$12:$N$51,11,FALSE)),"",IF(VLOOKUP($B17,'LT06'!$B$12:$N$51,11,FALSE)="","",VLOOKUP($B17,'LT06'!$B$12:$N$51,11,FALSE))))) | AH17: =IF(OR($H$6="",$H$7=""),"",IF($B17="","",IF(ISNA(VLOOKUP($B17,'LT06'!$B$12:$N$51,12,FALSE)),"",IF(VLOOKUP($B17,'LT06'!$B$12:$N$51,12,FALSE)="","",VLOOKUP($B17,'LT06'!$B$12:$N$51,12,FALSE))))) | AI17: =IF(OR($AG$6="",$AG$7=""),"",IF($B17="","",IF(ISNA(VLOOKUP($B17,'LT06'!$B$12:$N$51,13,FALSE)),"",IF(VLOOKUP($B17,'LT06'!$B$12:$N$51,13,FALSE)="","",VLOOKUP($B17,'LT06'!$B$12:$N$51,13,FALSE))))) | AK17: =IF($AG$7=0,"",IF(AI17="","",IF(AJ17="","",IF(AH17>AJ17,AI17,ROUND((AG17*0.4+AJ17*0.6),1))))) | AL17: =IF(OR($AL$6="",$AL$7=""),"",IF($B17="","",IF(ISNA(VLOOKUP($B17,'LT07'!$B$12:$N$51,11,FALSE)),"",IF(VLOOKUP($B17,'LT07'!$B$12:$N$51,11,FALSE)="","",VLOOKUP($B17,'LT07'!$B$12:$N$51,11,FALSE))))) | AM17: =IF(OR($H$6="",$H$7=""),"",IF($B17="","",IF(ISNA(VLOOKUP($B17,'LT07'!$B$12:$N$51,12,FALSE)),"",IF(VLOOKUP($B17,'LT07'!$B$12:$N$51,12,FALSE)="","",VLOOKUP($B17,'LT07'!$B$12:$N$51,12,FALSE))))) | AN17: =IF(OR($AL$6="",$AL$7=""),"",IF($B17="","",IF(ISNA(VLOOKUP($B17,'LT07'!$B$12:$N$51,13,FALSE)),"",IF(VLOOKUP($B17,'LT07'!$B$12:$N$51,13,FALSE)="","",VLOOKUP($B17,'LT07'!$B$12:$N$51,13,FALSE))))) | AP17: =IF($AL$7=0,"",IF(AN17="","",IF(AO17="","",IF(AM17>AO17,AN17,ROUND((AL17*0.4+AO17*0.6),1))))) | AQ17: =IF(OR($AQ$6="",$AQ$7=""),"",IF($B17="","",IF(ISNA(VLOOKUP($B17,'LT08'!$B$12:$N$51,11,FALSE)),"",IF(VLOOKUP($B17,'LT08'!$B$12:$N$51,11,FALSE)="","",VLOOKUP($B17,'LT08'!$B$12:$N$51,11,FALSE))))) | AR17: =IF(OR($H$6="",$H$7=""),"",IF($B17="","",IF(ISNA(VLOOKUP($B17,'LT08'!$B$12:$N$51,12,FALSE)),"",IF(VLOOKUP($B17,'LT08'!$B$12:$N$51,12,FALSE)="","",VLOOKUP($B17,'LT08'!$B$12:$N$51,12,FALSE))))) | AS17: =IF(OR($AQ$6="",$AQ$7=""),"",IF($B17="","",IF(ISNA(VLOOKUP($B17,'LT08'!$B$12:$N$51,13,FALSE)),"",IF(VLOOKUP($B17,'LT08'!$B$12:$N$51,13,FALSE)="","",VLOOKUP($B17,'LT08'!$B$12:$N$51,13,FALSE))))) | AU17: =IF($AQ$7=0,"",IF(AS17="","",IF(AT17="","",IF(AR17>AT17,AS17,ROUND((AQ17*0.4+AT17*0.6),1))))) | AV17: =IF(OR($AV$6="",$AV$7=""),"",IF($B17="","",IF(ISNA(VLOOKUP($B17,'LT09'!$B$12:$N$51,11,FALSE)),"",IF(VLOOKUP($B17,'LT09'!$B$12:$N$51,11,FALSE)="","",VLOOKUP($B17,'LT09'!$B$12:$N$51,11,FALSE))))) | AW17: =IF(OR($H$6="",$H$7=""),"",IF($B17="","",IF(ISNA(VLOOKUP($B17,'LT09'!$B$12:$N$51,12,FALSE)),"",IF(VLOOKUP($B17,'LT09'!$B$12:$N$51,12,FALSE)="","",VLOOKUP($B17,'LT09'!$B$12:$N$51,12,FALSE))))) | AX17: =IF(OR($AV$6="",$AV$7=""),"",IF($B17="","",IF(ISNA(VLOOKUP($B17,'LT09'!$B$12:$N$51,13,FALSE)),"",IF(VLOOKUP($B17,'LT09'!$B$12:$N$51,13,FALSE)="","",VLOOKUP($B17,'LT09'!$B$12:$N$51,13,FALSE))))) | AZ17: =IF($AV$7=0,"",IF(AX17="","",IF(AY17="","",IF(AW17>AY17,AX17,ROUND((AV17*0.4+AY17*0.6),1))))) | BC17: =IF(OR($BF$6="",$BF$7=""),"",IF($B17="","",IF(ISNA(VLOOKUP($B17,'DO AN'!$B$12:$N$51,11,FALSE)),"",IF(VLOOKUP($B17,'DO AN'!$B$12:$N$51,11,FALSE)="","",VLOOKUP($B17,'DO AN'!$B$12:$N$51,11,FALSE))))) | BF17: =IF(OR($BF$6="",$BF$7=""),"",IF($B17="","",IF(ISNA(VLOOKUP($B17,'TH01'!$B$12:$N$51,11,FALSE)),"",IF(VLOOKUP($B17,'TH01'!$B$12:$N$51,11,FALSE)="","",VLOOKUP($B17,'TH01'!$B$12:$N$51,11,FALSE))))) -> 4.8 | BG17: =IF(OR($H$6="",$H$7=""),"",IF($B17="","",IF(ISNA(VLOOKUP($B17,'TH01'!$B$12:$N$51,12,FALSE)),"",IF(VLOOKUP($B17,'TH01'!$B$12:$N$51,12,FALSE)="","",VLOOKUP($B17,'TH01'!$B$12:$N$51,12,FALSE))))) -> 7 | BH17: =IF(OR($BF$6="",$BF$7=""),"",IF($B17="","",IF(ISNA(VLOOKUP($B17,'TH01'!$B$12:$N$51,13,FALSE)),"",IF(VLOOKUP($B17,'TH01'!$B$12:$N$51,13,FALSE)="","",VLOOKUP($B17,'TH01'!$B$12:$N$51,13,FALSE))))) -> 6.1 | BJ17: =IF($BF$7=0,"",IF(BH17="","",IF(BI17="","",IF(BG17>BI17,BH17,ROUND((BF17*0.4+BI17*0.6),1))))) | BK17: =IF(OR($BK$6="",$BK$7=""),"",IF($B17="","",IF(ISNA(VLOOKUP($B17,'TH02'!$B$12:$N$51,11,FALSE)),"",IF(VLOOKUP($B17,'TH02'!$B$12:$N$51,11,FALSE)="","",VLOOKUP($B17,'TH02'!$B$12:$N$51,11,FALSE))))) -> 6.7 | BL17: =IF(OR($H$6="",$H$7=""),"",IF($B17="","",IF(ISNA(VLOOKUP($B17,'TH02'!$B$12:$N$51,12,FALSE)),"",IF(VLOOKUP($B17,'TH02'!$B$12:$N$51,12,FALSE)="","",VLOOKUP($B17,'TH02'!$B$12:$N$51,12,FALSE))))) -> 7 | BM17: =IF(OR($BK$6="",$BK$7=""),"",IF($B17="","",IF(ISNA(VLOOKUP($B17,'TH02'!$B$12:$N$51,13,FALSE)),"",IF(VLOOKUP($B17,'TH02'!$B$12:$N$51,13,FALSE)="","",VLOOKUP($B17,'TH02'!$B$12:$N$51,13,FALSE))))) -> 6.9 | BO17: =IF($BK$7=0,"",IF(BM17="","",IF(BN17="","",IF(BL17>BN17,BM17,ROUND((BK17*0.4+BN17*0.6),1))))) | BP17: =IF(OR($BP$6="",$BP$7=""),"",IF($B17="","",IF(ISNA(VLOOKUP($B17,'TH03'!$B$12:$N$51,11,FALSE)),"",IF(VLOOKUP($B17,'TH03'!$B$12:$N$51,11,FALSE)="","",VLOOKUP($B17,'TH03'!$B$12:$N$51,11,FALSE))))) -> 7 | BQ17: =IF(OR($H$6="",$H$7=""),"",IF($B17="","",IF(ISNA(VLOOKUP($B17,'TH03'!$B$12:$N$51,12,FALSE)),"",IF(VLOOKUP($B17,'TH03'!$B$12:$N$51,12,FALSE)="","",VLOOKUP($B17,'TH03'!$B$12:$N$51,12,FALSE))))) -> 9 | BR17: =IF(OR($BP$6="",$BP$7=""),"",IF($B17="","",IF(ISNA(VLOOKUP($B17,'TH03'!$B$12:$N$51,13,FALSE)),"",IF(VLOOKUP($B17,'TH03'!$B$12:$N$51,13,FALSE)="","",VLOOKUP($B17,'TH03'!$B$12:$N$51,13,FALSE))))) -> 8.2 | BT17: =IF($BP$7=0,"",IF(BR17="","",IF(BS17="","",IF(BQ17>BS17,BR17,ROUND((BP17*0.4+BS17*0.6),1))))) | BU17: =IF(OR($BU$6="",$BU$7=""),"",IF($B17="","",IF(ISNA(VLOOKUP($B17,'TH04'!$B$12:$N$51,11,FALSE)),"",IF(VLOOKUP($B17,'TH04'!$B$12:$N$51,11,FALSE)="","",VLOOKUP($B17,'TH04'!$B$12:$N$51,11,FALSE))))) | BV17: =IF(OR($H$6="",$H$7=""),"",IF($B17="","",IF(ISNA(VLOOKUP($B17,'TH04'!$B$12:$N$51,12,FALSE)),"",IF(VLOOKUP($B17,'TH04'!$B$12:$N$51,12,FALSE)="","",VLOOKUP($B17,'TH04'!$B$12:$N$51,12,FALSE))))) | BW17: =IF(OR($BU$6="",$BU$7=""),"",IF($B17="","",IF(ISNA(VLOOKUP($B17,'TH04'!$B$12:$N$51,13,FALSE)),"",IF(VLOOKUP($B17,'TH04'!$B$12:$N$51,13,FALSE)="","",VLOOKUP($B17,'TH04'!$B$12:$N$51,13,FALSE))))) | BY17: =IF($BU$7=0,"",IF(BW17="","",IF(BX17="","",IF(BV17>BX17,BW17,ROUND((BU17*0.4+BX17*0.6),1))))) | BZ17: =IF(OR($BZ$6="",$BZ$7=""),"",IF($B17="","",IF(ISNA(VLOOKUP($B17,'TH05'!$B$12:$N$51,11,FALSE)),"",IF(VLOOKUP($B17,'TH05'!$B$12:$N$51,11,FALSE)="","",VLOOKUP($B17,'TH05'!$B$12:$N$51,11,FALSE))))) | CA17: =IF(OR($H$6="",$H$7=""),"",IF($B17="","",IF(ISNA(VLOOKUP($B17,'TH05'!$B$12:$N$51,12,FALSE)),"",IF(VLOOKUP($B17,'TH05'!$B$12:$N$51,12,FALSE)="","",VLOOKUP($B17,'TH05'!$B$12:$N$51,12,FALSE))))) | CB17: =IF(OR($BZ$6="",$BZ$7=""),"",IF($B17="","",IF(ISNA(VLOOKUP($B17,'TH05'!$B$12:$N$51,13,FALSE)),"",IF(VLOOKUP($B17,'TH05'!$B$12:$N$51,13,FALSE)="","",VLOOKUP($B17,'TH05'!$B$12:$N$51,13,FALSE))))) | CD17: =IF($BZ$7=0,"",IF(CB17="","",IF(CC17="","",IF(CA17>CC17,CB17,ROUND((BZ17*0.4+CC17*0.6),1))))) | CE17: =IF(OR($CE$6="",$CE$7=""),"",IF($B17="","",IF(ISNA(VLOOKUP($B17,'TH06'!$B$12:$N$51,11,FALSE)),"",IF(VLOOKUP($B17,'TH06'!$B$12:$N$51,11,FALSE)="","",VLOOKUP($B17,'TH06'!$B$12:$N$51,11,FALSE))))) | CF17: =IF(OR($H$6="",$H$7=""),"",IF($B17="","",IF(ISNA(VLOOKUP($B17,'TH06'!$B$12:$N$51,12,FALSE)),"",IF(VLOOKUP($B17,'TH06'!$B$12:$N$51,12,FALSE)="","",VLOOKUP($B17,'TH06'!$B$12:$N$51,12,FALSE))))) | CG17: =IF(OR($CE$6="",$CE$7=""),"",IF($B17="","",IF(ISNA(VLOOKUP($B17,'TH06'!$B$12:$N$51,13,FALSE)),"",IF(VLOOKUP($B17,'TH06'!$B$12:$N$51,13,FALSE)="","",VLOOKUP($B17,'TH06'!$B$12:$N$51,13,FALSE))))) | CI17: =IF($CE$7=0,"",IF(CG17="","",IF(CH17="","",IF(CF17>CH17,CG17,ROUND((CE17*0.4+CH17*0.6),1))))) | CJ17: =DY17 -> 6.6 | CK17: =FF17 | CM17: =IF(CJ17="","",IF(C17="","",IF(CJ17<4,"Kém",IF(CJ17<5,"Yếu",IF(CJ17<6,"TB",IF(CJ17<7,"TBKhá",IF(CJ17<8,"Khá",IF(CJ17<9,"Giỏi","XS")))))))) -> TBKhá | CN17: =IF(CK17="","",IF(C17="","",IF(CK17<4,"Kém",IF(CK17<5,"Yếu",IF(CK17<6,"TB",IF(CK17<7,"TBKhá",IF(CK17<8,"Khá",IF(CK17<9,"Giỏi","XS")))))))) | CO17: =IF(AND(CJ17>=7,CL17>=70,ISBLANK(CP17)=TRUE,CQ17=0,DH17=0,COUNT(CR17:DG17)>0,COUNT(DI17:DX17)>0),"Xét KT&HB","") | CQ17: =COUNTIF(CR17:DG17,"<5") -> 0 | CR17: =I17 -> 6.6 | CS17: =N17 -> 5.5 | CT17: =S17 -> 6 | CU17: =X17 -> 6.5 | CV17: =AC17 -> 8 | CW17: =AH17 | CX17: =AM17 | CY17: =AR17 | CZ17: =AW17 | DA17: =BC17 | DB17: =BG17 -> 7 | DC17: =BL17 -> 7 | DD17: =BQ17 -> 9 | DE17: =BV17 | DF17: =CA17 | DG17: =CF17 | DH17: =IF(COUNT(DI17:DX17)=0,"",COUNTIF(DI17:DX17,"<5")) -> 0 | DI17: =J17 -> 6.6 | DJ17: =O17 -> 6.4 | DK17: =T17 -> 5.9 | DL17: =Y17 -> 5.5 | DM17: =AD17 -> 8.3 | DN17: =AI17 | DO17: =AN17 | DP17: =AS17 | DQ17: =AX17 | DR17: =BC17 | DS17: =BH17 -> 6.1 | DT17: =BM17 -> 6.9 | DU17: =BR17 -> 8.2 | DV17: =BW17 | DW17: =CB17 | DX17: =CG17 | DY17: =IF(COUNT(DI17:DX17)=0,"",ROUND(SUMPRODUCT(DI17:DX17,$DI$7:$DX$7)/SUM($DI$7:$DX$7),1)) -> 6.6 | DZ17: =L17 | EA17: =Q17 | EB17: =V17 | EC17: =AA17 | ED17: =AF17 | EE17: =AK17 | EF17: =AP17 | EG17: =AU17 | EH17: =AZ17 | EI17: =IF(BE17="","",BE17) | EJ17: =BJ17 | EK17: =BO17 | EL17: =BT17 | EM17: =BY17 | EN17: =CD17 | EO17: =CI17 | EP17: =IF(AND(I17="",ISNUMBER(J17),K17=""),J17,IF(I17>=K17,J17,L17)) -> 6.6 | EQ17: =IF(AND(N17="",ISNUMBER(O17),P17=""),O17,IF(N17>=P17,O17,Q17)) -> 6.4 | ER17: =IF(AND(S17="",ISNUMBER(T17),U17=""),T17,IF(S17>=U17,T17,V17)) -> 5.9 | ES17: =IF(AND(X17="",ISNUMBER(Y17),Z17=""),Y17,IF(X17>=Z17,Y17,AA17)) -> 5.5 | ET17: =IF(AND(AC17="",ISNUMBER(AD17),AE17=""),AD17,IF(AC17>=AE17,AD17,AF17)) -> 8.3 | EU17: =IF(AND(AH17="",ISNUMBER(AI17),AJ17=""),AI17,IF(AH17>=AJ17,AI17,AK17)) | EV17: =IF(AND(AM17="",ISNUMBER(AN17),AO17=""),AN17,IF(AM17>=AO17,AN17,AP17)) | EW17: =IF(AND(AR17="",ISNUMBER(AS17),AT17=""),AS17,IF(AR17>=AT17,AS17,AU17)) | EX17: =IF(AND(AW17="",ISNUMBER(AX17),AY17=""),AX17,IF(AW17>=AY17,AX17,AZ17)) | EY17: =IF(BE17="","",BE17) | EZ17: =IF(AND(BG17="",ISNUMBER(BH17),BI17=""),BH17,IF(BG17>=BI17,BH17,BJ17)) -> 6.1 | FA17: =IF(AND(BL17="",ISNUMBER(BM17),BN17=""),BM17,IF(BL17>=BN17,BM17,BO17)) -> 6.9 | FB17: =IF(AND(BQ17="",ISNUMBER(BR17),BS17=""),BR17,IF(BQ17>=BS17,BR17,BT17)) -> 8.2 | FC17: =IF(AND(BV17="",ISNUMBER(BW17),BX17=""),BW17,IF(BV17>=BX17,BW17,BY17)) | FD17: =IF(AND(CA17="",ISNUMBER(CB17),CC17=""),CB17,IF(CA17>=CC17,CB17,CD17)) | FE17: =IF(AND(CF17="",ISNUMBER(CG17),CH17=""),CG17,IF(CF17>=CH17,CG17,CI17)) | FF17: =IF(COUNT(DZ17:EO17)=0,"",ROUND(SUMPRODUCT(EP17:FE17,$EP$7:$FE$7)/SUM($EP$7:$FE$7),1))
A18: =IF(B18="","",IF(SUBTOTAL(3,$B$12:B18)=SUBTOTAL(3,$B$12:B17),"",SUBTOTAL(3,$B$12:B18))) -> 7 | B18: 13B3080016 | C18: =IF($B18="","",IF(ISNA(VLOOKUP($B18,'DS LOP HKI'!$B$2:$D$1060,2,FALSE))=TRUE,"",VLOOKUP($B18,'DS LOP HKI'!$B$2:$D$1060,2,FALSE))) -> Nguyễn Quang | D18: =IF($B18="","",IF(ISNA(VLOOKUP($B18,'DS LOP HKI'!$B$2:$D$1060,3,FALSE))=TRUE,"",VLOOKUP($B18,'DS LOP HKI'!$B$2:$D$1060,3,FALSE))) -> Đại | E18: B | H18: =IF(OR($H$6="",$H$7=""),"",IF($B18="","",IF(ISNA(VLOOKUP($B18,'LT01'!$B$12:$N$51,11,FALSE)),"",IF(VLOOKUP($B18,'LT01'!$B$12:$N$51,11,FALSE)="","",VLOOKUP($B18,'LT01'!$B$12:$N$51,11,FALSE))))) -> 4 | I18: =IF(OR($H$6="",$H$7=""),"",IF($B18="","",IF(ISNA(VLOOKUP($B18,'LT01'!$B$12:$N$51,12,FALSE)),"",IF(VLOOKUP($B18,'LT01'!$B$12:$N$51,12,FALSE)="","",VLOOKUP($B18,'LT01'!$B$12:$N$51,12,FALSE))))) -> 0 | J18: =IF(OR($H$6="",$H$7=""),"",IF($B18="","",IF(ISNA(VLOOKUP($B18,'LT01'!$B$12:$N$51,13,FALSE)),"",IF(VLOOKUP($B18,'LT01'!$B$12:$N$51,13,FALSE)="","",VLOOKUP($B18,'LT01'!$B$12:$N$51,13,FALSE))))) -> 1.6 | L18: =IF($H$7=0,"",IF(J18="","",IF(K18="","",IF(K18>I18,ROUND((H18*0.4+K18*0.6),1),I18)))) | M18: =IF(OR($M$6="",$M$7=""),"",IF($B18="","",IF(ISNA(VLOOKUP($B18,'LT02'!$B$12:$N$51,11,FALSE)),"",IF(VLOOKUP($B18,'LT02'!$B$12:$N$51,11,FALSE)="","",VLOOKUP($B18,'LT02'!$B$12:$N$51,11,FALSE))))) -> 4.3 | N18: =IF(OR($H$6="",$H$7=""),"",IF($B18="","",IF(ISNA(VLOOKUP($B18,'LT02'!$B$12:$N$51,12,FALSE)),"",IF(VLOOKUP($B18,'LT02'!$B$12:$N$51,12,FALSE)="","",VLOOKUP($B18,'LT02'!$B$12:$N$51,12,FALSE))))) -> 3.5 | O18: =IF(OR($M$6="",$M$7=""),"",IF($B18="","",IF(ISNA(VLOOKUP($B18,'LT02'!$B$12:$N$51,13,FALSE)),"",IF(VLOOKUP($B18,'LT02'!$B$12:$N$51,13,FALSE)="","",VLOOKUP($B18,'LT02'!$B$12:$N$51,13,FALSE))))) -> 3.8 | Q18: =IF($M$7=0,"",IF(O18="","",IF(P18="","",IF(N18>P18,O18,ROUND((M18*0.4+P18*0.6),1))))) | R18: =IF(OR($R$6="",$R$7=""),"",IF($B18="","",IF(ISNA(VLOOKUP($B18,'LT03'!$B$12:$N$51,11,FALSE)),"",IF(VLOOKUP($B18,'LT03'!$B$12:$N$51,11,FALSE)="","",VLOOKUP($B18,'LT03'!$B$12:$N$51,11,FALSE))))) -> 6.3 | S18: =IF(OR($H$6="",$H$7=""),"",IF($B18="","",IF(ISNA(VLOOKUP($B18,'LT03'!$B$12:$N$51,12,FALSE)),"",IF(VLOOKUP($B18,'LT03'!$B$12:$N$51,12,FALSE)="","",VLOOKUP($B18,'LT03'!$B$12:$N$51,12,FALSE))))) -> 6.1 | T18: =IF(OR($R$6="",$R$7=""),"",IF($B18="","",IF(ISNA(VLOOKUP($B18,'LT03'!$B$12:$N$51,13,FALSE)),"",IF(VLOOKUP($B18,'LT03'!$B$12:$N$51,13,FALSE)="","",VLOOKUP($B18,'LT03'!$B$12:$N$51,13,FALSE))))) -> 6.2 | V18: =IF($R$7=0,"",IF(T18="","",IF(U18="","",IF(S18>U18,T18,ROUND((R18*0.4+U18*0.6),1))))) | W18: =IF(OR($W$6="",$W$7=""),"",IF($B18="","",IF(ISNA(VLOOKUP($B18,'LT04'!$B$12:$N$51,11,FALSE)),"",IF(VLOOKUP($B18,'LT04'!$B$12:$N$51,11,FALSE)="","",VLOOKUP($B18,'LT04'!$B$12:$N$51,11,FALSE))))) -> 4 | X18: =IF(OR($H$6="",$H$7=""),"",IF($B18="","",IF(ISNA(VLOOKUP($B18,'LT04'!$B$12:$N$51,12,FALSE)),"",IF(VLOOKUP($B18,'LT04'!$B$12:$N$51,12,FALSE)="","",VLOOKUP($B18,'LT04'!$B$12:$N$51,12,FALSE))))) -> 3 | Y18: =IF(OR($W$6="",$W$7=""),"",IF($B18="","",IF(ISNA(VLOOKUP($B18,'LT04'!$B$12:$N$51,13,FALSE)),"",IF(VLOOKUP($B18,'LT04'!$B$12:$N$51,13,FALSE)="","",VLOOKUP($B18,'LT04'!$B$12:$N$51,13,FALSE))))) -> 3.4 | AA18: =IF($W$7=0,"",IF(Y18="","",IF(Z18="","",IF(X18>Z18,Y18,ROUND((W18*0.4+Z18*0.6),1))))) | AB18: =IF(OR($AB$6="",$AB$7=""),"",IF($B18="","",IF(ISNA(VLOOKUP($B18,'LT05'!$B$12:$N$51,11,FALSE)),"",IF(VLOOKUP($B18,'LT05'!$B$12:$N$51,11,FALSE)="","",VLOOKUP($B18,'LT05'!$B$12:$N$51,11,FALSE))))) -> 3.3 | AC18: =IF(OR($H$6="",$H$7=""),"",IF($B18="","",IF(ISNA(VLOOKUP($B18,'LT05'!$B$12:$N$51,12,FALSE)),"",IF(VLOOKUP($B18,'LT05'!$B$12:$N$51,12,FALSE)="","",VLOOKUP($B18,'LT05'!$B$12:$N$51,12,FALSE))))) -> 7 | AD18: =IF(OR($AB$6="",$AB$7=""),"",IF($B18="","",IF(ISNA(VLOOKUP($B18,'LT05'!$B$12:$N$51,13,FALSE)),"",IF(VLOOKUP($B18,'LT05'!$B$12:$N$51,13,FALSE)="","",VLOOKUP($B18,'LT05'!$B$12:$N$51,13,FALSE))))) -> 5.5 | AF18: =IF($AB$7=0,"",IF(AD18="","",IF(AE18="","",IF(AC18>AE18,AD18,ROUND((AB18*0.4+AE18*0.6),1))))) | AG18: =IF(OR($AG$6="",$AG$7=""),"",IF($B18="","",IF(ISNA(VLOOKUP($B18,'LT06'!$B$12:$N$51,11,FALSE)),"",IF(VLOOKUP($B18,'LT06'!$B$12:$N$51,11,FALSE)="","",VLOOKUP($B18,'LT06'!$B$12:$N$51,11,FALSE))))) | AH18: =IF(OR($H$6="",$H$7=""),"",IF($B18="","",IF(ISNA(VLOOKUP($B18,'LT06'!$B$12:$N$51,12,FALSE)),"",IF(VLOOKUP($B18,'LT06'!$B$12:$N$51,12,FALSE)="","",VLOOKUP($B18,'LT06'!$B$12:$N$51,12,FALSE))))) | AI18: =IF(OR($AG$6="",$AG$7=""),"",IF($B18="","",IF(ISNA(VLOOKUP($B18,'LT06'!$B$12:$N$51,13,FALSE)),"",IF(VLOOKUP($B18,'LT06'!$B$12:$N$51,13,FALSE)="","",VLOOKUP($B18,'LT06'!$B$12:$N$51,13,FALSE))))) | AK18: =IF($AG$7=0,"",IF(AI18="","",IF(AJ18="","",IF(AH18>AJ18,AI18,ROUND((AG18*0.4+AJ18*0.6),1))))) | AL18: =IF(OR($AL$6="",$AL$7=""),"",IF($B18="","",IF(ISNA(VLOOKUP($B18,'LT07'!$B$12:$N$51,11,FALSE)),"",IF(VLOOKUP($B18,'LT07'!$B$12:$N$51,11,FALSE)="","",VLOOKUP($B18,'LT07'!$B$12:$N$51,11,FALSE))))) | AM18: =IF(OR($H$6="",$H$7=""),"",IF($B18="","",IF(ISNA(VLOOKUP($B18,'LT07'!$B$12:$N$51,12,FALSE)),"",IF(VLOOKUP($B18,'LT07'!$B$12:$N$51,12,FALSE)="","",VLOOKUP($B18,'LT07'!$B$12:$N$51,12,FALSE))))) | AN18: =IF(OR($AL$6="",$AL$7=""),"",IF($B18="","",IF(ISNA(VLOOKUP($B18,'LT07'!$B$12:$N$51,13,FALSE)),"",IF(VLOOKUP($B18,'LT07'!$B$12:$N$51,13,FALSE)="","",VLOOKUP($B18,'LT07'!$B$12:$N$51,13,FALSE))))) | AP18: =IF($AL$7=0,"",IF(AN18="","",IF(AO18="","",IF(AM18>AO18,AN18,ROUND((AL18*0.4+AO18*0.6),1))))) | AQ18: =IF(OR($AQ$6="",$AQ$7=""),"",IF($B18="","",IF(ISNA(VLOOKUP($B18,'LT08'!$B$12:$N$51,11,FALSE)),"",IF(VLOOKUP($B18,'LT08'!$B$12:$N$51,11,FALSE)="","",VLOOKUP($B18,'LT08'!$B$12:$N$51,11,FALSE))))) | AR18: =IF(OR($H$6="",$H$7=""),"",IF($B18="","",IF(ISNA(VLOOKUP($B18,'LT08'!$B$12:$N$51,12,FALSE)),"",IF(VLOOKUP($B18,'LT08'!$B$12:$N$51,12,FALSE)="","",VLOOKUP($B18,'LT08'!$B$12:$N$51,12,FALSE))))) | AS18: =IF(OR($AQ$6="",$AQ$7=""),"",IF($B18="","",IF(ISNA(VLOOKUP($B18,'LT08'!$B$12:$N$51,13,FALSE)),"",IF(VLOOKUP($B18,'LT08'!$B$12:$N$51,13,FALSE)="","",VLOOKUP($B18,'LT08'!$B$12:$N$51,13,FALSE))))) | AU18: =IF($AQ$7=0,"",IF(AS18="","",IF(AT18="","",IF(AR18>AT18,AS18,ROUND((AQ18*0.4+AT18*0.6),1))))) | AV18: =IF(OR($AV$6="",$AV$7=""),"",IF($B18="","",IF(ISNA(VLOOKUP($B18,'LT09'!$B$12:$N$51,11,FALSE)),"",IF(VLOOKUP($B18,'LT09'!$B$12:$N$51,11,FALSE)="","",VLOOKUP($B18,'LT09'!$B$12:$N$51,11,FALSE))))) | AW18: =IF(OR($H$6="",$H$7=""),"",IF($B18="","",IF(ISNA(VLOOKUP($B18,'LT09'!$B$12:$N$51,12,FALSE)),"",IF(VLOOKUP($B18,'LT09'!$B$12:$N$51,12,FALSE)="","",VLOOKUP($B18,'LT09'!$B$12:$N$51,12,FALSE))))) | AX18: =IF(OR($AV$6="",$AV$7=""),"",IF($B18="","",IF(ISNA(VLOOKUP($B18,'LT09'!$B$12:$N$51,13,FALSE)),"",IF(VLOOKUP($B18,'LT09'!$B$12:$N$51,13,FALSE)="","",VLOOKUP($B18,'LT09'!$B$12:$N$51,13,FALSE))))) | AZ18: =IF($AV$7=0,"",IF(AX18="","",IF(AY18="","",IF(AW18>AY18,AX18,ROUND((AV18*0.4+AY18*0.6),1))))) | BC18: =IF(OR($BF$6="",$BF$7=""),"",IF($B18="","",IF(ISNA(VLOOKUP($B18,'DO AN'!$B$12:$N$51,11,FALSE)),"",IF(VLOOKUP($B18,'DO AN'!$B$12:$N$51,11,FALSE)="","",VLOOKUP($B18,'DO AN'!$B$12:$N$51,11,FALSE))))) | BF18: =IF(OR($BF$6="",$BF$7=""),"",IF($B18="","",IF(ISNA(VLOOKUP($B18,'TH01'!$B$12:$N$51,11,FALSE)),"",IF(VLOOKUP($B18,'TH01'!$B$12:$N$51,11,FALSE)="","",VLOOKUP($B18,'TH01'!$B$12:$N$51,11,FALSE))))) -> 4.8 | BG18: =IF(OR($H$6="",$H$7=""),"",IF($B18="","",IF(ISNA(VLOOKUP($B18,'TH01'!$B$12:$N$51,12,FALSE)),"",IF(VLOOKUP($B18,'TH01'!$B$12:$N$51,12,FALSE)="","",VLOOKUP($B18,'TH01'!$B$12:$N$51,12,FALSE))))) -> 6 | BH18: =IF(OR($BF$6="",$BF$7=""),"",IF($B18="","",IF(ISNA(VLOOKUP($B18,'TH01'!$B$12:$N$51,13,FALSE)),"",IF(VLOOKUP($B18,'TH01'!$B$12:$N$51,13,FALSE)="","",VLOOKUP($B18,'TH01'!$B$12:$N$51,13,FALSE))))) -> 5.5 | BJ18: =IF($BF$7=0,"",IF(BH18="","",IF(BI18="","",IF(BG18>BI18,BH18,ROUND((BF18*0.4+BI18*0.6),1))))) | BK18: =IF(OR($BK$6="",$BK$7=""),"",IF($B18="","",IF(ISNA(VLOOKUP($B18,'TH02'!$B$12:$N$51,11,FALSE)),"",IF(VLOOKUP($B18,'TH02'!$B$12:$N$51,11,FALSE)="","",VLOOKUP($B18,'TH02'!$B$12:$N$51,11,FALSE))))) -> 5.7 | BL18: =IF(OR($H$6="",$H$7=""),"",IF($B18="","",IF(ISNA(VLOOKUP($B18,'TH02'!$B$12:$N$51,12,FALSE)),"",IF(VLOOKUP($B18,'TH02'!$B$12:$N$51,12,FALSE)="","",VLOOKUP($B18,'TH02'!$B$12:$N$51,12,FALSE))))) -> 5 | BM18: =IF(OR($BK$6="",$BK$7=""),"",IF($B18="","",IF(ISNA(VLOOKUP($B18,'TH02'!$B$12:$N$51,13,FALSE)),"",IF(VLOOKUP($B18,'TH02'!$B$12:$N$51,13,FALSE)="","",VLOOKUP($B18,'TH02'!$B$12:$N$51,13,FALSE))))) -> 5.3 | BO18: =IF($BK$7=0,"",IF(BM18="","",IF(BN18="","",IF(BL18>BN18,BM18,ROUND((BK18*0.4+BN18*0.6),1))))) | BP18: =IF(OR($BP$6="",$BP$7=""),"",IF($B18="","",IF(ISNA(VLOOKUP($B18,'TH03'!$B$12:$N$51,11,FALSE)),"",IF(VLOOKUP($B18,'TH03'!$B$12:$N$51,11,FALSE)="","",VLOOKUP($B18,'TH03'!$B$12:$N$51,11,FALSE))))) -> 6 | BQ18: =IF(OR($H$6="",$H$7=""),"",IF($B18="","",IF(ISNA(VLOOKUP($B18,'TH03'!$B$12:$N$51,12,FALSE)),"",IF(VLOOKUP($B18,'TH03'!$B$12:$N$51,12,FALSE)="","",VLOOKUP($B18,'TH03'!$B$12:$N$51,12,FALSE))))) -> 7 | BR18: =IF(OR($BP$6="",$BP$7=""),"",IF($B18="","",IF(ISNA(VLOOKUP($B18,'TH03'!$B$12:$N$51,13,FALSE)),"",IF(VLOOKUP($B18,'TH03'!$B$12:$N$51,13,FALSE)="","",VLOOKUP($B18,'TH03'!$B$12:$N$51,13,FALSE))))) -> 6.6 | BT18: =IF($BP$7=0,"",IF(BR18="","",IF(BS18="","",IF(BQ18>BS18,BR18,ROUND((BP18*0.4+BS18*0.6),1))))) | BU18: =IF(OR($BU$6="",$BU$7=""),"",IF($B18="","",IF(ISNA(VLOOKUP($B18,'TH04'!$B$12:$N$51,11,FALSE)),"",IF(VLOOKUP($B18,'TH04'!$B$12:$N$51,11,FALSE)="","",VLOOKUP($B18,'TH04'!$B$12:$N$51,11,FALSE))))) | BV18: =IF(OR($H$6="",$H$7=""),"",IF($B18="","",IF(ISNA(VLOOKUP($B18,'TH04'!$B$12:$N$51,12,FALSE)),"",IF(VLOOKUP($B18,'TH04'!$B$12:$N$51,12,FALSE)="","",VLOOKUP($B18,'TH04'!$B$12:$N$51,12,FALSE))))) | BW18: =IF(OR($BU$6="",$BU$7=""),"",IF($B18="","",IF(ISNA(VLOOKUP($B18,'TH04'!$B$12:$N$51,13,FALSE)),"",IF(VLOOKUP($B18,'TH04'!$B$12:$N$51,13,FALSE)="","",VLOOKUP($B18,'TH04'!$B$12:$N$51,13,FALSE))))) | BY18: =IF($BU$7=0,"",IF(BW18="","",IF(BX18="","",IF(BV18>BX18,BW18,ROUND((BU18*0.4+BX18*0.6),1))))) | BZ18: =IF(OR($BZ$6="",$BZ$7=""),"",IF($B18="","",IF(ISNA(VLOOKUP($B18,'TH05'!$B$12:$N$51,11,FALSE)),"",IF(VLOOKUP($B18,'TH05'!$B$12:$N$51,11,FALSE)="","",VLOOKUP($B18,'TH05'!$B$12:$N$51,11,FALSE))))) | CA18: =IF(OR($H$6="",$H$7=""),"",IF($B18="","",IF(ISNA(VLOOKUP($B18,'TH05'!$B$12:$N$51,12,FALSE)),"",IF(VLOOKUP($B18,'TH05'!$B$12:$N$51,12,FALSE)="","",VLOOKUP($B18,'TH05'!$B$12:$N$51,12,FALSE))))) | CB18: =IF(OR($BZ$6="",$BZ$7=""),"",IF($B18="","",IF(ISNA(VLOOKUP($B18,'TH05'!$B$12:$N$51,13,FALSE)),"",IF(VLOOKUP($B18,'TH05'!$B$12:$N$51,13,FALSE)="","",VLOOKUP($B18,'TH05'!$B$12:$N$51,13,FALSE))))) | CD18: =IF($BZ$7=0,"",IF(CB18="","",IF(CC18="","",IF(CA18>CC18,CB18,ROUND((BZ18*0.4+CC18*0.6),1))))) | CE18: =IF(OR($CE$6="",$CE$7=""),"",IF($B18="","",IF(ISNA(VLOOKUP($B18,'TH06'!$B$12:$N$51,11,FALSE)),"",IF(VLOOKUP($B18,'TH06'!$B$12:$N$51,11,FALSE)="","",VLOOKUP($B18,'TH06'!$B$12:$N$51,11,FALSE))))) | CF18: =IF(OR($H$6="",$H$7=""),"",IF($B18="","",IF(ISNA(VLOOKUP($B18,'TH06'!$B$12:$N$51,12,FALSE)),"",IF(VLOOKUP($B18,'TH06'!$B$12:$N$51,12,FALSE)="","",VLOOKUP($B18,'TH06'!$B$12:$N$51,12,FALSE))))) | CG18: =IF(OR($CE$6="",$CE$7=""),"",IF($B18="","",IF(ISNA(VLOOKUP($B18,'TH06'!$B$12:$N$51,13,FALSE)),"",IF(VLOOKUP($B18,'TH06'!$B$12:$N$51,13,FALSE)="","",VLOOKUP($B18,'TH06'!$B$12:$N$51,13,FALSE))))) | CI18: =IF($CE$7=0,"",IF(CG18="","",IF(CH18="","",IF(CF18>CH18,CG18,ROUND((CE18*0.4+CH18*0.6),1))))) | CJ18: =DY18 -> 5 | CK18: =FF18 | CM18: =IF(CJ18="","",IF(C18="","",IF(CJ18<4,"Kém",IF(CJ18<5,"Yếu",IF(CJ18<6,"TB",IF(CJ18<7,"TBKhá",IF(CJ18<8,"Khá",IF(CJ18<9,"Giỏi","XS")))))))) -> TB | CN18: =IF(CK18="","",IF(C18="","",IF(CK18<4,"Kém",IF(CK18<5,"Yếu",IF(CK18<6,"TB",IF(CK18<7,"TBKhá",IF(CK18<8,"Khá",IF(CK18<9,"Giỏi","XS")))))))) | CO18: =IF(AND(CJ18>=7,CL18>=70,ISBLANK(CP18)=TRUE,CQ18=0,DH18=0,COUNT(CR18:DG18)>0,COUNT(DI18:DX18)>0),"Xét KT&HB","") | CQ18: =COUNTIF(CR18:DG18,"<5") -> 3 | CR18: =I18 -> 0 | CS18: =N18 -> 3.5 | CT18: =S18 -> 6.1 | CU18: =X18 -> 3 | CV18: =AC18 -> 7 | CW18: =AH18 | CX18: =AM18 | CY18: =AR18 | CZ18: =AW18 | DA18: =BC18 | DB18: =BG18 -> 6 | DC18: =BL18 -> 5 | DD18: =BQ18 -> 7 | DE18: =BV18 | DF18: =CA18 | DG18: =CF18 | DH18: =IF(COUNT(DI18:DX18)=0,"",COUNTIF(DI18:DX18,"<5")) -> 3 | DI18: =J18 -> 1.6 | DJ18: =O18 -> 3.8 | DK18: =T18 -> 6.2 | DL18: =Y18 -> 3.4 | DM18: =AD18 -> 5.5 | DN18: =AI18 | DO18: =AN18 | DP18: =AS18 | DQ18: =AX18 | DR18: =BC18 | DS18: =BH18 -> 5.5 | DT18: =BM18 -> 5.3 | DU18: =BR18 -> 6.6 | DV18: =BW18 | DW18: =CB18 | DX18: =CG18 | DY18: =IF(COUNT(DI18:DX18)=0,"",ROUND(SUMPRODUCT(DI18:DX18,$DI$7:$DX$7)/SUM($DI$7:$DX$7),1)) -> 5 | DZ18: =L18 | EA18: =Q18 | EB18: =V18 | EC18: =AA18 | ED18: =AF18 | EE18: =AK18 | EF18: =AP18 | EG18: =AU18 | EH18: =AZ18 | EI18: =IF(BE18="","",BE18) | EJ18: =BJ18 | EK18: =BO18 | EL18: =BT18 | EM18: =BY18 | EN18: =CD18 | EO18: =CI18 | EP18: =IF(AND(I18="",ISNUMBER(J18),K18=""),J18,IF(I18>=K18,J18,L18)) -> 1.6 | EQ18: =IF(AND(N18="",ISNUMBER(O18),P18=""),O18,IF(N18>=P18,O18,Q18)) -> 3.8 | ER18: =IF(AND(S18="",ISNUMBER(T18),U18=""),T18,IF(S18>=U18,T18,V18)) -> 6.2 | ES18: =IF(AND(X18="",ISNUMBER(Y18),Z18=""),Y18,IF(X18>=Z18,Y18,AA18)) -> 3.4 | ET18: =IF(AND(AC18="",ISNUMBER(AD18),AE18=""),AD18,IF(AC18>=AE18,AD18,AF18)) -> 5.5 | EU18: =IF(AND(AH18="",ISNUMBER(AI18),AJ18=""),AI18,IF(AH18>=AJ18,AI18,AK18)) | EV18: =IF(AND(AM18="",ISNUMBER(AN18),AO18=""),AN18,IF(AM18>=AO18,AN18,AP18)) | EW18: =IF(AND(AR18="",ISNUMBER(AS18),AT18=""),AS18,IF(AR18>=AT18,AS18,AU18)) | EX18: =IF(AND(AW18="",ISNUMBER(AX18),AY18=""),AX18,IF(AW18>=AY18,AX18,AZ18)) | EY18: =IF(BE18="","",BE18) | EZ18: =IF(AND(BG18="",ISNUMBER(BH18),BI18=""),BH18,IF(BG18>=BI18,BH18,BJ18)) -> 5.5 | FA18: =IF(AND(BL18="",ISNUMBER(BM18),BN18=""),BM18,IF(BL18>=BN18,BM18,BO18)) -> 5.3 | FB18: =IF(AND(BQ18="",ISNUMBER(BR18),BS18=""),BR18,IF(BQ18>=BS18,BR18,BT18)) -> 6.6 | FC18: =IF(AND(BV18="",ISNUMBER(BW18),BX18=""),BW18,IF(BV18>=BX18,BW18,BY18)) | FD18: =IF(AND(CA18="",ISNUMBER(CB18),CC18=""),CB18,IF(CA18>=CC18,CB18,CD18)) | FE18: =IF(AND(CF18="",ISNUMBER(CG18),CH18=""),CG18,IF(CF18>=CH18,CG18,CI18)) | FF18: =IF(COUNT(DZ18:EO18)=0,"",ROUND(SUMPRODUCT(EP18:FE18,$EP$7:$FE$7)/SUM($EP$7:$FE$7),1))
A19: =IF(B19="","",IF(SUBTOTAL(3,$B$12:B19)=SUBTOTAL(3,$B$12:B18),"",SUBTOTAL(3,$B$12:B19))) -> 8 | B19: 13B3080018 | C19: =IF($B19="","",IF(ISNA(VLOOKUP($B19,'DS LOP HKI'!$B$2:$D$1060,2,FALSE))=TRUE,"",VLOOKUP($B19,'DS LOP HKI'!$B$2:$D$1060,2,FALSE))) -> Nguyễn Hồng | D19: =IF($B19="","",IF(ISNA(VLOOKUP($B19,'DS LOP HKI'!$B$2:$D$1060,3,FALSE))=TRUE,"",VLOOKUP($B19,'DS LOP HKI'!$B$2:$D$1060,3,FALSE))) -> Đức | E19: A | H19: =IF(OR($H$6="",$H$7=""),"",IF($B19="","",IF(ISNA(VLOOKUP($B19,'LT01'!$B$12:$N$51,11,FALSE)),"",IF(VLOOKUP($B19,'LT01'!$B$12:$N$51,11,FALSE)="","",VLOOKUP($B19,'LT01'!$B$12:$N$51,11,FALSE))))) -> 7 | I19: =IF(OR($H$6="",$H$7=""),"",IF($B19="","",IF(ISNA(VLOOKUP($B19,'LT01'!$B$12:$N$51,12,FALSE)),"",IF(VLOOKUP($B19,'LT01'!$B$12:$N$51,12,FALSE)="","",VLOOKUP($B19,'LT01'!$B$12:$N$51,12,FALSE))))) -> 7 | J19: =IF(OR($H$6="",$H$7=""),"",IF($B19="","",IF(ISNA(VLOOKUP($B19,'LT01'!$B$12:$N$51,13,FALSE)),"",IF(VLOOKUP($B19,'LT01'!$B$12:$N$51,13,FALSE)="","",VLOOKUP($B19,'LT01'!$B$12:$N$51,13,FALSE))))) -> 7 | L19: =IF($H$7=0,"",IF(J19="","",IF(K19="","",IF(K19>I19,ROUND((H19*0.4+K19*0.6),1),I19)))) | M19: =IF(OR($M$6="",$M$7=""),"",IF($B19="","",IF(ISNA(VLOOKUP($B19,'LT02'!$B$12:$N$51,11,FALSE)),"",IF(VLOOKUP($B19,'LT02'!$B$12:$N$51,11,FALSE)="","",VLOOKUP($B19,'LT02'!$B$12:$N$51,11,FALSE))))) -> 6.7 | N19: =IF(OR($H$6="",$H$7=""),"",IF($B19="","",IF(ISNA(VLOOKUP($B19,'LT02'!$B$12:$N$51,12,FALSE)),"",IF(VLOOKUP($B19,'LT02'!$B$12:$N$51,12,FALSE)="","",VLOOKUP($B19,'LT02'!$B$12:$N$51,12,FALSE))))) -> 7.8 | O19: =IF(OR($M$6="",$M$7=""),"",IF($B19="","",IF(ISNA(VLOOKUP($B19,'LT02'!$B$12:$N$51,13,FALSE)),"",IF(VLOOKUP($B19,'LT02'!$B$12:$N$51,13,FALSE)="","",VLOOKUP($B19,'LT02'!$B$12:$N$51,13,FALSE))))) -> 7.4 | Q19: =IF($M$7=0,"",IF(O19="","",IF(P19="","",IF(N19>P19,O19,ROUND((M19*0.4+P19*0.6),1))))) | R19: =IF(OR($R$6="",$R$7=""),"",IF($B19="","",IF(ISNA(VLOOKUP($B19,'LT03'!$B$12:$N$51,11,FALSE)),"",IF(VLOOKUP($B19,'LT03'!$B$12:$N$51,11,FALSE)="","",VLOOKUP($B19,'LT03'!$B$12:$N$51,11,FALSE))))) -> 6.4 | S19: =IF(OR($H$6="",$H$7=""),"",IF($B19="","",IF(ISNA(VLOOKUP($B19,'LT03'!$B$12:$N$51,12,FALSE)),"",IF(VLOOKUP($B19,'LT03'!$B$12:$N$51,12,FALSE)="","",VLOOKUP($B19,'LT03'!$B$12:$N$51,12,FALSE))))) -> 6.4 | T19: =IF(OR($R$6="",$R$7=""),"",IF($B19="","",IF(ISNA(VLOOKUP($B19,'LT03'!$B$12:$N$51,13,FALSE)),"",IF(VLOOKUP($B19,'LT03'!$B$12:$N$51,13,FALSE)="","",VLOOKUP($B19,'LT03'!$B$12:$N$51,13,FALSE))))) -> 6.4 | V19: =IF($R$7=0,"",IF(T19="","",IF(U19="","",IF(S19>U19,T19,ROUND((R19*0.4+U19*0.6),1))))) | W19: =IF(OR($W$6="",$W$7=""),"",IF($B19="","",IF(ISNA(VLOOKUP($B19,'LT04'!$B$12:$N$51,11,FALSE)),"",IF(VLOOKUP($B19,'LT04'!$B$12:$N$51,11,FALSE)="","",VLOOKUP($B19,'LT04'!$B$12:$N$51,11,FALSE))))) -> 6.6 | X19: =IF(OR($H$6="",$H$7=""),"",IF($B19="","",IF(ISNA(VLOOKUP($B19,'LT04'!$B$12:$N$51,12,FALSE)),"",IF(VLOOKUP($B19,'LT04'!$B$12:$N$51,12,FALSE)="","",VLOOKUP($B19,'LT04'!$B$12:$N$51,12,FALSE))))) -> 6.5 | Y19: =IF(OR($W$6="",$W$7=""),"",IF($B19="","",IF(ISNA(VLOOKUP($B19,'LT04'!$B$12:$N$51,13,FALSE)),"",IF(VLOOKUP($B19,'LT04'!$B$12:$N$51,13,FALSE)="","",VLOOKUP($B19,'LT04'!$B$12:$N$51,13,FALSE))))) -> 6.5 | AA19: =IF($W$7=0,"",IF(Y19="","",IF(Z19="","",IF(X19>Z19,Y19,ROUND((W19*0.4+Z19*0.6),1))))) | AB19: =IF(OR($AB$6="",$AB$7=""),"",IF($B19="","",IF(ISNA(VLOOKUP($B19,'LT05'!$B$12:$N$51,11,FALSE)),"",IF(VLOOKUP($B19,'LT05'!$B$12:$N$51,11,FALSE)="","",VLOOKUP($B19,'LT05'!$B$12:$N$51,11,FALSE))))) -> 9.7 | AC19: =IF(OR($H$6="",$H$7=""),"",IF($B19="","",IF(ISNA(VLOOKUP($B19,'LT05'!$B$12:$N$51,12,FALSE)),"",IF(VLOOKUP($B19,'LT05'!$B$12:$N$51,12,FALSE)="","",VLOOKUP($B19,'LT05'!$B$12:$N$51,12,FALSE))))) -> 10 | AD19: =IF(OR($AB$6="",$AB$7=""),"",IF($B19="","",IF(ISNA(VLOOKUP($B19,'LT05'!$B$12:$N$51,13,FALSE)),"",IF(VLOOKUP($B19,'LT05'!$B$12:$N$51,13,FALSE)="","",VLOOKUP($B19,'LT05'!$B$12:$N$51,13,FALSE))))) -> 9.9 | AF19: =IF($AB$7=0,"",IF(AD19="","",IF(AE19="","",IF(AC19>AE19,AD19,ROUND((AB19*0.4+AE19*0.6),1))))) | AG19: =IF(OR($AG$6="",$AG$7=""),"",IF($B19="","",IF(ISNA(VLOOKUP($B19,'LT06'!$B$12:$N$51,11,FALSE)),"",IF(VLOOKUP($B19,'LT06'!$B$12:$N$51,11,FALSE)="","",VLOOKUP($B19,'LT06'!$B$12:$N$51,11,FALSE))))) | AH19: =IF(OR($H$6="",$H$7=""),"",IF($B19="","",IF(ISNA(VLOOKUP($B19,'LT06'!$B$12:$N$51,12,FALSE)),"",IF(VLOOKUP($B19,'LT06'!$B$12:$N$51,12,FALSE)="","",VLOOKUP($B19,'LT06'!$B$12:$N$51,12,FALSE))))) | AI19: =IF(OR($AG$6="",$AG$7=""),"",IF($B19="","",IF(ISNA(VLOOKUP($B19,'LT06'!$B$12:$N$51,13,FALSE)),"",IF(VLOOKUP($B19,'LT06'!$B$12:$N$51,13,FALSE)="","",VLOOKUP($B19,'LT06'!$B$12:$N$51,13,FALSE))))) | AK19: =IF($AG$7=0,"",IF(AI19="","",IF(AJ19="","",IF(AH19>AJ19,AI19,ROUND((AG19*0.4+AJ19*0.6),1))))) | AL19: =IF(OR($AL$6="",$AL$7=""),"",IF($B19="","",IF(ISNA(VLOOKUP($B19,'LT07'!$B$12:$N$51,11,FALSE)),"",IF(VLOOKUP($B19,'LT07'!$B$12:$N$51,11,FALSE)="","",VLOOKUP($B19,'LT07'!$B$12:$N$51,11,FALSE))))) | AM19: =IF(OR($H$6="",$H$7=""),"",IF($B19="","",IF(ISNA(VLOOKUP($B19,'LT07'!$B$12:$N$51,12,FALSE)),"",IF(VLOOKUP($B19,'LT07'!$B$12:$N$51,12,FALSE)="","",VLOOKUP($B19,'LT07'!$B$12:$N$51,12,FALSE))))) | AN19: =IF(OR($AL$6="",$AL$7=""),"",IF($B19="","",IF(ISNA(VLOOKUP($B19,'LT07'!$B$12:$N$51,13,FALSE)),"",IF(VLOOKUP($B19,'LT07'!$B$12:$N$51,13,FALSE)="","",VLOOKUP($B19,'LT07'!$B$12:$N$51,13,FALSE))))) | AP19: =IF($AL$7=0,"",IF(AN19="","",IF(AO19="","",IF(AM19>AO19,AN19,ROUND((AL19*0.4+AO19*0.6),1))))) | AQ19: =IF(OR($AQ$6="",$AQ$7=""),"",IF($B19="","",IF(ISNA(VLOOKUP($B19,'LT08'!$B$12:$N$51,11,FALSE)),"",IF(VLOOKUP($B19,'LT08'!$B$12:$N$51,11,FALSE)="","",VLOOKUP($B19,'LT08'!$B$12:$N$51,11,FALSE))))) | AR19: =IF(OR($H$6="",$H$7=""),"",IF($B19="","",IF(ISNA(VLOOKUP($B19,'LT08'!$B$12:$N$51,12,FALSE)),"",IF(VLOOKUP($B19,'LT08'!$B$12:$N$51,12,FALSE)="","",VLOOKUP($B19,'LT08'!$B$12:$N$51,12,FALSE))))) | AS19: =IF(OR($AQ$6="",$AQ$7=""),"",IF($B19="","",IF(ISNA(VLOOKUP($B19,'LT08'!$B$12:$N$51,13,FALSE)),"",IF(VLOOKUP($B19,'LT08'!$B$12:$N$51,13,FALSE)="","",VLOOKUP($B19,'LT08'!$B$12:$N$51,13,FALSE))))) | AU19: =IF($AQ$7=0,"",IF(AS19="","",IF(AT19="","",IF(AR19>AT19,AS19,ROUND((AQ19*0.4+AT19*0.6),1))))) | AV19: =IF(OR($AV$6="",$AV$7=""),"",IF($B19="","",IF(ISNA(VLOOKUP($B19,'LT09'!$B$12:$N$51,11,FALSE)),"",IF(VLOOKUP($B19,'LT09'!$B$12:$N$51,11,FALSE)="","",VLOOKUP($B19,'LT09'!$B$12:$N$51,11,FALSE))))) | AW19: =IF(OR($H$6="",$H$7=""),"",IF($B19="","",IF(ISNA(VLOOKUP($B19,'LT09'!$B$12:$N$51,12,FALSE)),"",IF(VLOOKUP($B19,'LT09'!$B$12:$N$51,12,FALSE)="","",VLOOKUP($B19,'LT09'!$B$12:$N$51,12,FALSE))))) | AX19: =IF(OR($AV$6="",$AV$7=""),"",IF($B19="","",IF(ISNA(VLOOKUP($B19,'LT09'!$B$12:$N$51,13,FALSE)),"",IF(VLOOKUP($B19,'LT09'!$B$12:$N$51,13,FALSE)="","",VLOOKUP($B19,'LT09'!$B$12:$N$51,13,FALSE))))) | AZ19: =IF($AV$7=0,"",IF(AX19="","",IF(AY19="","",IF(AW19>AY19,AX19,ROUND((AV19*0.4+AY19*0.6),1))))) | BC19: =IF(OR($BF$6="",$BF$7=""),"",IF($B19="","",IF(ISNA(VLOOKUP($B19,'DO AN'!$B$12:$N$51,11,FALSE)),"",IF(VLOOKUP($B19,'DO AN'!$B$12:$N$51,11,FALSE)="","",VLOOKUP($B19,'DO AN'!$B$12:$N$51,11,FALSE))))) | BF19: =IF(OR($BF$6="",$BF$7=""),"",IF($B19="","",IF(ISNA(VLOOKUP($B19,'TH01'!$B$12:$N$51,11,FALSE)),"",IF(VLOOKUP($B19,'TH01'!$B$12:$N$51,11,FALSE)="","",VLOOKUP($B19,'TH01'!$B$12:$N$51,11,FALSE))))) -> 7.2 | BG19: =IF(OR($H$6="",$H$7=""),"",IF($B19="","",IF(ISNA(VLOOKUP($B19,'TH01'!$B$12:$N$51,12,FALSE)),"",IF(VLOOKUP($B19,'TH01'!$B$12:$N$51,12,FALSE)="","",VLOOKUP($B19,'TH01'!$B$12:$N$51,12,FALSE))))) -> 7 | BH19: =IF(OR($BF$6="",$BF$7=""),"",IF($B19="","",IF(ISNA(VLOOKUP($B19,'TH01'!$B$12:$N$51,13,FALSE)),"",IF(VLOOKUP($B19,'TH01'!$B$12:$N$51,13,FALSE)="","",VLOOKUP($B19,'TH01'!$B$12:$N$51,13,FALSE))))) -> 7.1 | BJ19: =IF($BF$7=0,"",IF(BH19="","",IF(BI19="","",IF(BG19>BI19,BH19,ROUND((BF19*0.4+BI19*0.6),1))))) | BK19: =IF(OR($BK$6="",$BK$7=""),"",IF($B19="","",IF(ISNA(VLOOKUP($B19,'TH02'!$B$12:$N$51,11,FALSE)),"",IF(VLOOKUP($B19,'TH02'!$B$12:$N$51,11,FALSE)="","",VLOOKUP($B19,'TH02'!$B$12:$N$51,11,FALSE))))) -> 5.3 | BL19: =IF(OR($H$6="",$H$7=""),"",IF($B19="","",IF(ISNA(VLOOKUP($B19,'TH02'!$B$12:$N$51,12,FALSE)),"",IF(VLOOKUP($B19,'TH02'!$B$12:$N$51,12,FALSE)="","",VLOOKUP($B19,'TH02'!$B$12:$N$51,12,FALSE))))) -> 9 | BM19: =IF(OR($BK$6="",$BK$7=""),"",IF($B19="","",IF(ISNA(VLOOKUP($B19,'TH02'!$B$12:$N$51,13,FALSE)),"",IF(VLOOKUP($B19,'TH02'!$B$12:$N$51,13,FALSE)="","",VLOOKUP($B19,'TH02'!$B$12:$N$51,13,FALSE))))) -> 7.5 | BO19: =IF($BK$7=0,"",IF(BM19="","",IF(BN19="","",IF(BL19>BN19,BM19,ROUND((BK19*0.4+BN19*0.6),1))))) | BP19: =IF(OR($BP$6="",$BP$7=""),"",IF($B19="","",IF(ISNA(VLOOKUP($B19,'TH03'!$B$12:$N$51,11,FALSE)),"",IF(VLOOKUP($B19,'TH03'!$B$12:$N$51,11,FALSE)="","",VLOOKUP($B19,'TH03'!$B$12:$N$51,11,FALSE))))) -> 8.3 | BQ19: =IF(OR($H$6="",$H$7=""),"",IF($B19="","",IF(ISNA(VLOOKUP($B19,'TH03'!$B$12:$N$51,12,FALSE)),"",IF(VLOOKUP($B19,'TH03'!$B$12:$N$51,12,FALSE)="","",VLOOKUP($B19,'TH03'!$B$12:$N$51,12,FALSE))))) -> 9 | BR19: =IF(OR($BP$6="",$BP$7=""),"",IF($B19="","",IF(ISNA(VLOOKUP($B19,'TH03'!$B$12:$N$51,13,FALSE)),"",IF(VLOOKUP($B19,'TH03'!$B$12:$N$51,13,FALSE)="","",VLOOKUP($B19,'TH03'!$B$12:$N$51,13,FALSE))))) -> 8.7 | BT19: =IF($BP$7=0,"",IF(BR19="","",IF(BS19="","",IF(BQ19>BS19,BR19,ROUND((BP19*0.4+BS19*0.6),1))))) | BU19: =IF(OR($BU$6="",$BU$7=""),"",IF($B19="","",IF(ISNA(VLOOKUP($B19,'TH04'!$B$12:$N$51,11,FALSE)),"",IF(VLOOKUP($B19,'TH04'!$B$12:$N$51,11,FALSE)="","",VLOOKUP($B19,'TH04'!$B$12:$N$51,11,FALSE))))) | BV19: =IF(OR($H$6="",$H$7=""),"",IF($B19="","",IF(ISNA(VLOOKUP($B19,'TH04'!$B$12:$N$51,12,FALSE)),"",IF(VLOOKUP($B19,'TH04'!$B$12:$N$51,12,FALSE)="","",VLOOKUP($B19,'TH04'!$B$12:$N$51,12,FALSE))))) | BW19: =IF(OR($BU$6="",$BU$7=""),"",IF($B19="","",IF(ISNA(VLOOKUP($B19,'TH04'!$B$12:$N$51,13,FALSE)),"",IF(VLOOKUP($B19,'TH04'!$B$12:$N$51,13,FALSE)="","",VLOOKUP($B19,'TH04'!$B$12:$N$51,13,FALSE))))) | BY19: =IF($BU$7=0,"",IF(BW19="","",IF(BX19="","",IF(BV19>BX19,BW19,ROUND((BU19*0.4+BX19*0.6),1))))) | BZ19: =IF(OR($BZ$6="",$BZ$7=""),"",IF($B19="","",IF(ISNA(VLOOKUP($B19,'TH05'!$B$12:$N$51,11,FALSE)),"",IF(VLOOKUP($B19,'TH05'!$B$12:$N$51,11,FALSE)="","",VLOOKUP($B19,'TH05'!$B$12:$N$51,11,FALSE))))) | CA19: =IF(OR($H$6="",$H$7=""),"",IF($B19="","",IF(ISNA(VLOOKUP($B19,'TH05'!$B$12:$N$51,12,FALSE)),"",IF(VLOOKUP($B19,'TH05'!$B$12:$N$51,12,FALSE)="","",VLOOKUP($B19,'TH05'!$B$12:$N$51,12,FALSE))))) | CB19: =IF(OR($BZ$6="",$BZ$7=""),"",IF($B19="","",IF(ISNA(VLOOKUP($B19,'TH05'!$B$12:$N$51,13,FALSE)),"",IF(VLOOKUP($B19,'TH05'!$B$12:$N$51,13,FALSE)="","",VLOOKUP($B19,'TH05'!$B$12:$N$51,13,FALSE))))) | CD19: =IF($BZ$7=0,"",IF(CB19="","",IF(CC19="","",IF(CA19>CC19,CB19,ROUND((BZ19*0.4+CC19*0.6),1))))) | CE19: =IF(OR($CE$6="",$CE$7=""),"",IF($B19="","",IF(ISNA(VLOOKUP($B19,'TH06'!$B$12:$N$51,11,FALSE)),"",IF(VLOOKUP($B19,'TH06'!$B$12:$N$51,11,FALSE)="","",VLOOKUP($B19,'TH06'!$B$12:$N$51,11,FALSE))))) | CF19: =IF(OR($H$6="",$H$7=""),"",IF($B19="","",IF(ISNA(VLOOKUP($B19,'TH06'!$B$12:$N$51,12,FALSE)),"",IF(VLOOKUP($B19,'TH06'!$B$12:$N$51,12,FALSE)="","",VLOOKUP($B19,'TH06'!$B$12:$N$51,12,FALSE))))) | CG19: =IF(OR($CE$6="",$CE$7=""),"",IF($B19="","",IF(ISNA(VLOOKUP($B19,'TH06'!$B$12:$N$51,13,FALSE)),"",IF(VLOOKUP($B19,'TH06'!$B$12:$N$51,13,FALSE)="","",VLOOKUP($B19,'TH06'!$B$12:$N$51,13,FALSE))))) | CI19: =IF($CE$7=0,"",IF(CG19="","",IF(CH19="","",IF(CF19>CH19,CG19,ROUND((CE19*0.4+CH19*0.6),1))))) | CJ19: =DY19 -> 7.4 | CK19: =FF19 | CM19: =IF(CJ19="","",IF(C19="","",IF(CJ19<4,"Kém",IF(CJ19<5,"Yếu",IF(CJ19<6,"TB",IF(CJ19<7,"TBKhá",IF(CJ19<8,"Khá",IF(CJ19<9,"Giỏi","XS")))))))) -> Khá | CN19: =IF(CK19="","",IF(C19="","",IF(CK19<4,"Kém",IF(CK19<5,"Yếu",IF(CK19<6,"TB",IF(CK19<7,"TBKhá",IF(CK19<8,"Khá",IF(CK19<9,"Giỏi","XS")))))))) | CO19: =IF(AND(CJ19>=7,CL19>=70,ISBLANK(CP19)=TRUE,CQ19=0,DH19=0,COUNT(CR19:DG19)>0,COUNT(DI19:DX19)>0),"Xét KT&HB","") | CQ19: =COUNTIF(CR19:DG19,"<5") -> 0 | CR19: =I19 -> 7 | CS19: =N19 -> 7.8 | CT19: =S19 -> 6.4 | CU19: =X19 -> 6.5 | CV19: =AC19 -> 10 | CW19: =AH19 | CX19: =AM19 | CY19: =AR19 | CZ19: =AW19 | DA19: =BC19 | DB19: =BG19 -> 7 | DC19: =BL19 -> 9 | DD19: =BQ19 -> 9 | DE19: =BV19 | DF19: =CA19 | DG19: =CF19 | DH19: =IF(COUNT(DI19:DX19)=0,"",COUNTIF(DI19:DX19,"<5")) -> 0 | DI19: =J19 -> 7 | DJ19: =O19 -> 7.4 | DK19: =T19 -> 6.4 | DL19: =Y19 -> 6.5 | DM19: =AD19 -> 9.9 | DN19: =AI19 | DO19: =AN19 | DP19: =AS19 | DQ19: =AX19 | DR19: =BC19 | DS19: =BH19 -> 7.1 | DT19: =BM19 -> 7.5 | DU19: =BR19 -> 8.7 | DV19: =BW19 | DW19: =CB19 | DX19: =CG19 | DY19: =IF(COUNT(DI19:DX19)=0,"",ROUND(SUMPRODUCT(DI19:DX19,$DI$7:$DX$7)/SUM($DI$7:$DX$7),1)) -> 7.4 | DZ19: =L19 | EA19: =Q19 | EB19: =V19 | EC19: =AA19 | ED19: =AF19 | EE19: =AK19 | EF19: =AP19 | EG19: =AU19 | EH19: =AZ19 | EI19: =IF(BE19="","",BE19) | EJ19: =BJ19 | EK19: =BO19 | EL19: =BT19 | EM19: =BY19 | EN19: =CD19 | EO19: =CI19 | EP19: =IF(AND(I19="",ISNUMBER(J19),K19=""),J19,IF(I19>=K19,J19,L19)) -> 7 | EQ19: =IF(AND(N19="",ISNUMBER(O19),P19=""),O19,IF(N19>=P19,O19,Q19)) -> 7.4 | ER19: =IF(AND(S19="",ISNUMBER(T19),U19=""),T19,IF(S19>=U19,T19,V19)) -> 6.4 | ES19: =IF(AND(X19="",ISNUMBER(Y19),Z19=""),Y19,IF(X19>=Z19,Y19,AA19)) -> 6.5 | ET19: =IF(AND(AC19="",ISNUMBER(AD19),AE19=""),AD19,IF(AC19>=AE19,AD19,AF19)) -> 9.9 | EU19: =IF(AND(AH19="",ISNUMBER(AI19),AJ19=""),AI19,IF(AH19>=AJ19,AI19,AK19)) | EV19: =IF(AND(AM19="",ISNUMBER(AN19),AO19=""),AN19,IF(AM19>=AO19,AN19,AP19)) | EW19: =IF(AND(AR19="",ISNUMBER(AS19),AT19=""),AS19,IF(AR19>=AT19,AS19,AU19)) | EX19: =IF(AND(AW19="",ISNUMBER(AX19),AY19=""),AX19,IF(AW19>=AY19,AX19,AZ19)) | EY19: =IF(BE19="","",BE19) | EZ19: =IF(AND(BG19="",ISNUMBER(BH19),BI19=""),BH19,IF(BG19>=BI19,BH19,BJ19)) -> 7.1 | FA19: =IF(AND(BL19="",ISNUMBER(BM19),BN19=""),BM19,IF(BL19>=BN19,BM19,BO19)) -> 7.5 | FB19: =IF(AND(BQ19="",ISNUMBER(BR19),BS19=""),BR19,IF(BQ19>=BS19,BR19,BT19)) -> 8.7 | FC19: =IF(AND(BV19="",ISNUMBER(BW19),BX19=""),BW19,IF(BV19>=BX19,BW19,BY19)) | FD19: =IF(AND(CA19="",ISNUMBER(CB19),CC19=""),CB19,IF(CA19>=CC19,CB19,CD19)) | FE19: =IF(AND(CF19="",ISNUMBER(CG19),CH19=""),CG19,IF(CF19>=CH19,CG19,CI19)) | FF19: =IF(COUNT(DZ19:EO19)=0,"",ROUND(SUMPRODUCT(EP19:FE19,$EP$7:$FE$7)/SUM($EP$7:$FE$7),1))
A20: =IF(B20="","",IF(SUBTOTAL(3,$B$12:B20)=SUBTOTAL(3,$B$12:B19),"",SUBTOTAL(3,$B$12:B20))) -> 9 | B20: 13B3080100 | C20: =IF($B20="","",IF(ISNA(VLOOKUP($B20,'DS LOP HKI'!$B$2:$D$1060,2,FALSE))=TRUE,"",VLOOKUP($B20,'DS LOP HKI'!$B$2:$D$1060,2,FALSE))) -> Nguyễn Hoàng | D20: =IF($B20="","",IF(ISNA(VLOOKUP($B20,'DS LOP HKI'!$B$2:$D$1060,3,FALSE))=TRUE,"",VLOOKUP($B20,'DS LOP HKI'!$B$2:$D$1060,3,FALSE))) -> Gia | E20: B | H20: =IF(OR($H$6="",$H$7=""),"",IF($B20="","",IF(ISNA(VLOOKUP($B20,'LT01'!$B$12:$N$51,11,FALSE)),"",IF(VLOOKUP($B20,'LT01'!$B$12:$N$51,11,FALSE)="","",VLOOKUP($B20,'LT01'!$B$12:$N$51,11,FALSE))))) -> 6 | I20: =IF(OR($H$6="",$H$7=""),"",IF($B20="","",IF(ISNA(VLOOKUP($B20,'LT01'!$B$12:$N$51,12,FALSE)),"",IF(VLOOKUP($B20,'LT01'!$B$12:$N$51,12,FALSE)="","",VLOOKUP($B20,'LT01'!$B$12:$N$51,12,FALSE))))) -> 5.4 | J20: =IF(OR($H$6="",$H$7=""),"",IF($B20="","",IF(ISNA(VLOOKUP($B20,'LT01'!$B$12:$N$51,13,FALSE)),"",IF(VLOOKUP($B20,'LT01'!$B$12:$N$51,13,FALSE)="","",VLOOKUP($B20,'LT01'!$B$12:$N$51,13,FALSE))))) -> 5.6 | L20: =IF($H$7=0,"",IF(J20="","",IF(K20="","",IF(K20>I20,ROUND((H20*0.4+K20*0.6),1),I20)))) | M20: =IF(OR($M$6="",$M$7=""),"",IF($B20="","",IF(ISNA(VLOOKUP($B20,'LT02'!$B$12:$N$51,11,FALSE)),"",IF(VLOOKUP($B20,'LT02'!$B$12:$N$51,11,FALSE)="","",VLOOKUP($B20,'LT02'!$B$12:$N$51,11,FALSE))))) -> 10 | N20: =IF(OR($H$6="",$H$7=""),"",IF($B20="","",IF(ISNA(VLOOKUP($B20,'LT02'!$B$12:$N$51,12,FALSE)),"",IF(VLOOKUP($B20,'LT02'!$B$12:$N$51,12,FALSE)="","",VLOOKUP($B20,'LT02'!$B$12:$N$51,12,FALSE))))) -> 8.3 | O20: =IF(OR($M$6="",$M$7=""),"",IF($B20="","",IF(ISNA(VLOOKUP($B20,'LT02'!$B$12:$N$51,13,FALSE)),"",IF(VLOOKUP($B20,'LT02'!$B$12:$N$51,13,FALSE)="","",VLOOKUP($B20,'LT02'!$B$12:$N$51,13,FALSE))))) -> 9 | Q20: =IF($M$7=0,"",IF(O20="","",IF(P20="","",IF(N20>P20,O20,ROUND((M20*0.4+P20*0.6),1))))) | R20: =IF(OR($R$6="",$R$7=""),"",IF($B20="","",IF(ISNA(VLOOKUP($B20,'LT03'!$B$12:$N$51,11,FALSE)),"",IF(VLOOKUP($B20,'LT03'!$B$12:$N$51,11,FALSE)="","",VLOOKUP($B20,'LT03'!$B$12:$N$51,11,FALSE))))) -> 7.3 | S20: =IF(OR($H$6="",$H$7=""),"",IF($B20="","",IF(ISNA(VLOOKUP($B20,'LT03'!$B$12:$N$51,12,FALSE)),"",IF(VLOOKUP($B20,'LT03'!$B$12:$N$51,12,FALSE)="","",VLOOKUP($B20,'LT03'!$B$12:$N$51,12,FALSE))))) -> 6.8 | T20: =IF(OR($R$6="",$R$7=""),"",IF($B20="","",IF(ISNA(VLOOKUP($B20,'LT03'!$B$12:$N$51,13,FALSE)),"",IF(VLOOKUP($B20,'LT03'!$B$12:$N$51,13,FALSE)="","",VLOOKUP($B20,'LT03'!$B$12:$N$51,13,FALSE))))) -> 7 | V20: =IF($R$7=0,"",IF(T20="","",IF(U20="","",IF(S20>U20,T20,ROUND((R20*0.4+U20*0.6),1))))) | W20: =IF(OR($W$6="",$W$7=""),"",IF($B20="","",IF(ISNA(VLOOKUP($B20,'LT04'!$B$12:$N$51,11,FALSE)),"",IF(VLOOKUP($B20,'LT04'!$B$12:$N$51,11,FALSE)="","",VLOOKUP($B20,'LT04'!$B$12:$N$51,11,FALSE))))) -> 8.8 | X20: =IF(OR($H$6="",$H$7=""),"",IF($B20="","",IF(ISNA(VLOOKUP($B20,'LT04'!$B$12:$N$51,12,FALSE)),"",IF(VLOOKUP($B20,'LT04'!$B$12:$N$51,12,FALSE)="","",VLOOKUP($B20,'LT04'!$B$12:$N$51,12,FALSE))))) -> 7.5 | Y20: =IF(OR($W$6="",$W$7=""),"",IF($B20="","",IF(ISNA(VLOOKUP($B20,'LT04'!$B$12:$N$51,13,FALSE)),"",IF(VLOOKUP($B20,'LT04'!$B$12:$N$51,13,FALSE)="","",VLOOKUP($B20,'LT04'!$B$12:$N$51,13,FALSE))))) -> 8 | AA20: =IF($W$7=0,"",IF(Y20="","",IF(Z20="","",IF(X20>Z20,Y20,ROUND((W20*0.4+Z20*0.6),1))))) | AB20: =IF(OR($AB$6="",$AB$7=""),"",IF($B20="","",IF(ISNA(VLOOKUP($B20,'LT05'!$B$12:$N$51,11,FALSE)),"",IF(VLOOKUP($B20,'LT05'!$B$12:$N$51,11,FALSE)="","",VLOOKUP($B20,'LT05'!$B$12:$N$51,11,FALSE))))) -> 10 | AC20: =IF(OR($H$6="",$H$7=""),"",IF($B20="","",IF(ISNA(VLOOKUP($B20,'LT05'!$B$12:$N$51,12,FALSE)),"",IF(VLOOKUP($B20,'LT05'!$B$12:$N$51,12,FALSE)="","",VLOOKUP($B20,'LT05'!$B$12:$N$51,12,FALSE))))) -> 8 | AD20: =IF(OR($AB$6="",$AB$7=""),"",IF($B20="","",IF(ISNA(VLOOKUP($B20,'LT05'!$B$12:$N$51,13,FALSE)),"",IF(VLOOKUP($B20,'LT05'!$B$12:$N$51,13,FALSE)="","",VLOOKUP($B20,'LT05'!$B$12:$N$51,13,FALSE))))) -> 8.8 | AF20: =IF($AB$7=0,"",IF(AD20="","",IF(AE20="","",IF(AC20>AE20,AD20,ROUND((AB20*0.4+AE20*0.6),1))))) | AG20: =IF(OR($AG$6="",$AG$7=""),"",IF($B20="","",IF(ISNA(VLOOKUP($B20,'LT06'!$B$12:$N$51,11,FALSE)),"",IF(VLOOKUP($B20,'LT06'!$B$12:$N$51,11,FALSE)="","",VLOOKUP($B20,'LT06'!$B$12:$N$51,11,FALSE))))) | AH20: =IF(OR($H$6="",$H$7=""),"",IF($B20="","",IF(ISNA(VLOOKUP($B20,'LT06'!$B$12:$N$51,12,FALSE)),"",IF(VLOOKUP($B20,'LT06'!$B$12:$N$51,12,FALSE)="","",VLOOKUP($B20,'LT06'!$B$12:$N$51,12,FALSE))))) | AI20: =IF(OR($AG$6="",$AG$7=""),"",IF($B20="","",IF(ISNA(VLOOKUP($B20,'LT06'!$B$12:$N$51,13,FALSE)),"",IF(VLOOKUP($B20,'LT06'!$B$12:$N$51,13,FALSE)="","",VLOOKUP($B20,'LT06'!$B$12:$N$51,13,FALSE))))) | AK20: =IF($AG$7=0,"",IF(AI20="","",IF(AJ20="","",IF(AH20>AJ20,AI20,ROUND((AG20*0.4+AJ20*0.6),1))))) | AL20: =IF(OR($AL$6="",$AL$7=""),"",IF($B20="","",IF(ISNA(VLOOKUP($B20,'LT07'!$B$12:$N$51,11,FALSE)),"",IF(VLOOKUP($B20,'LT07'!$B$12:$N$51,11,FALSE)="","",VLOOKUP($B20,'LT07'!$B$12:$N$51,11,FALSE))))) | AM20: =IF(OR($H$6="",$H$7=""),"",IF($B20="","",IF(ISNA(VLOOKUP($B20,'LT07'!$B$12:$N$51,12,FALSE)),"",IF(VLOOKUP($B20,'LT07'!$B$12:$N$51,12,FALSE)="","",VLOOKUP($B20,'LT07'!$B$12:$N$51,12,FALSE))))) | AN20: =IF(OR($AL$6="",$AL$7=""),"",IF($B20="","",IF(ISNA(VLOOKUP($B20,'LT07'!$B$12:$N$51,13,FALSE)),"",IF(VLOOKUP($B20,'LT07'!$B$12:$N$51,13,FALSE)="","",VLOOKUP($B20,'LT07'!$B$12:$N$51,13,FALSE))))) | AP20: =IF($AL$7=0,"",IF(AN20="","",IF(AO20="","",IF(AM20>AO20,AN20,ROUND((AL20*0.4+AO20*0.6),1))))) | AQ20: =IF(OR($AQ$6="",$AQ$7=""),"",IF($B20="","",IF(ISNA(VLOOKUP($B20,'LT08'!$B$12:$N$51,11,FALSE)),"",IF(VLOOKUP($B20,'LT08'!$B$12:$N$51,11,FALSE)="","",VLOOKUP($B20,'LT08'!$B$12:$N$51,11,FALSE))))) | AR20: =IF(OR($H$6="",$H$7=""),"",IF($B20="","",IF(ISNA(VLOOKUP($B20,'LT08'!$B$12:$N$51,12,FALSE)),"",IF(VLOOKUP($B20,'LT08'!$B$12:$N$51,12,FALSE)="","",VLOOKUP($B20,'LT08'!$B$12:$N$51,12,FALSE))))) | AS20: =IF(OR($AQ$6="",$AQ$7=""),"",IF($B20="","",IF(ISNA(VLOOKUP($B20,'LT08'!$B$12:$N$51,13,FALSE)),"",IF(VLOOKUP($B20,'LT08'!$B$12:$N$51,13,FALSE)="","",VLOOKUP($B20,'LT08'!$B$12:$N$51,13,FALSE))))) | AU20: =IF($AQ$7=0,"",IF(AS20="","",IF(AT20="","",IF(AR20>AT20,AS20,ROUND((AQ20*0.4+AT20*0.6),1))))) | AV20: =IF(OR($AV$6="",$AV$7=""),"",IF($B20="","",IF(ISNA(VLOOKUP($B20,'LT09'!$B$12:$N$51,11,FALSE)),"",IF(VLOOKUP($B20,'LT09'!$B$12:$N$51,11,FALSE)="","",VLOOKUP($B20,'LT09'!$B$12:$N$51,11,FALSE))))) | AW20: =IF(OR($H$6="",$H$7=""),"",IF($B20="","",IF(ISNA(VLOOKUP($B20,'LT09'!$B$12:$N$51,12,FALSE)),"",IF(VLOOKUP($B20,'LT09'!$B$12:$N$51,12,FALSE)="","",VLOOKUP($B20,'LT09'!$B$12:$N$51,12,FALSE))))) | AX20: =IF(OR($AV$6="",$AV$7=""),"",IF($B20="","",IF(ISNA(VLOOKUP($B20,'LT09'!$B$12:$N$51,13,FALSE)),"",IF(VLOOKUP($B20,'LT09'!$B$12:$N$51,13,FALSE)="","",VLOOKUP($B20,'LT09'!$B$12:$N$51,13,FALSE))))) | AZ20: =IF($AV$7=0,"",IF(AX20="","",IF(AY20="","",IF(AW20>AY20,AX20,ROUND((AV20*0.4+AY20*0.6),1))))) | BC20: =IF(OR($BF$6="",$BF$7=""),"",IF($B20="","",IF(ISNA(VLOOKUP($B20,'DO AN'!$B$12:$N$51,11,FALSE)),"",IF(VLOOKUP($B20,'DO AN'!$B$12:$N$51,11,FALSE)="","",VLOOKUP($B20,'DO AN'!$B$12:$N$51,11,FALSE))))) | BF20: =IF(OR($BF$6="",$BF$7=""),"",IF($B20="","",IF(ISNA(VLOOKUP($B20,'TH01'!$B$12:$N$51,11,FALSE)),"",IF(VLOOKUP($B20,'TH01'!$B$12:$N$51,11,FALSE)="","",VLOOKUP($B20,'TH01'!$B$12:$N$51,11,FALSE))))) -> 9 | BG20: =IF(OR($H$6="",$H$7=""),"",IF($B20="","",IF(ISNA(VLOOKUP($B20,'TH01'!$B$12:$N$51,12,FALSE)),"",IF(VLOOKUP($B20,'TH01'!$B$12:$N$51,12,FALSE)="","",VLOOKUP($B20,'TH01'!$B$12:$N$51,12,FALSE))))) -> 10 | BH20: =IF(OR($BF$6="",$BF$7=""),"",IF($B20="","",IF(ISNA(VLOOKUP($B20,'TH01'!$B$12:$N$51,13,FALSE)),"",IF(VLOOKUP($B20,'TH01'!$B$12:$N$51,13,FALSE)="","",VLOOKUP($B20,'TH01'!$B$12:$N$51,13,FALSE))))) -> 9.6 | BJ20: =IF($BF$7=0,"",IF(BH20="","",IF(BI20="","",IF(BG20>BI20,BH20,ROUND((BF20*0.4+BI20*0.6),1))))) | BK20: =IF(OR($BK$6="",$BK$7=""),"",IF($B20="","",IF(ISNA(VLOOKUP($B20,'TH02'!$B$12:$N$51,11,FALSE)),"",IF(VLOOKUP($B20,'TH02'!$B$12:$N$51,11,FALSE)="","",VLOOKUP($B20,'TH02'!$B$12:$N$51,11,FALSE))))) -> 9 | BL20: =IF(OR($H$6="",$H$7=""),"",IF($B20="","",IF(ISNA(VLOOKUP($B20,'TH02'!$B$12:$N$51,12,FALSE)),"",IF(VLOOKUP($B20,'TH02'!$B$12:$N$51,12,FALSE)="","",VLOOKUP($B20,'TH02'!$B$12:$N$51,12,FALSE))))) -> 9 | BM20: =IF(OR($BK$6="",$BK$7=""),"",IF($B20="","",IF(ISNA(VLOOKUP($B20,'TH02'!$B$12:$N$51,13,FALSE)),"",IF(VLOOKUP($B20,'TH02'!$B$12:$N$51,13,FALSE)="","",VLOOKUP($B20,'TH02'!$B$12:$N$51,13,FALSE))))) -> 9 | BO20: =IF($BK$7=0,"",IF(BM20="","",IF(BN20="","",IF(BL20>BN20,BM20,ROUND((BK20*0.4+BN20*0.6),1))))) | BP20: =IF(OR($BP$6="",$BP$7=""),"",IF($B20="","",IF(ISNA(VLOOKUP($B20,'TH03'!$B$12:$N$51,11,FALSE)),"",IF(VLOOKUP($B20,'TH03'!$B$12:$N$51,11,FALSE)="","",VLOOKUP($B20,'TH03'!$B$12:$N$51,11,FALSE))))) -> 7.9 | BQ20: =IF(OR($H$6="",$H$7=""),"",IF($B20="","",IF(ISNA(VLOOKUP($B20,'TH03'!$B$12:$N$51,12,FALSE)),"",IF(VLOOKUP($B20,'TH03'!$B$12:$N$51,12,FALSE)="","",VLOOKUP($B20,'TH03'!$B$12:$N$51,12,FALSE))))) -> 8 | BR20: =IF(OR($BP$6="",$BP$7=""),"",IF($B20="","",IF(ISNA(VLOOKUP($B20,'TH03'!$B$12:$N$51,13,FALSE)),"",IF(VLOOKUP($B20,'TH03'!$B$12:$N$51,13,FALSE)="","",VLOOKUP($B20,'TH03'!$B$12:$N$51,13,FALSE))))) -> 8 | BT20: =IF($BP$7=0,"",IF(BR20="","",IF(BS20="","",IF(BQ20>BS20,BR20,ROUND((BP20*0.4+BS20*0.6),1))))) | BU20: =IF(OR($BU$6="",$BU$7=""),"",IF($B20="","",IF(ISNA(VLOOKUP($B20,'TH04'!$B$12:$N$51,11,FALSE)),"",IF(VLOOKUP($B20,'TH04'!$B$12:$N$51,11,FALSE)="","",VLOOKUP($B20,'TH04'!$B$12:$N$51,11,FALSE))))) | BV20: =IF(OR($H$6="",$H$7=""),"",IF($B20="","",IF(ISNA(VLOOKUP($B20,'TH04'!$B$12:$N$51,12,FALSE)),"",IF(VLOOKUP($B20,'TH04'!$B$12:$N$51,12,FALSE)="","",VLOOKUP($B20,'TH04'!$B$12:$N$51,12,FALSE))))) | BW20: =IF(OR($BU$6="",$BU$7=""),"",IF($B20="","",IF(ISNA(VLOOKUP($B20,'TH04'!$B$12:$N$51,13,FALSE)),"",IF(VLOOKUP($B20,'TH04'!$B$12:$N$51,13,FALSE)="","",VLOOKUP($B20,'TH04'!$B$12:$N$51,13,FALSE))))) | BY20: =IF($BU$7=0,"",IF(BW20="","",IF(BX20="","",IF(BV20>BX20,BW20,ROUND((BU20*0.4+BX20*0.6),1))))) | BZ20: =IF(OR($BZ$6="",$BZ$7=""),"",IF($B20="","",IF(ISNA(VLOOKUP($B20,'TH05'!$B$12:$N$51,11,FALSE)),"",IF(VLOOKUP($B20,'TH05'!$B$12:$N$51,11,FALSE)="","",VLOOKUP($B20,'TH05'!$B$12:$N$51,11,FALSE))))) | CA20: =IF(OR($H$6="",$H$7=""),"",IF($B20="","",IF(ISNA(VLOOKUP($B20,'TH05'!$B$12:$N$51,12,FALSE)),"",IF(VLOOKUP($B20,'TH05'!$B$12:$N$51,12,FALSE)="","",VLOOKUP($B20,'TH05'!$B$12:$N$51,12,FALSE))))) | CB20: =IF(OR($BZ$6="",$BZ$7=""),"",IF($B20="","",IF(ISNA(VLOOKUP($B20,'TH05'!$B$12:$N$51,13,FALSE)),"",IF(VLOOKUP($B20,'TH05'!$B$12:$N$51,13,FALSE)="","",VLOOKUP($B20,'TH05'!$B$12:$N$51,13,FALSE))))) | CD20: =IF($BZ$7=0,"",IF(CB20="","",IF(CC20="","",IF(CA20>CC20,CB20,ROUND((BZ20*0.4+CC20*0.6),1))))) | CE20: =IF(OR($CE$6="",$CE$7=""),"",IF($B20="","",IF(ISNA(VLOOKUP($B20,'TH06'!$B$12:$N$51,11,FALSE)),"",IF(VLOOKUP($B20,'TH06'!$B$12:$N$51,11,FALSE)="","",VLOOKUP($B20,'TH06'!$B$12:$N$51,11,FALSE))))) | CF20: =IF(OR($H$6="",$H$7=""),"",IF($B20="","",IF(ISNA(VLOOKUP($B20,'TH06'!$B$12:$N$51,12,FALSE)),"",IF(VLOOKUP($B20,'TH06'!$B$12:$N$51,12,FALSE)="","",VLOOKUP($B20,'TH06'!$B$12:$N$51,12,FALSE))))) | CG20: =IF(OR($CE$6="",$CE$7=""),"",IF($B20="","",IF(ISNA(VLOOKUP($B20,'TH06'!$B$12:$N$51,13,FALSE)),"",IF(VLOOKUP($B20,'TH06'!$B$12:$N$51,13,FALSE)="","",VLOOKUP($B20,'TH06'!$B$12:$N$51,13,FALSE))))) | CI20: =IF($CE$7=0,"",IF(CG20="","",IF(CH20="","",IF(CF20>CH20,CG20,ROUND((CE20*0.4+CH20*0.6),1))))) | CJ20: =DY20 -> 8.2 | CK20: =FF20 | CM20: =IF(CJ20="","",IF(C20="","",IF(CJ20<4,"Kém",IF(CJ20<5,"Yếu",IF(CJ20<6,"TB",IF(CJ20<7,"TBKhá",IF(CJ20<8,"Khá",IF(CJ20<9,"Giỏi","XS")))))))) -> Giỏi | CN20: =IF(CK20="","",IF(C20="","",IF(CK20<4,"Kém",IF(CK20<5,"Yếu",IF(CK20<6,"TB",IF(CK20<7,"TBKhá",IF(CK20<8,"Khá",IF(CK20<9,"Giỏi","XS")))))))) | CO20: =IF(AND(CJ20>=7,CL20>=70,ISBLANK(CP20)=TRUE,CQ20=0,DH20=0,COUNT(CR20:DG20)>0,COUNT(DI20:DX20)>0),"Xét KT&HB","") | CQ20: =COUNTIF(CR20:DG20,"<5") -> 0 | CR20: =I20 -> 5.4 | CS20: =N20 -> 8.3 | CT20: =S20 -> 6.8 | CU20: =X20 -> 7.5 | CV20: =AC20 -> 8 | CW20: =AH20 | CX20: =AM20 | CY20: =AR20 | CZ20: =AW20 | DA20: =BC20 | DB20: =BG20 -> 10 | DC20: =BL20 -> 9 | DD20: =BQ20 -> 8 | DE20: =BV20 | DF20: =CA20 | DG20: =CF20 | DH20: =IF(COUNT(DI20:DX20)=0,"",COUNTIF(DI20:DX20,"<5")) -> 0 | DI20: =J20 -> 5.6 | DJ20: =O20 -> 9 | DK20: =T20 -> 7 | DL20: =Y20 -> 8 | DM20: =AD20 -> 8.8 | DN20: =AI20 | DO20: =AN20 | DP20: =AS20 | DQ20: =AX20 | DR20: =BC20 | DS20: =BH20 -> 9.6 | DT20: =BM20 -> 9 | DU20: =BR20 -> 8 | DV20: =BW20 | DW20: =CB20 | DX20: =CG20 | DY20: =IF(COUNT(DI20:DX20)=0,"",ROUND(SUMPRODUCT(DI20:DX20,$DI$7:$DX$7)/SUM($DI$7:$DX$7),1)) -> 8.2 | DZ20: =L20 | EA20: =Q20 | EB20: =V20 | EC20: =AA20 | ED20: =AF20 | EE20: =AK20 | EF20: =AP20 | EG20: =AU20 | EH20: =AZ20 | EI20: =IF(BE20="","",BE20) | EJ20: =BJ20 | EK20: =BO20 | EL20: =BT20 | EM20: =BY20 | EN20: =CD20 | EO20: =CI20 | EP20: =IF(AND(I20="",ISNUMBER(J20),K20=""),J20,IF(I20>=K20,J20,L20)) -> 5.6 | EQ20: =IF(AND(N20="",ISNUMBER(O20),P20=""),O20,IF(N20>=P20,O20,Q20)) -> 9 | ER20: =IF(AND(S20="",ISNUMBER(T20),U20=""),T20,IF(S20>=U20,T20,V20)) -> 7 | ES20: =IF(AND(X20="",ISNUMBER(Y20),Z20=""),Y20,IF(X20>=Z20,Y20,AA20)) -> 8 | ET20: =IF(AND(AC20="",ISNUMBER(AD20),AE20=""),AD20,IF(AC20>=AE20,AD20,AF20)) -> 8.8 | EU20: =IF(AND(AH20="",ISNUMBER(AI20),AJ20=""),AI20,IF(AH20>=AJ20,AI20,AK20)) | EV20: =IF(AND(AM20="",ISNUMBER(AN20),AO20=""),AN20,IF(AM20>=AO20,AN20,AP20)) | EW20: =IF(AND(AR20="",ISNUMBER(AS20),AT20=""),AS20,IF(AR20>=AT20,AS20,AU20)) | EX20: =IF(AND(AW20="",ISNUMBER(AX20),AY20=""),AX20,IF(AW20>=AY20,AX20,AZ20)) | EY20: =IF(BE20="","",BE20) | EZ20: =IF(AND(BG20="",ISNUMBER(BH20),BI20=""),BH20,IF(BG20>=BI20,BH20,BJ20)) -> 9.6 | FA20: =IF(AND(BL20="",ISNUMBER(BM20),BN20=""),BM20,IF(BL20>=BN20,BM20,BO20)) -> 9 | FB20: =IF(AND(BQ20="",ISNUMBER(BR20),BS20=""),BR20,IF(BQ20>=BS20,BR20,BT20)) -> 8 | FC20: =IF(AND(BV20="",ISNUMBER(BW20),BX20=""),BW20,IF(BV20>=BX20,BW20,BY20)) | FD20: =IF(AND(CA20="",ISNUMBER(CB20),CC20=""),CB20,IF(CA20>=CC20,CB20,CD20)) | FE20: =IF(AND(CF20="",ISNUMBER(CG20),CH20=""),CG20,IF(CF20>=CH20,CG20,CI20)) | FF20: =IF(COUNT(DZ20:EO20)=0,"",ROUND(SUMPRODUCT(EP20:FE20,$EP$7:$FE$7)/SUM($EP$7:$FE$7),1))
A21: =IF(B21="","",IF(SUBTOTAL(3,$B$12:B21)=SUBTOTAL(3,$B$12:B20),"",SUBTOTAL(3,$B$12:B21))) -> 10 | B21: 13B3080026 | C21: =IF($B21="","",IF(ISNA(VLOOKUP($B21,'DS LOP HKI'!$B$2:$D$1060,2,FALSE))=TRUE,"",VLOOKUP($B21,'DS LOP HKI'!$B$2:$D$1060,2,FALSE))) -> Nguyễn Cảnh | D21: =IF($B21="","",IF(ISNA(VLOOKUP($B21,'DS LOP HKI'!$B$2:$D$1060,3,FALSE))=TRUE,"",VLOOKUP($B21,'DS LOP HKI'!$B$2:$D$1060,3,FALSE))) -> Hưng | E21: A | H21: =IF(OR($H$6="",$H$7=""),"",IF($B21="","",IF(ISNA(VLOOKUP($B21,'LT01'!$B$12:$N$51,11,FALSE)),"",IF(VLOOKUP($B21,'LT01'!$B$12:$N$51,11,FALSE)="","",VLOOKUP($B21,'LT01'!$B$12:$N$51,11,FALSE))))) -> 5.5 | I21: =IF(OR($H$6="",$H$7=""),"",IF($B21="","",IF(ISNA(VLOOKUP($B21,'LT01'!$B$12:$N$51,12,FALSE)),"",IF(VLOOKUP($B21,'LT01'!$B$12:$N$51,12,FALSE)="","",VLOOKUP($B21,'LT01'!$B$12:$N$51,12,FALSE))))) -> 6.4 | J21: =IF(OR($H$6="",$H$7=""),"",IF($B21="","",IF(ISNA(VLOOKUP($B21,'LT01'!$B$12:$N$51,13,FALSE)),"",IF(VLOOKUP($B21,'LT01'!$B$12:$N$51,13,FALSE)="","",VLOOKUP($B21,'LT01'!$B$12:$N$51,13,FALSE))))) -> 6 | L21: =IF($H$7=0,"",IF(J21="","",IF(K21="","",IF(K21>I21,ROUND((H21*0.4+K21*0.6),1),I21)))) | M21: =IF(OR($M$6="",$M$7=""),"",IF($B21="","",IF(ISNA(VLOOKUP($B21,'LT02'!$B$12:$N$51,11,FALSE)),"",IF(VLOOKUP($B21,'LT02'!$B$12:$N$51,11,FALSE)="","",VLOOKUP($B21,'LT02'!$B$12:$N$51,11,FALSE))))) -> 6 | N21: =IF(OR($H$6="",$H$7=""),"",IF($B21="","",IF(ISNA(VLOOKUP($B21,'LT02'!$B$12:$N$51,12,FALSE)),"",IF(VLOOKUP($B21,'LT02'!$B$12:$N$51,12,FALSE)="","",VLOOKUP($B21,'LT02'!$B$12:$N$51,12,FALSE))))) -> 3.8 | O21: =IF(OR($M$6="",$M$7=""),"",IF($B21="","",IF(ISNA(VLOOKUP($B21,'LT02'!$B$12:$N$51,13,FALSE)),"",IF(VLOOKUP($B21,'LT02'!$B$12:$N$51,13,FALSE)="","",VLOOKUP($B21,'LT02'!$B$12:$N$51,13,FALSE))))) -> 4.7 | Q21: =IF($M$7=0,"",IF(O21="","",IF(P21="","",IF(N21>P21,O21,ROUND((M21*0.4+P21*0.6),1))))) | R21: =IF(OR($R$6="",$R$7=""),"",IF($B21="","",IF(ISNA(VLOOKUP($B21,'LT03'!$B$12:$N$51,11,FALSE)),"",IF(VLOOKUP($B21,'LT03'!$B$12:$N$51,11,FALSE)="","",VLOOKUP($B21,'LT03'!$B$12:$N$51,11,FALSE))))) -> 6 | S21: =IF(OR($H$6="",$H$7=""),"",IF($B21="","",IF(ISNA(VLOOKUP($B21,'LT03'!$B$12:$N$51,12,FALSE)),"",IF(VLOOKUP($B21,'LT03'!$B$12:$N$51,12,FALSE)="","",VLOOKUP($B21,'LT03'!$B$12:$N$51,12,FALSE))))) -> 6.6 | T21: =IF(OR($R$6="",$R$7=""),"",IF($B21="","",IF(ISNA(VLOOKUP($B21,'LT03'!$B$12:$N$51,13,FALSE)),"",IF(VLOOKUP($B21,'LT03'!$B$12:$N$51,13,FALSE)="","",VLOOKUP($B21,'LT03'!$B$12:$N$51,13,FALSE))))) -> 6.4 | V21: =IF($R$7=0,"",IF(T21="","",IF(U21="","",IF(S21>U21,T21,ROUND((R21*0.4+U21*0.6),1))))) | W21: =IF(OR($W$6="",$W$7=""),"",IF($B21="","",IF(ISNA(VLOOKUP($B21,'LT04'!$B$12:$N$51,11,FALSE)),"",IF(VLOOKUP($B21,'LT04'!$B$12:$N$51,11,FALSE)="","",VLOOKUP($B21,'LT04'!$B$12:$N$51,11,FALSE))))) -> 5.4 | X21: =IF(OR($H$6="",$H$7=""),"",IF($B21="","",IF(ISNA(VLOOKUP($B21,'LT04'!$B$12:$N$51,12,FALSE)),"",IF(VLOOKUP($B21,'LT04'!$B$12:$N$51,12,FALSE)="","",VLOOKUP($B21,'LT04'!$B$12:$N$51,12,FALSE))))) -> 5 | Y21: =IF(OR($W$6="",$W$7=""),"",IF($B21="","",IF(ISNA(VLOOKUP($B21,'LT04'!$B$12:$N$51,13,FALSE)),"",IF(VLOOKUP($B21,'LT04'!$B$12:$N$51,13,FALSE)="","",VLOOKUP($B21,'LT04'!$B$12:$N$51,13,FALSE))))) -> 5.2 | AA21: =IF($W$7=0,"",IF(Y21="","",IF(Z21="","",IF(X21>Z21,Y21,ROUND((W21*0.4+Z21*0.6),1))))) | AB21: =IF(OR($AB$6="",$AB$7=""),"",IF($B21="","",IF(ISNA(VLOOKUP($B21,'LT05'!$B$12:$N$51,11,FALSE)),"",IF(VLOOKUP($B21,'LT05'!$B$12:$N$51,11,FALSE)="","",VLOOKUP($B21,'LT05'!$B$12:$N$51,11,FALSE))))) -> 5.7 | AC21: =IF(OR($H$6="",$H$7=""),"",IF($B21="","",IF(ISNA(VLOOKUP($B21,'LT05'!$B$12:$N$51,12,FALSE)),"",IF(VLOOKUP($B21,'LT05'!$B$12:$N$51,12,FALSE)="","",VLOOKUP($B21,'LT05'!$B$12:$N$51,12,FALSE))))) -> 7 | AD21: =IF(OR($AB$6="",$AB$7=""),"",IF($B21="","",IF(ISNA(VLOOKUP($B21,'LT05'!$B$12:$N$51,13,FALSE)),"",IF(VLOOKUP($B21,'LT05'!$B$12:$N$51,13,FALSE)="","",VLOOKUP($B21,'LT05'!$B$12:$N$51,13,FALSE))))) -> 6.5 | AF21: =IF($AB$7=0,"",IF(AD21="","",IF(AE21="","",IF(AC21>AE21,AD21,ROUND((AB21*0.4+AE21*0.6),1))))) | AG21: =IF(OR($AG$6="",$AG$7=""),"",IF($B21="","",IF(ISNA(VLOOKUP($B21,'LT06'!$B$12:$N$51,11,FALSE)),"",IF(VLOOKUP($B21,'LT06'!$B$12:$N$51,11,FALSE)="","",VLOOKUP($B21,'LT06'!$B$12:$N$51,11,FALSE))))) | AH21: =IF(OR($H$6="",$H$7=""),"",IF($B21="","",IF(ISNA(VLOOKUP($B21,'LT06'!$B$12:$N$51,12,FALSE)),"",IF(VLOOKUP($B21,'LT06'!$B$12:$N$51,12,FALSE)="","",VLOOKUP($B21,'LT06'!$B$12:$N$51,12,FALSE))))) | AI21: =IF(OR($AG$6="",$AG$7=""),"",IF($B21="","",IF(ISNA(VLOOKUP($B21,'LT06'!$B$12:$N$51,13,FALSE)),"",IF(VLOOKUP($B21,'LT06'!$B$12:$N$51,13,FALSE)="","",VLOOKUP($B21,'LT06'!$B$12:$N$51,13,FALSE))))) | AK21: =IF($AG$7=0,"",IF(AI21="","",IF(AJ21="","",IF(AH21>AJ21,AI21,ROUND((AG21*0.4+AJ21*0.6),1))))) | AL21: =IF(OR($AL$6="",$AL$7=""),"",IF($B21="","",IF(ISNA(VLOOKUP($B21,'LT07'!$B$12:$N$51,11,FALSE)),"",IF(VLOOKUP($B21,'LT07'!$B$12:$N$51,11,FALSE)="","",VLOOKUP($B21,'LT07'!$B$12:$N$51,11,FALSE))))) | AM21: =IF(OR($H$6="",$H$7=""),"",IF($B21="","",IF(ISNA(VLOOKUP($B21,'LT07'!$B$12:$N$51,12,FALSE)),"",IF(VLOOKUP($B21,'LT07'!$B$12:$N$51,12,FALSE)="","",VLOOKUP($B21,'LT07'!$B$12:$N$51,12,FALSE))))) | AN21: =IF(OR($AL$6="",$AL$7=""),"",IF($B21="","",IF(ISNA(VLOOKUP($B21,'LT07'!$B$12:$N$51,13,FALSE)),"",IF(VLOOKUP($B21,'LT07'!$B$12:$N$51,13,FALSE)="","",VLOOKUP($B21,'LT07'!$B$12:$N$51,13,FALSE))))) | AP21: =IF($AL$7=0,"",IF(AN21="","",IF(AO21="","",IF(AM21>AO21,AN21,ROUND((AL21*0.4+AO21*0.6),1))))) | AQ21: =IF(OR($AQ$6="",$AQ$7=""),"",IF($B21="","",IF(ISNA(VLOOKUP($B21,'LT08'!$B$12:$N$51,11,FALSE)),"",IF(VLOOKUP($B21,'LT08'!$B$12:$N$51,11,FALSE)="","",VLOOKUP($B21,'LT08'!$B$12:$N$51,11,FALSE))))) | AR21: =IF(OR($H$6="",$H$7=""),"",IF($B21="","",IF(ISNA(VLOOKUP($B21,'LT08'!$B$12:$N$51,12,FALSE)),"",IF(VLOOKUP($B21,'LT08'!$B$12:$N$51,12,FALSE)="","",VLOOKUP($B21,'LT08'!$B$12:$N$51,12,FALSE))))) | AS21: =IF(OR($AQ$6="",$AQ$7=""),"",IF($B21="","",IF(ISNA(VLOOKUP($B21,'LT08'!$B$12:$N$51,13,FALSE)),"",IF(VLOOKUP($B21,'LT08'!$B$12:$N$51,13,FALSE)="","",VLOOKUP($B21,'LT08'!$B$12:$N$51,13,FALSE))))) | AU21: =IF($AQ$7=0,"",IF(AS21="","",IF(AT21="","",IF(AR21>AT21,AS21,ROUND((AQ21*0.4+AT21*0.6),1))))) | AV21: =IF(OR($AV$6="",$AV$7=""),"",IF($B21="","",IF(ISNA(VLOOKUP($B21,'LT09'!$B$12:$N$51,11,FALSE)),"",IF(VLOOKUP($B21,'LT09'!$B$12:$N$51,11,FALSE)="","",VLOOKUP($B21,'LT09'!$B$12:$N$51,11,FALSE))))) | AW21: =IF(OR($H$6="",$H$7=""),"",IF($B21="","",IF(ISNA(VLOOKUP($B21,'LT09'!$B$12:$N$51,12,FALSE)),"",IF(VLOOKUP($B21,'LT09'!$B$12:$N$51,12,FALSE)="","",VLOOKUP($B21,'LT09'!$B$12:$N$51,12,FALSE))))) | AX21: =IF(OR($AV$6="",$AV$7=""),"",IF($B21="","",IF(ISNA(VLOOKUP($B21,'LT09'!$B$12:$N$51,13,FALSE)),"",IF(VLOOKUP($B21,'LT09'!$B$12:$N$51,13,FALSE)="","",VLOOKUP($B21,'LT09'!$B$12:$N$51,13,FALSE))))) | AZ21: =IF($AV$7=0,"",IF(AX21="","",IF(AY21="","",IF(AW21>AY21,AX21,ROUND((AV21*0.4+AY21*0.6),1))))) | BC21: =IF(OR($BF$6="",$BF$7=""),"",IF($B21="","",IF(ISNA(VLOOKUP($B21,'DO AN'!$B$12:$N$51,11,FALSE)),"",IF(VLOOKUP($B21,'DO AN'!$B$12:$N$51,11,FALSE)="","",VLOOKUP($B21,'DO AN'!$B$12:$N$51,11,FALSE))))) | BF21: =IF(OR($BF$6="",$BF$7=""),"",IF($B21="","",IF(ISNA(VLOOKUP($B21,'TH01'!$B$12:$N$51,11,FALSE)),"",IF(VLOOKUP($B21,'TH01'!$B$12:$N$51,11,FALSE)="","",VLOOKUP($B21,'TH01'!$B$12:$N$51,11,FALSE))))) -> 4 | BG21: =IF(OR($H$6="",$H$7=""),"",IF($B21="","",IF(ISNA(VLOOKUP($B21,'TH01'!$B$12:$N$51,12,FALSE)),"",IF(VLOOKUP($B21,'TH01'!$B$12:$N$51,12,FALSE)="","",VLOOKUP($B21,'TH01'!$B$12:$N$51,12,FALSE))))) -> 9 | BH21: =IF(OR($BF$6="",$BF$7=""),"",IF($B21="","",IF(ISNA(VLOOKUP($B21,'TH01'!$B$12:$N$51,13,FALSE)),"",IF(VLOOKUP($B21,'TH01'!$B$12:$N$51,13,FALSE)="","",VLOOKUP($B21,'TH01'!$B$12:$N$51,13,FALSE))))) -> 7 | BJ21: =IF($BF$7=0,"",IF(BH21="","",IF(BI21="","",IF(BG21>BI21,BH21,ROUND((BF21*0.4+BI21*0.6),1))))) | BK21: =IF(OR($BK$6="",$BK$7=""),"",IF($B21="","",IF(ISNA(VLOOKUP($B21,'TH02'!$B$12:$N$51,11,FALSE)),"",IF(VLOOKUP($B21,'TH02'!$B$12:$N$51,11,FALSE)="","",VLOOKUP($B21,'TH02'!$B$12:$N$51,11,FALSE))))) -> 6.2 | BL21: =IF(OR($H$6="",$H$7=""),"",IF($B21="","",IF(ISNA(VLOOKUP($B21,'TH02'!$B$12:$N$51,12,FALSE)),"",IF(VLOOKUP($B21,'TH02'!$B$12:$N$51,12,FALSE)="","",VLOOKUP($B21,'TH02'!$B$12:$N$51,12,FALSE))))) -> 7 | BM21: =IF(OR($BK$6="",$BK$7=""),"",IF($B21="","",IF(ISNA(VLOOKUP($B21,'TH02'!$B$12:$N$51,13,FALSE)),"",IF(VLOOKUP($B21,'TH02'!$B$12:$N$51,13,FALSE)="","",VLOOKUP($B21,'TH02'!$B$12:$N$51,13,FALSE))))) -> 6.7 | BO21: =IF($BK$7=0,"",IF(BM21="","",IF(BN21="","",IF(BL21>BN21,BM21,ROUND((BK21*0.4+BN21*0.6),1))))) | BP21: =IF(OR($BP$6="",$BP$7=""),"",IF($B21="","",IF(ISNA(VLOOKUP($B21,'TH03'!$B$12:$N$51,11,FALSE)),"",IF(VLOOKUP($B21,'TH03'!$B$12:$N$51,11,FALSE)="","",VLOOKUP($B21,'TH03'!$B$12:$N$51,11,FALSE))))) -> 6.9 | BQ21: =IF(OR($H$6="",$H$7=""),"",IF($B21="","",IF(ISNA(VLOOKUP($B21,'TH03'!$B$12:$N$51,12,FALSE)),"",IF(VLOOKUP($B21,'TH03'!$B$12:$N$51,12,FALSE)="","",VLOOKUP($B21,'TH03'!$B$12:$N$51,12,FALSE))))) -> 6 | BR21: =IF(OR($BP$6="",$BP$7=""),"",IF($B21="","",IF(ISNA(VLOOKUP($B21,'TH03'!$B$12:$N$51,13,FALSE)),"",IF(VLOOKUP($B21,'TH03'!$B$12:$N$51,13,FALSE)="","",VLOOKUP($B21,'TH03'!$B$12:$N$51,13,FALSE))))) -> 6.4 | BT21: =IF($BP$7=0,"",IF(BR21="","",IF(BS21="","",IF(BQ21>BS21,BR21,ROUND((BP21*0.4+BS21*0.6),1))))) | BU21: =IF(OR($BU$6="",$BU$7=""),"",IF($B21="","",IF(ISNA(VLOOKUP($B21,'TH04'!$B$12:$N$51,11,FALSE)),"",IF(VLOOKUP($B21,'TH04'!$B$12:$N$51,11,FALSE)="","",VLOOKUP($B21,'TH04'!$B$12:$N$51,11,FALSE))))) | BV21: =IF(OR($H$6="",$H$7=""),"",IF($B21="","",IF(ISNA(VLOOKUP($B21,'TH04'!$B$12:$N$51,12,FALSE)),"",IF(VLOOKUP($B21,'TH04'!$B$12:$N$51,12,FALSE)="","",VLOOKUP($B21,'TH04'!$B$12:$N$51,12,FALSE))))) | BW21: =IF(OR($BU$6="",$BU$7=""),"",IF($B21="","",IF(ISNA(VLOOKUP($B21,'TH04'!$B$12:$N$51,13,FALSE)),"",IF(VLOOKUP($B21,'TH04'!$B$12:$N$51,13,FALSE)="","",VLOOKUP($B21,'TH04'!$B$12:$N$51,13,FALSE))))) | BY21: =IF($BU$7=0,"",IF(BW21="","",IF(BX21="","",IF(BV21>BX21,BW21,ROUND((BU21*0.4+BX21*0.6),1))))) | BZ21: =IF(OR($BZ$6="",$BZ$7=""),"",IF($B21="","",IF(ISNA(VLOOKUP($B21,'TH05'!$B$12:$N$51,11,FALSE)),"",IF(VLOOKUP($B21,'TH05'!$B$12:$N$51,11,FALSE)="","",VLOOKUP($B21,'TH05'!$B$12:$N$51,11,FALSE))))) | CA21: =IF(OR($H$6="",$H$7=""),"",IF($B21="","",IF(ISNA(VLOOKUP($B21,'TH05'!$B$12:$N$51,12,FALSE)),"",IF(VLOOKUP($B21,'TH05'!$B$12:$N$51,12,FALSE)="","",VLOOKUP($B21,'TH05'!$B$12:$N$51,12,FALSE))))) | CB21: =IF(OR($BZ$6="",$BZ$7=""),"",IF($B21="","",IF(ISNA(VLOOKUP($B21,'TH05'!$B$12:$N$51,13,FALSE)),"",IF(VLOOKUP($B21,'TH05'!$B$12:$N$51,13,FALSE)="","",VLOOKUP($B21,'TH05'!$B$12:$N$51,13,FALSE))))) | CD21: =IF($BZ$7=0,"",IF(CB21="","",IF(CC21="","",IF(CA21>CC21,CB21,ROUND((BZ21*0.4+CC21*0.6),1))))) | CE21: =IF(OR($CE$6="",$CE$7=""),"",IF($B21="","",IF(ISNA(VLOOKUP($B21,'TH06'!$B$12:$N$51,11,FALSE)),"",IF(VLOOKUP($B21,'TH06'!$B$12:$N$51,11,FALSE)="","",VLOOKUP($B21,'TH06'!$B$12:$N$51,11,FALSE))))) | CF21: =IF(OR($H$6="",$H$7=""),"",IF($B21="","",IF(ISNA(VLOOKUP($B21,'TH06'!$B$12:$N$51,12,FALSE)),"",IF(VLOOKUP($B21,'TH06'!$B$12:$N$51,12,FALSE)="","",VLOOKUP($B21,'TH06'!$B$12:$N$51,12,FALSE))))) | CG21: =IF(OR($CE$6="",$CE$7=""),"",IF($B21="","",IF(ISNA(VLOOKUP($B21,'TH06'!$B$12:$N$51,13,FALSE)),"",IF(VLOOKUP($B21,'TH06'!$B$12:$N$51,13,FALSE)="","",VLOOKUP($B21,'TH06'!$B$12:$N$51,13,FALSE))))) | CI21: =IF($CE$7=0,"",IF(CG21="","",IF(CH21="","",IF(CF21>CH21,CG21,ROUND((CE21*0.4+CH21*0.6),1))))) | CJ21: =DY21 -> 6.2 | CK21: =FF21 | CM21: =IF(CJ21="","",IF(C21="","",IF(CJ21<4,"Kém",IF(CJ21<5,"Yếu",IF(CJ21<6,"TB",IF(CJ21<7,"TBKhá",IF(CJ21<8,"Khá",IF(CJ21<9,"Giỏi","XS")))))))) -> TBKhá | CN21: =IF(CK21="","",IF(C21="","",IF(CK21<4,"Kém",IF(CK21<5,"Yếu",IF(CK21<6,"TB",IF(CK21<7,"TBKhá",IF(CK21<8,"Khá",IF(CK21<9,"Giỏi","XS")))))))) | CO21: =IF(AND(CJ21>=7,CL21>=70,ISBLANK(CP21)=TRUE,CQ21=0,DH21=0,COUNT(CR21:DG21)>0,COUNT(DI21:DX21)>0),"Xét KT&HB","") | CQ21: =COUNTIF(CR21:DG21,"<5") -> 1 | CR21: =I21 -> 6.4 | CS21: =N21 -> 3.8 | CT21: =S21 -> 6.6 | CU21: =X21 -> 5 | CV21: =AC21 -> 7 | CW21: =AH21 | CX21: =AM21 | CY21: =AR21 | CZ21: =AW21 | DA21: =BC21 | DB21: =BG21 -> 9 | DC21: =BL21 -> 7 | DD21: =BQ21 -> 6 | DE21: =BV21 | DF21: =CA21 | DG21: =CF21 | DH21: =IF(COUNT(DI21:DX21)=0,"",COUNTIF(DI21:DX21,"<5")) -> 1 | DI21: =J21 -> 6 | DJ21: =O21 -> 4.7 | DK21: =T21 -> 6.4 | DL21: =Y21 -> 5.2 | DM21: =AD21 -> 6.5 | DN21: =AI21 | DO21: =AN21 | DP21: =AS21 | DQ21: =AX21 | DR21: =BC21 | DS21: =BH21 -> 7 | DT21: =BM21 -> 6.7 | DU21: =BR21 -> 6.4 | DV21: =BW21 | DW21: =CB21 | DX21: =CG21 | DY21: =IF(COUNT(DI21:DX21)=0,"",ROUND(SUMPRODUCT(DI21:DX21,$DI$7:$DX$7)/SUM($DI$7:$DX$7),1)) -> 6.2 | DZ21: =L21 | EA21: =Q21 | EB21: =V21 | EC21: =AA21 | ED21: =AF21 | EE21: =AK21 | EF21: =AP21 | EG21: =AU21 | EH21: =AZ21 | EI21: =IF(BE21="","",BE21) | EJ21: =BJ21 | EK21: =BO21 | EL21: =BT21 | EM21: =BY21 | EN21: =CD21 | EO21: =CI21 | EP21: =IF(AND(I21="",ISNUMBER(J21),K21=""),J21,IF(I21>=K21,J21,L21)) -> 6 | EQ21: =IF(AND(N21="",ISNUMBER(O21),P21=""),O21,IF(N21>=P21,O21,Q21)) -> 4.7 | ER21: =IF(AND(S21="",ISNUMBER(T21),U21=""),T21,IF(S21>=U21,T21,V21)) -> 6.4 | ES21: =IF(AND(X21="",ISNUMBER(Y21),Z21=""),Y21,IF(X21>=Z21,Y21,AA21)) -> 5.2 | ET21: =IF(AND(AC21="",ISNUMBER(AD21),AE21=""),AD21,IF(AC21>=AE21,AD21,AF21)) -> 6.5 | EU21: =IF(AND(AH21="",ISNUMBER(AI21),AJ21=""),AI21,IF(AH21>=AJ21,AI21,AK21)) | EV21: =IF(AND(AM21="",ISNUMBER(AN21),AO21=""),AN21,IF(AM21>=AO21,AN21,AP21)) | EW21: =IF(AND(AR21="",ISNUMBER(AS21),AT21=""),AS21,IF(AR21>=AT21,AS21,AU21)) | EX21: =IF(AND(AW21="",ISNUMBER(AX21),AY21=""),AX21,IF(AW21>=AY21,AX21,AZ21)) | EY21: =IF(BE21="","",BE21) | EZ21: =IF(AND(BG21="",ISNUMBER(BH21),BI21=""),BH21,IF(BG21>=BI21,BH21,BJ21)) -> 7 | FA21: =IF(AND(BL21="",ISNUMBER(BM21),BN21=""),BM21,IF(BL21>=BN21,BM21,BO21)) -> 6.7 | FB21: =IF(AND(BQ21="",ISNUMBER(BR21),BS21=""),BR21,IF(BQ21>=BS21,BR21,BT21)) -> 6.4 | FC21: =IF(AND(BV21="",ISNUMBER(BW21),BX21=""),BW21,IF(BV21>=BX21,BW21,BY21)) | FD21: =IF(AND(CA21="",ISNUMBER(CB21),CC21=""),CB21,IF(CA21>=CC21,CB21,CD21)) | FE21: =IF(AND(CF21="",ISNUMBER(CG21),CH21=""),CG21,IF(CF21>=CH21,CG21,CI21)) | FF21: =IF(COUNT(DZ21:EO21)=0,"",ROUND(SUMPRODUCT(EP21:FE21,$EP$7:$FE$7)/SUM($EP$7:$FE$7),1))
